Workbook

Sheet Information Membre
B1: Mon dossier personnel SPTP
B3: Numéro de matricule (7 chiffres)
B6: Informations nominatives
B8: Nom: | C8: =IF(C3<>"",VLOOKUP(C3,'SPTP(P10)'!A:L,3,0),"")
B9: Prénom: | C9: =IF(C3<>"",VLOOKUP(C3,'SPTP(P10)'!A:L,4,0),"")
B10: Adresse courriel: | C10: =IF(C3<>"",VLOOKUP(C3,'SPTP(P10)'!A:L,12,0),"")
B13: Informations relatives à l'emploi
B15: Fonction: | C15: =IF(C3<>"",VLOOKUP(C3,'SPTP(P10)'!A:L,7,0),"")
B16: Statut: | C16: =IF(C3<>"",VLOOKUP(C3,'SPTP(P10)'!A:L,5,0),"")
B17: Numéro de service: | C17: =IF(C3<>"",VLOOKUP(C3,'SPTP(P10)'!A:L,6,0),"")
B18: Date service continu SAQ: | C18: =IF(C3<>"",VLOOKUP(C3,'SPTP(P10)'!A:L,8,0),"")
B21: Informations syndicales
B23: Statut de membre (adhésion): | C23: =IF(C3<>"",VLOOKUP(C3,'SPTP(P10)'!A:L,10,0),"")
B24: Date service continu SPTP: | C24: =IF(C3<>"",VLOOKUP(C3,'SPTP(P10)'!A:L,9,0),"")
B26: Délégué(e): | C26: =IF(C3<>"",VLOOKUP(C3,'SPTP(P10)'!A:L,11,0),"")
B29: Coordonnées du délégué
B31: Poste téléphonique SAQ | C31: =IFERROR(VLOOKUP(C26,'Coordonnées délégué'!A:D,2,0),"")
B32: Courriel SAQ | C32: =IFERROR(VLOOKUP(C26,'Coordonnées délégué'!A:D,3,0),"")
B33: Courriel SPTP | C33: =IFERROR(VLOOKUP(C26,'Coordonnées délégué'!A:D,4,0),"")

Sheet SPTP(P10)
A1: Matricule | B1: Matricule | C1: Nom | D1: Prénom | E1: V-Catégorie | F1: V-Centre coûts | G1: V-Fonction | H1: Service continue SAQ | I1: Service continue SPTP | J1: Adhésion | K1: Délégués | L1: Courriel SAQ
A2: =TEXT(B2,"0000000") -> 1205764 | B2: 1205764 | C2: Abboud | D2: William | E2: Temporaire | F2: 14624 | G2: Technicien informatique classe 1 | H2: 41091 | I2: 0000-00-00 | J2: Adhésion à compléter | K2: Ferland, Marie-Josée | L2: william.abboud@saq.qc.ca
A3: =TEXT(B3,"0000000") -> 0701623 | B3: 701623 | C3: Adam | D3: François | E3: Régulier | F3: 16700 | G3: Analyste | H3: 39222 | I3: 39222 | J3: En règle | K3: Belley, Linda | L3: f.adam@saq.qc.ca
A4: =TEXT(B4,"0000000") -> 2001644 | B4: 2001644 | C4: Aganier | D4: Jean-François | E4: Régulier | F4: 14350 | G4: Analyste | H4: 42281 | I4: 42281 | J4: En règle | K4: Champagne, Chantal | L4: jean-francois.aganier@saq.qc.ca
A5: =TEXT(B5,"0000000") -> 1206648 | B5: 1206648 | C5: Akoun | D5: Alexandre | E5: Régulier | F5: 14350 | G5: Technicien classe principale | H5: 41112 | I5: 41112 | J5: En règle | K5: Champagne, Chantal | L5: alexandre.akoun@saq.qc.ca
A6: =TEXT(B6,"0000000") -> 0506600 | B6: 506600 | C6: Alarie | D6: Marie-Lyne | E6: Régulier | F6: 12316 | G6: Technicien classe 1 | H6: 38613 | I6: 38613 | J6: En règle | K6: Gagnon, Jonathan | L6: ml.alarie@saq.qc.ca
A7: =TEXT(B7,"0000000") -> 2004437 | B7: 2004437 | C7: Alengelenge | D7: Laurie | E7: Temporaire | F7: 17308 | G7: Agent de bureau classe 1 | H7: 43366 | I7: 0000-00-00 | J7: En règle | K7: St-Cyr, Charles | L7: laurie.alengelenge@saq.qc.ca
A8: =TEXT(B8,"0000000") -> 9201864 | B8: 9201864 | C8: Aspirot | D8: Marie-Josée | E8: Régulier | F8: 12210 | G8: Technicien classe 1 | H8: 33805 | I8: 38315 | J8: En règle | K8: Gagnon, Jonathan | L8: mj.aspirot@saq.qc.ca
A9: =TEXT(B9,"0000000") -> 1200161 | B9: 1200161 | C9: Asselin | D9: Jean | E9: Régulier | F9: 14627 | G9: Analyste | H9: 40944 | I9: 43219 | J9: En règle | K9: Vachon, Jonathan | L9: jean.asselin@saq.qc.ca
A10: =TEXT(B10,"0000000") -> 9704487 | B10: 9704487 | C10: Aubin | D10: Gilles | E10: Régulier | F10: 14646 | G10: Technicien informatique classe princ. | H10: 35765 | I10: 35765 | J10: En règle | K10: Nado, Julien | L10: g.aubin@saq.qc.ca
A11: =TEXT(B11,"0000000") -> 0300376 | B11: 300376 | C11: Auclair | D11: Nathalie | E11: Régulier | F11: 14639 | G11: Analyste | H11: 37683 | I11: 37683 | J11: En règle | K11: Nado, Julien | L11: n.auclair@saq.qc.ca
A12: =TEXT(B12,"0000000") -> 1000249 | B12: 1000249 | C12: Audette | D12: Julie | E12: Régulier | F12: 14400 | G12: Technicien en aménagement classe princ. | H12: 40230 | I12: 40230 | J12: En règle | K12: Champagne, Chantal | L12: j.audette@saq.qc.ca
A13: =TEXT(B13,"0000000") -> 1207240 | B13: 1207240 | C13: Auger | D13: Chantal | E13: Régulier | F13: 16700 | G13: Technicien classe 1 | H13: 41175 | I13: 41175 | J13: En règle | K13: Belley, Linda | L13: chantal.auger@saq.qc.ca
A14: =TEXT(B14,"0000000") -> 0404988 | B14: 404988 | C14: Augustin | D14: Frédéric Emmanuel | E14: Régulier | F14: 12314 | G14: Agent d'information | H14: 38187 | I14: 38187 | J14: En règle | K14: Gagnon, Jonathan | L14: f.augustin@saq.qc.ca
A15: =TEXT(B15,"0000000") -> 0200311 | B15: 200311 | C15: Bartolomeu | D15: Maria | E15: Régulier | F15: 14627 | G15: Technicien informatique classe princ. | H15: 37298 | I15: 37298 | J15: En règle | K15: Vachon, Jonathan | L15: m.bartolomeu@saq.qc.ca
A16: =TEXT(B16,"0000000") -> 0100412 | B16: 100412 | C16: Beaubien | D16: Annie | E16: Régulier | F16: 14350 | G16: Technicien classe 1 | H16: 36969 | I16: 36969 | J16: En règle | K16: Champagne, Chantal | L16: a.beaubien@saq.qc.ca
A17: =TEXT(B17,"0000000") -> 0000471 | B17: 0000471 | C17: Beaucage | D17: Robert | E17: Régulier | F17: 14618 | G17: Analyste | H17: 36584 | I17: 36584 | J17: En règle | K17: Nado, Julien | L17: r.beaucage@saq.qc.ca
A18: =TEXT(B18,"0000000") -> 0610006 | B18: 610006 | C18: Beauchamp | D18: Frédéric | E18: Régulier | F18: 14624 | G18: Technicien informatique classe 1 | H18: 39943 | I18: 39943 | J18: En règle | K18: Ferland, Marie-Josée | L18: f.beauchamp@saq.qc.ca
A19: =TEXT(B19,"0000000") -> 1105907 | B19: 1105907 | C19: Beauchemin | D19: Nathalie | E19: Régulier | F19: 14400 | G19: Technicien en aménagement classe princ. | H19: 40770 | I19: 40769 | J19: En règle | K19: Champagne, Chantal | L19: n.beauchemin@saq.qc.ca
A20: =TEXT(B20,"0000000") -> 0616722 | B20: 616722 | C20: Beaudet | D20: Sébastien | E20: Régulier | F20: 12210 | G20: Technicien classe 1 | H20: 39173 | I20: 41098 | J20: En règle | K20: Gagnon, Jonathan | L20: sebastien.beaudet@saq.qc.ca
A21: =TEXT(B21,"0000000") -> 0810176 | B21: 810176 | C21: Beaudoin | D21: Marc | E21: Régulier | F21: 14650 | G21: Analyste | H21: 39736 | I21: 39741 | J21: En règle | K21: Ferland, Marie-Josée | L21: m.beaudoin@saq.qc.ca
A22: =TEXT(B22,"0000000") -> 0402669 | B22: 402669 | C22: Beaudoin | D22: Yannick | E22: Régulier | F22: 14682 | G22: Analyste | H22: 41301 | I22: 41301 | J22: En règle | K22: Nado, Julien | L22: yannick.beaudoin@saq.qc.ca
A23: =TEXT(B23,"0000000") -> 0100313 | B23: 100313 | C23: Beaudreau | D23: Louise | E23: Régulier | F23: 11117 | G23: Analyste | H23: 36913 | I23: 36913 | J23: En règle | K23: Racine, Manon | L23: l.beaudreau@saq.qc.ca
A24: =TEXT(B24,"0000000") -> 0408724 | B24: 408724 | C24: Beaudry | D24: Marie-Josée | E24: Régulier | F24: 16700 | G24: Analyste | H24: 39523 | I24: 39523 | J24: En règle | K24: Belley, Linda | L24: mj.beaudry@saq.qc.ca
A25: =TEXT(B25,"0000000") -> 8802449 | B25: 8802449 | C25: Beaulieu | D25: Marlène | E25: Régulier | F25: 18050 | G25: Secrétaire classe 1 | H25: 32603 | I25: 32645 | J25: En règle | K25: Belley, Linda | L25: m.beaulieu@saq.qc.ca
A26: =TEXT(B26,"0000000") -> 0405878 | B26: 405878 | C26: Beauséjour | D26: Francis | E26: Régulier | F26: 26331 | G26: Technicien classe 1 | H26: 38299 | I26: 38299 | J26: En règle | K26: Drolet, Rémy | L26: f.beausejour@saq.qc.ca
A27: =TEXT(B27,"0000000") -> 9704479 | B27: 9704479 | C27: Bédard | D27: Sylvain | E27: Régulier | F27: 14621 | G27: Analyste | H27: 35765 | I27: 35765 | J27: En règle | K27: Vachon, Jonathan | L27: s.bedard@saq.qc.ca
A28: =TEXT(B28,"0000000") -> 0818146 | B28: 818146 | C28: Bégin | D28: Nicola | E28: Régulier | F28: 16500 | G28: Technicien classe 1 | H28: 39796 | I28: 39796 | J28: En règle | K28: Belley, Linda | L28: n.begin@saq.qc.ca
A29: =TEXT(B29,"0000000") -> 9914490 | B29: 9914490 | C29: Béland | D29: Julie | E29: Régulier | F29: 11110 | G29: Analyste | H29: 36465 | I29: 36465 | J29: En règle | K29: Racine, Manon | L29: julie.beland@saq.qc.ca
... A46: =TEXT(B46,"0000000") -> 9704495 | B46: 9704495 | C46: Bisson | D46: Yannick | E46: Régulier | F46: 14682 | G46: Analyste | H46: 35765 | I46: 35765 | J46: En règle | K46: Nado, Julien | L46: y.bisson@saq.qc.ca
A47: =TEXT(B47,"0000000") -> 0607325 | B47: 607325 | C47: Blackburn | D47: Marilou | E47: Régulier | F47: 17300 | G47: Agent d'information | H47: 43115 | I47: 0000-00-00 | J47: En règle | K47: Maheu, Yanik | L47: marilou.blackburn@saq.qc.ca
A48: =TEXT(B48,"0000000") -> 0307785 | B48: 307785 | C48: Blouin | D48: Johanne | E48: Régulier | F48: 12315 | G48: Agent d'information | H48: 37830 | I48: 37830 | J48: En règle | K48: Gagnon, Jonathan | L48: j.blouin@saq.qc.ca
A49: =TEXT(B49,"0000000") -> 0110288 | B49: 110288 | C49: Blouin | D49: Martine | E49: Régulier | F49: 11310 | G49: Agent d'approvisionnement | H49: 37207 | I49: 37207 | J49: En règle | K49: Noël, Marie Carmel | L49: m.blouin@saq.qc.ca
A50: =TEXT(B50,"0000000") -> 9103631 | B50: 9103631 | C50: Boileau | D50: Patrice | E50: Régulier | F50: 13012 | G50: Analyste | H50: 33368 | I50: 40784 | J50: En règle | K50: Ferland, Marie-Josée | L50: p.boileau@saq.qc.ca
A51: =TEXT(B51,"0000000") -> 0208827 | B51: 208827 | C51: Boily | D51: Geneviève | E51: Régulier | F51: 11115 | G51: Technicien classe principale | H51: 37578 | I51: 37578 | J51: En règle | K51: Racine, Manon | L51: g.boily@saq.qc.ca
A52: =TEXT(B52,"0000000") -> 0101303 | B52: 101303 | C52: Boivin | D52: Alain | E52: Régulier | F52: 14619 | G52: Analyste | H52: 37004 | I52: 37004 | J52: En règle | K52: Guezzane, Noureddine | L52: a.boivin@saq.qc.ca
A53: =TEXT(B53,"0000000") -> 2003531 | B53: 2003531 | C53: Boivin | D53: Frédéric | E53: Temporaire | F53: 17308 | G53: Agent de bureau classe 1 | H53: 43030 | I53: 0000-00-00 | J53: En règle | K53: St-Cyr, Charles | L53: frederic.boivin@saq.qc.ca
A54: =TEXT(B54,"0000000") -> 0108092 | B54: 108092 | C54: Bolduc | D54: Pierre | E54: Régulier | F54: 14627 | G54: Technicien informatique classe princ. | H54: 37095 | I54: 37095 | J54: En règle | K54: Vachon, Jonathan | L54: pierre.bolduc@saq.qc.ca
A55: =TEXT(B55,"0000000") -> 0110304 | B55: 110304 | C55: Bolduc | D55: Serge | E55: Régulier | F55: 14682 | G55: Analyste | H55: 37202 | I55: 37202 | J55: En règle | K55: Nado, Julien | L55: s.bolduc@saq.qc.ca
A56: =TEXT(B56,"0000000") -> 0011106 | B56: 11106 | C56: Bouchard | D56: Linda | E56: Régulier | F56: 17300 | G56: Agent d'information | H56: 36857 | I56: 36857 | J56: En règle | K56: Maheu, Yanik | L56: li.bouchard@saq.qc.ca
...

Sheet Coordonnées délégué
B2: Poste téléphonique | C2: Courriel SAQ | D2: Courriel SPTP
A3: Beaudoin, Marc | B3: 5754 | C3: m.beaudoin@saq.qc.ca | D3: marc.beaudoin@sptp-saq.com
A4: Belley, Linda | B4: 6142 | C4: l.belley@saq.qc.ca | D4: linda.belley@sptp-saq.com
A5: Champagne, Chantal | B5: 5072 | C5: c.champagne@saq.qc.ca | D5: chantal.champagne@sptp-saq.com
A6: Drolet, Rémy | B6: 6204 | C6: r.drolet@saq.qc.ca | D6: remy.drolet@sptp-saq.com
A7: Ferland, Marie-Josée | B7: 5213 | C7: m.ferland@saq.qc.ca | D7: marie-josee.ferland@sptp-saq.com
A8: Gagnon, Jonathan | B8: 5317 | C8: jonathan.gagnon@saq.qc.ca | D8: jonathan.gagnon@sptp-saq.com
A9: Guezzane, Noureddine | B9: 5033 | C9: no.guezzane@saq.qc.ca | D9: noureddine.guezzane@sptp-saq.com
A10: Maheu, Yanik | B10: 6512 | C10: y.maheu@saq.qc.ca | D10: yanik.maheu@sptp-saq.com
A11: Nado, Julien | B11: 5178 | C11: julien.nado@saq.qc.ca | D11: julien.nado@sptp-saq.com
A12: Noël, Marie Carmel | B12: 6003 | C12: mc.noel@saq.qc.ca | D12: marie-carmel.noël@sptp-saq.com
A13: Racine, Manon | B13: 5714 | C13: m.racine@saq.qc.ca | D13: manon.racine@sptp-saq.com
A14: St-Cyr, Charles | B14: 5297 | C14: c.st-cyr@saq.qc.ca | D14: charles.st-cyr@sptp-saq.com
A15: Vachon, Jonathan | B15: 5027 | C15: j.vachon@saq.qc.ca | D15: jonathan.vachon@sptp-saq.com
