Workbook

Sheet Information Membre
B1: Mon dossier personnel SPTP
B3: Numéro de matricule (7 chiffres)
B6: Informations nominatives
B8: Nom: | C8: =IF(C3<>"",VLOOKUP(C3,'SPTP(P10)'!A:L,3,0),"")
B9: Prénom: | C9: =IF(C3<>"",VLOOKUP(C3,'SPTP(P10)'!A:L,4,0),"")
B10: Adresse courriel: | C10: =IF(C3<>"",VLOOKUP(C3,'SPTP(P10)'!A:L,12,0),"")
B13: Informations relatives à l'emploi
B15: Fonction: | C15: =IF(C3<>"",VLOOKUP(C3,'SPTP(P10)'!A:L,7,0),"")
B16: Statut: | C16: =IF(C3<>"",VLOOKUP(C3,'SPTP(P10)'!A:L,5,0),"")
B17: Numéro de service: | C17: =IF(C3<>"",VLOOKUP(C3,'SPTP(P10)'!A:L,6,0),"")
B18: Date service continu SAQ: | C18: =IF(C3<>"",VLOOKUP(C3,'SPTP(P10)'!A:L,8,0),"")
B21: Informations syndicales
B23: Statut de membre (adhésion): | C23: =IF(C3<>"",VLOOKUP(C3,'SPTP(P10)'!A:L,10,0),"")
B24: Date service continu SPTP: | C24: =IF(C3<>"",VLOOKUP(C3,'SPTP(P10)'!A:L,9,0),"")
B26: Délégué(e): | C26: =IF(C3<>"",VLOOKUP(C3,'SPTP(P10)'!A:L,11,0),"")
B29: Coordonnées du délégué
B31: Poste téléphonique SAQ | C31: =IFERROR(VLOOKUP(C26,'Coordonnées délégué'!A:D,2,0),"")
B32: Courriel SAQ | C32: =IFERROR(VLOOKUP(C26,'Coordonnées délégué'!A:D,3,0),"")
B33: Courriel SPTP | C33: =IFERROR(VLOOKUP(C26,'Coordonnées délégué'!A:D,4,0),"")

Sheet SPTP(P10)
A1: Matricule | B1: Matricule | C1: Nom | D1: Prénom | E1: V-Catégorie | F1: V-Centre coûts | G1: V-Fonction | H1: Service continue SAQ | I1: Service continue SPTP | J1: Adhésion | K1: Délégués | L1: Courriel SAQ
A2: =TEXT(B2,"0000000") -> 1205764 | B2: 1205764 | C2: Abboud | D2: William | E2: Temporaire | F2: 14624 | G2: Technicien informatique classe 1 | H2: 41091 | I2: 0000-00-00 | J2: Adhésion à compléter | K2: Ferland, Marie-Josée | L2: william.abboud@saq.qc.ca
A3: =TEXT(B3,"0000000") -> 0701623 | B3: 701623 | C3: Adam | D3: François | E3: Régulier | F3: 16700 | G3: Analyste | H3: 39222 | I3: 39222 | J3: En règle | K3: Belley, Linda | L3: f.adam@saq.qc.ca
A4: =TEXT(B4,"0000000") -> 2001644 | B4: 2001644 | C4: Aganier | D4: Jean-François | E4: Régulier | F4: 14350 | G4: Analyste | H4: 42281 | I4: 42281 | J4: En règle | K4: Champagne, Chantal | L4: jean-francois.aganier@saq.qc.ca
A5: =TEXT(B5,"0000000") -> 1206648 | B5: 1206648 | C5: Akoun | D5: Alexandre | E5: Régulier | F5: 14350 | G5: Technicien classe principale | H5: 41112 | I5: 41112 | J5: En règle | K5: Champagne, Chantal | L5: alexandre.akoun@saq.qc.ca
A6: =TEXT(B6,"0000000") -> 0506600 | B6: 506600 | C6: Alarie | D6: Marie-Lyne | E6: Régulier | F6: 12316 | G6: Technicien classe 1 | H6: 38613 | I6: 38613 | J6: En règle | K6: Gagnon, Jonathan | L6: ml.alarie@saq.qc.ca
A7: =TEXT(B7,"0000000") -> 2004437 | B7: 2004437 | C7: Alengelenge | D7: Laurie | E7: Temporaire | F7: 17308 | G7: Agent de bureau classe 1 | H7: 43366 | I7: 0000-00-00 | J7: En règle | K7: St-Cyr, Charles | L7: laurie.alengelenge@saq.qc.ca
A8: =TEXT(B8,"0000000") -> 9201864 | B8: 9201864 | C8: Aspirot | D8: Marie-Josée | E8: Régulier | F8: 12210 | G8: Technicien classe 1 | H8: 33805 | I8: 38315 | J8: En règle | K8: Gagnon, Jonathan | L8: mj.aspirot@saq.qc.ca
A9: =TEXT(B9,"0000000") -> 1200161 | B9: 1200161 | C9: Asselin | D9: Jean | E9: Régulier | F9: 14627 | G9: Analyste | H9: 40944 | I9: 43219 | J9: En règle | K9: Vachon, Jonathan | L9: jean.asselin@saq.qc.ca
A10: =TEXT(B10,"0000000") -> 9704487 | B10: 9704487 | C10: Aubin | D10: Gilles | E10: Régulier | F10: 14646 | G10: Technicien informatique classe princ. | H10: 35765 | I10: 35765 | J10: En règle | K10: Nado, Julien | L10: g.aubin@saq.qc.ca
A11: =TEXT(B11,"0000000") -> 0300376 | B11: 300376 | C11: Auclair | D11: Nathalie | E11: Régulier | F11: 14639 | G11: Analyste | H11: 37683 | I11: 37683 | J11: En règle | K11: Nado, Julien | L11: n.auclair@saq.qc.ca
A12: =TEXT(B12,"0000000") -> 1000249 | B12: 1000249 | C12: Audette | D12: Julie | E12: Régulier | F12: 14400 | G12: Technicien en aménagement classe princ. | H12: 40230 | I12: 40230 | J12: En règle | K12: Champagne, Chantal | L12: j.audette@saq.qc.ca
A13: =TEXT(B13,"0000000") -> 1207240 | B13: 1207240 | C13: Auger | D13: Chantal | E13: Régulier | F13: 16700 | G13: Technicien classe 1 | H13: 41175 | I13: 41175 | J13: En règle | K13: Belley, Linda | L13: chantal.auger@saq.qc.ca
A14: =TEXT(B14,"0000000") -> 0404988 | B14: 404988 | C14: Augustin | D14: Frédéric Emmanuel | E14: Régulier | F14: 12314 | G14: Agent d'information | H14: 38187 | I14: 38187 | J14: En règle | K14: Gagnon, Jonathan | L14: f.augustin@saq.qc.ca
A15: =TEXT(B15,"0000000") -> 0200311 | B15: 200311 | C15: Bartolomeu | D15: Maria | E15: Régulier | F15: 14627 | G15: Technicien informatique classe princ. | H15: 37298 | I15: 37298 | J15: En règle | K15: Vachon, Jonathan | L15: m.bartolomeu@saq.qc.ca
A16: =TEXT(B16,"0000000") -> 0100412 | B16: 100412 | C16: Beaubien | D16: Annie | E16: Régulier | F16: 14350 | G16: Technicien classe 1 | H16: 36969 | I16: 36969 | J16: En règle | K16: Champagne, Chantal | L16: a.beaubien@saq.qc.ca
A17: =TEXT(B17,"0000000") -> 0000471 | B17: 0000471 | C17: Beaucage | D17: Robert | E17: Régulier | F17: 14618 | G17: Analyste | H17: 36584 | I17: 36584 | J17: En règle | K17: Nado, Julien | L17: r.beaucage@saq.qc.ca
A18: =TEXT(B18,"0000000") -> 0610006 | B18: 610006 | C18: Beauchamp | D18: Frédéric | E18: Régulier | F18: 14624 | G18: Technicien informatique classe 1 | H18: 39943 | I18: 39943 | J18: En règle | K18: Ferland, Marie-Josée | L18: f.beauchamp@saq.qc.ca
A19: =TEXT(B19,"0000000") -> 1105907 | B19: 1105907 | C19: Beauchemin | D19: Nathalie | E19: Régulier | F19: 14400 | G19: Technicien en aménagement classe princ. | H19: 40770 | I19: 40769 | J19: En règle | K19: Champagne, Chantal | L19: n.beauchemin@saq.qc.ca
A20: =TEXT(B20,"0000000") -> 0616722 | B20: 616722 | C20: Beaudet | D20: Sébastien | E20: Régulier | F20: 12210 | G20: Technicien classe 1 | H20: 39173 | I20: 41098 | J20: En règle | K20: Gagnon, Jonathan | L20: sebastien.beaudet@saq.qc.ca
A21: =TEXT(B21,"0000000") -> 0810176 | B21: 810176 | C21: Beaudoin | D21: Marc | E21: Régulier | F21: 14650 | G21: Analyste | H21: 39736 | I21: 39741 | J21: En règle | K21: Ferland, Marie-Josée | L21: m.beaudoin@saq.qc.ca
A22: =TEXT(B22,"0000000") -> 0402669 | B22: 402669 | C22: Beaudoin | D22: Yannick | E22: Régulier | F22: 14682 | G22: Analyste | H22: 41301 | I22: 41301 | J22: En règle | K22: Nado, Julien | L22: yannick.beaudoin@saq.qc.ca
A23: =TEXT(B23,"0000000") -> 0100313 | B23: 100313 | C23: Beaudreau | D23: Louise | E23: Régulier | F23: 11117 | G23: Analyste | H23: 36913 | I23: 36913 | J23: En règle | K23: Racine, Manon | L23: l.beaudreau@saq.qc.ca
A24: =TEXT(B24,"0000000") -> 0408724 | B24: 408724 | C24: Beaudry | D24: Marie-Josée | E24: Régulier | F24: 16700 | G24: Analyste | H24: 39523 | I24: 39523 | J24: En règle | K24: Belley, Linda | L24: mj.beaudry@saq.qc.ca
A25: =TEXT(B25,"0000000") -> 8802449 | B25: 8802449 | C25: Beaulieu | D25: Marlène | E25: Régulier | F25: 18050 | G25: Secrétaire classe 1 | H25: 32603 | I25: 32645 | J25: En règle | K25: Belley, Linda | L25: m.beaulieu@saq.qc.ca
A26: =TEXT(B26,"0000000") -> 0405878 | B26: 405878 | C26: Beauséjour | D26: Francis | E26: Régulier | F26: 26331 | G26: Technicien classe 1 | H26: 38299 | I26: 38299 | J26: En règle | K26: Drolet, Rémy | L26: f.beausejour@saq.qc.ca
A27: =TEXT(B27,"0000000") -> 9704479 | B27: 9704479 | C27: Bédard | D27: Sylvain | E27: Régulier | F27: 14621 | G27: Analyste | H27: 35765 | I27: 35765 | J27: En règle | K27: Vachon, Jonathan | L27: s.bedard@saq.qc.ca
A28: =TEXT(B28,"0000000") -> 0818146 | B28: 818146 | C28: Bégin | D28: Nicola | E28: Régulier | F28: 16500 | G28: Technicien classe 1 | H28: 39796 | I28: 39796 | J28: En règle | K28: Belley, Linda | L28: n.begin@saq.qc.ca
A29: =TEXT(B29,"0000000") -> 9914490 | B29: 9914490 | C29: Béland | D29: Julie | E29: Régulier | F29: 11110 | G29: Analyste | H29: 36465 | I29: 36465 | J29: En règle | K29: Racine, Manon | L29: julie.beland@saq.qc.ca
... A46: =TEXT(B46,"0000000") -> 9704495 | B46: 9704495 | C46: Bisson | D46: Yannick | E46: Régulier | F46: 14682 | G46: Analyste | H46: 35765 | I46: 35765 | J46: En règle | K46: Nado, Julien | L46: y.bisson@saq.qc.ca
A47: =TEXT(B47,"0000000") -> 0607325 | B47: 607325 | C47: Blackburn | D47: Marilou | E47: Régulier | F47: 17300 | G47: Agent d'information | H47: 43115 | I47: 0000-00-00 | J47: En règle | K47: Maheu, Yanik | L47: marilou.blackburn@saq.qc.ca
A48: =TEXT(B48,"0000000") -> 0307785 | B48: 307785 | C48: Blouin | D48: Johanne | E48: Régulier | F48: 12315 | G48: Agent d'information | H48: 37830 | I48: 37830 | J48: En règle | K48: Gagnon, Jonathan | L48: j.blouin@saq.qc.ca
A49: =TEXT(B49,"0000000") -> 0110288 | B49: 110288 | C49: Blouin | D49: Martine | E49: Régulier | F49: 11310 | G49: Agent d'approvisionnement | H49: 37207 | I49: 37207 | J49: En règle | K49: Noël, Marie Carmel | L49: m.blouin@saq.qc.ca
A50: =TEXT(B50,"0000000") -> 9103631 | B50: 9103631 | C50: Boileau | D50: Patrice | E50: Régulier | F50: 13012 | G50: Analyste | H50: 33368 | I50: 40784 | J50: En règle | K50: Ferland, Marie-Josée | L50: p.boileau@saq.qc.ca
A51: =TEXT(B51,"0000000") -> 0208827 | B51: 208827 | C51: Boily | D51: Geneviève | E51: Régulier | F51: 11115 | G51: Technicien classe principale | H51: 37578 | I51: 37578 | J51: En règle | K51: Racine, Manon | L51: g.boily@saq.qc.ca
A52: =TEXT(B52,"0000000") -> 0101303 | B52: 101303 | C52: Boivin | D52: Alain | E52: Régulier | F52: 14619 | G52: Analyste | H52: 37004 | I52: 37004 | J52: En règle | K52: Guezzane, Noureddine | L52: a.boivin@saq.qc.ca
A53: =TEXT(B53,"0000000") -> 2003531 | B53: 2003531 | C53: Boivin | D53: Frédéric | E53: Temporaire | F53: 17308 | G53: Agent de bureau classe 1 | H53: 43030 | I53: 0000-00-00 | J53: En règle | K53: St-Cyr, Charles | L53: frederic.boivin@saq.qc.ca
A54: =TEXT(B54,"0000000") -> 0108092 | B54: 108092 | C54: Bolduc | D54: Pierre | E54: Régulier | F54: 14627 | G54: Technicien informatique classe princ. | H54: 37095 | I54: 37095 | J54: En règle | K54: Vachon, Jonathan | L54: pierre.bolduc@saq.qc.ca
A55: =TEXT(B55,"0000000") -> 0110304 | B55: 110304 | C55: Bolduc | D55: Serge | E55: Régulier | F55: 14682 | G55: Analyste | H55: 37202 | I55: 37202 | J55: En règle | K55: Nado, Julien | L55: s.bolduc@saq.qc.ca
A56: =TEXT(B56,"0000000") -> 0011106 | B56: 11106 | C56: Bouchard | D56: Linda | E56: Régulier | F56: 17300 | G56: Agent d'information | H56: 36857 | I56: 36857 | J56: En règle | K56: Maheu, Yanik | L56: li.bouchard@saq.qc.ca
A57: =TEXT(B57,"0000000") -> 0504670 | B57: 504670 | C57: Bouchard | D57: Louis-Denis | E57: Régulier | F57: 12314 | G57: Analyste | H57: 38532 | I57: 38735 | J57: En règle | K57: Gagnon, Jonathan | L57: ld.bouchard@saq.qc.ca
A58: =TEXT(B58,"0000000") -> 0609784 | B58: 609784 | C58: Bouchard | D58: Luc | E58: Régulier | F58: 11161 | G58: Analyste | H58: 38942 | I58: 38942 | J58: En règle | K58: Racine, Manon | L58: luc.bouchard@saq.qc.ca
A59: =TEXT(B59,"0000000") -> 2001692 | B59: 2001692 | C59: Boucher | D59: Benoît | E59: Régulier | F59: 11113 | G59: Analyste | H59: 42316 | I59: 42316 | J59: En règle | K59: Racine, Manon | L59: benoit.boucher2@saq.qc.ca
A60: =TEXT(B60,"0000000") -> 9913625 | B60: 9913625 | C60: Boucher | D60: Sabrina | E60: Régulier | F60: 12210 | G60: Analyste | H60: 36441 | I60: 36744 | J60: En règle | K60: Gagnon, Jonathan | L60: s.boucher@saq.qc.ca
A61: =TEXT(B61,"0000000") -> 0408831 | B61: 408831 | C61: Bourassa | D61: Stéphane | E61: Régulier | F61: 14624 | G61: Technicien informatique classe 1 | H61: 38409 | I61: 41854 | J61: Adhésion à compléter | K61: Ferland, Marie-Josée | L61: s.bourassa@saq.qc.ca
A62: =TEXT(B62,"0000000") -> 0612218 | B62: 612218 | C62: Bourdeau | D62: Lydia | E62: Régulier | F62: 12316 | G62: Technicien classe 1 | H62: 39355 | I62: 40552 | J62: En règle | K62: Gagnon, Jonathan | L62: l.bourdeau@saq.qc.ca
A63: =TEXT(B63,"0000000") -> 8802530 | B63: 8802530 | C63: Bourque | D63: Lucie | E63: Régulier | F63: 14682 | G63: Analyste | H63: 32342 | I63: 32342 | J63: En règle | K63: Nado, Julien | L63: l.bourque@saq.qc.ca
A64: =TEXT(B64,"0000000") -> 0101535 | B64: 101535 | C64: Boyer | D64: Yannick | E64: Régulier | F64: 14624 | G64: Technicien informatique classe princ. | H64: 37025 | I64: 37025 | J64: En règle | K64: Ferland, Marie-Josée | L64: y.boyer@saq.qc.ca
A65: =TEXT(B65,"0000000") -> 0000182 | B65: 182 | C65: Brassard | D65: Benoît | E65: Régulier | F65: 14639 | G65: Analyste | H65: 36542 | I65: 36542 | J65: En règle | K65: Nado, Julien | L65: b.brassard@saq.qc.ca
... A80: =TEXT(B80,"0000000") -> 9701624 | B80: 9701624 | C80: Carré | D80: Nancy | E80: Régulier | F80: 14617 | G80: Secrétaire classe 1 | H80: 35612 | I80: 35612 | J80: En règle | K80: Champagne, Chantal | L80: n.carre@saq.qc.ca
A81: =TEXT(B81,"0000000") -> 0505354 | B81: 505354 | C81: Chabot | D81: Annie | E81: Temporaire | F81: 14400 | G81: Technicien en aménagement classe 1 | H81: 43131 | I81: 0000-00-00 | J81: En règle | K81: Champagne, Chantal | L81: annie.chabot@saq.qc.ca
A82: =TEXT(B82,"0000000") -> 0400119 | B82: 400119 | C82: Chacon | D82: Hernando | E82: Régulier | F82: 16500 | G82: Analyste | H82: 38026 | I82: 38026 | J82: En règle | K82: Belley, Linda | L82: h.chacon@saq.qc.ca
A83: =TEXT(B83,"0000000") -> 2000012 | B83: 2000012 | C83: Chahir | D83: Mohamed | E83: Régulier | F83: 14617 | G83: Analyste | H83: 41560 | I83: 41560 | J83: En règle | K83: Champagne, Chantal | L83: mohamed.chahir@saq.qc.ca
A84: =TEXT(B84,"0000000") -> 8601403 | B84: 8601403 | C84: Chaîné | D84: Jean | E84: Régulier | F84: 11117 | G84: Analyste | H84: 31712 | I84: 31712 | J84: En règle | K84: Racine, Manon | L84: j.chaine@saq.qc.ca
A85: =TEXT(B85,"0000000") -> 9913591 | B85: 9913591 | C85: Chamberland | D85: Karine | E85: Régulier | F85: 18010 | G85: Technicien classe principale | H85: 36439 | I85: 36439 | J85: En règle | K85: Belley, Linda | L85: k.chamberland@saq.qc.ca
A86: =TEXT(B86,"0000000") -> 0200295 | B86: 200295 | C86: Champagne | D86: Chantal | E86: Régulier | F86: 14627 | G86: Analyste | H86: 37291 | I86: 37291 | J86: En règle | K86: Vachon, Jonathan | L86: c.champagne@saq.qc.ca
A87: =TEXT(B87,"0000000") -> 0100982 | B87: 100982 | C87: Champagne | D87: Eric | E87: Régulier | F87: 14619 | G87: Analyste | H87: 36990 | I87: 36990 | J87: En règle | K87: Guezzane, Noureddine | L87: e.champagne@saq.qc.ca
A88: =TEXT(B88,"0000000") -> 0900076 | B88: 900076 | C88: Charest | D88: Isabelle | E88: Régulier | F88: 14400 | G88: Technicien en aménagement classe princ. | H88: 39845 | I88: 39845 | J88: En règle | K88: Champagne, Chantal | L88: i.charest@saq.qc.ca
A89: =TEXT(B89,"0000000") -> 1305788 | B89: 1305788 | C89: Charpentier | D89: Sophie | E89: Régulier | F89: 11310 | G89: Agent d'approvisionnement | H89: 41497 | I89: 41500 | J89: En règle | K89: Noël, Marie Carmel | L89: sophie.charpentier@saq.qc.ca
A90: =TEXT(B90,"0000000") -> 2003333 | B90: 2003333 | C90: Charron | D90: Catherine | E90: Régulier | F90: 12215 | G90: Analyste | H90: 43010 | I90: 43010 | J90: En règle | K90: Gagnon, Jonathan | L90: catherine.charron@saq.qc.ca
A91: =TEXT(B91,"0000000") -> 0710350 | B91: 710350 | C91: Charron | D91: Marie-Christine | E91: Régulier | F91: 11311 | G91: Technicien classe 1 | H91: 39376 | I91: 39376 | J91: En règle | K91: Noël, Marie Carmel | L91: mc.charron@saq.qc.ca
A92: =TEXT(B92,"0000000") -> 0614248 | B92: 614248 | C92: Charron | D92: Valérie | E92: Régulier | F92: 11114 | G92: Agent de bureau classe principale | H92: 41126 | I92: 41364 | J92: En règle | K92: Racine, Manon | L92: valerie.charron@saq.qc.ca
A93: =TEXT(B93,"0000000") -> 9917469 | B93: 9917469 | C93: Chartré | D93: Nicolas | E93: Régulier | F93: 13012 | G93: Analyste | H93: 36575 | I93: 39685 | J93: En règle | K93: Ferland, Marie-Josée | L93: n.chartre@saq.qc.ca
... A96: =TEXT(B96,"0000000") -> 0600908 | B96: 600908 | C96: Chérizard | D96: Déborah | E96: Régulier | F96: 14627 | G96: Technicien informatique classe princ. | H96: 38816 | I96: 38816 | J96: En règle | K96: Vachon, Jonathan | L96: d.cherizard@saq.qc.ca
A97: =TEXT(B97,"0000000") -> 1008135 | B97: 1008135 | C97: Chevalier | D97: Eric | E97: Temporaire | F97: 17308 | G97: Agent de bureau classe principale | H97: 42905 | I97: 0000-00-00 | J97: En règle | K97: St-Cyr, Charles | L97: eric.chevalier@saq.qc.ca
A98: =TEXT(B98,"0000000") -> 8802712 | B98: 8802712 | C98: Chrétien | D98: Daniel | E98: Régulier | F98: 14350 | G98: Analyste | H98: 32392 | I98: 32392 | J98: En règle | K98: Champagne, Chantal | L98: d.chretien@saq.qc.ca
A99: =TEXT(B99,"0000000") -> 1203181 | B99: 1203181 | C99: Chrétien | D99: Maxime | E99: Régulier | F99: 14624 | G99: Technicien informatique classe 1 | H99: 41063 | I99: 42876 | J99: Adhésion à compléter | K99: Ferland, Marie-Josée | L99: maxime.chretien@saq.qc.ca
A100: =TEXT(B100,"0000000") -> 9911058 | B100: 9911058 | C100: Clément | D100: Pascale | E100: Régulier | F100: 12510 | G100: Analyste | H100: 36332 | I100: 36332 | J100: En règle | K100: St-Cyr, Charles | L100: p.clement@saq.qc.ca
A101: =TEXT(B101,"0000000") -> 2001394 | B101: 2001394 | C101: Clermont | D101: Stéphanie | E101: Régulier | F101: 12315 | G101: Technicien classe 1 | H101: 42183 | I101: 42183 | J101: En règle | K101: Gagnon, Jonathan | L101: stephanie.clermont@saq.qc.ca
A102: =TEXT(B102,"0000000") -> 0109413 | B102: 109413 | C102: Clouette | D102: Bruno | E102: Régulier | F102: 14627 | G102: Technicien informatique classe princ. | H102: 37167 | I102: 37167 | J102: En règle | K102: Vachon, Jonathan | L102: b.clouette@saq.qc.ca
A103: =TEXT(B103,"0000000") -> 1300961 | B103: 1300961 | C103: Cloutier | D103: Sébastien | E103: Régulier | F103: 10006 | G103: Analyste | H103: 41357 | I103: 41357 | J103: En règle | K103: Champagne, Chantal | L103: sebastien.cloutier@saq.qc.ca
A104: =TEXT(B104,"0000000") -> 0307298 | B104: 307298 | C104: Cordova | D104: Waldo | E104: Régulier | F104: 14647 | G104: Analyste | H104: 37802 | I104: 37802 | J104: En règle | K104: Guezzane, Noureddine | L104: w.cordova@saq.qc.ca
A105: =TEXT(B105,"0000000") -> 0905851 | B105: 905851 | C105: Côté | D105: Éric | E105: Régulier | F105: 14650 | G105: Analyste | H105: 39971 | I105: 39971 | J105: En règle | K105: Ferland, Marie-Josée | L105: e.cote@saq.qc.ca
A106: =TEXT(B106,"0000000") -> 0406389 | B106: 406389 | C106: Courchesne | D106: Sylvain | E106: Régulier | F106: 14646 | G106: Analyste | H106: 38313 | I106: 38313 | J106: En règle | K106: Nado, Julien | L106: s.courchesne@saq.qc.ca
A107: =TEXT(B107,"0000000") -> 0301200 | B107: 301200 | C107: Couture | D107: Annie | E107: Régulier | F107: 15475 | G107: Technicien laboratoire classe 1 | H107: 37956 | I107: 37956 | J107: En règle | K107: Noël, Marie Carmel | L107: a.couture@saq.qc.ca
A108: =TEXT(B108,"0000000") -> 9913971 | B108: 9913971 | C108: Couture | D108: François | E108: Régulier | F108: 12210 | G108: Technicien classe 1 | H108: 36453 | I108: 40132 | J108: En règle | K108: Gagnon, Jonathan | L108: f.couture@saq.qc.ca
A109: =TEXT(B109,"0000000") -> 0004127 | B109: 4127 | C109: Croisetière | D109: Hélène | E109: Régulier | F109: 11117 | G109: Technicien classe principale | H109: 37033 | I109: 37033 | J109: En règle | K109: Racine, Manon | L109: h.croisetiere@saq.qc.ca
... A115: =TEXT(B115,"0000000") -> 1102284 | B115: 1102284 | C115: Daigle | D115: Olivier | E115: Régulier | F115: 14680 | G115: Technicien informatique classe princ. | H115: 40678 | I115: 40678 | J115: En règle | K115: Nado, Julien | L115: o.daigle@saq.qc.ca
A116: =TEXT(B116,"0000000") -> 2004433 | B116: 2004433 | C116: Dallaire | D116: Jeremy | E116: Temporaire | F116: 14400 | G116: Technicien en aménagement classe 1 | H116: 43359 | I116: 0000-00-00 | J116: Adhésion à compléter | K116: Champagne, Chantal | L116: jeremy.dallaire@saq.qc.ca
A117: =TEXT(B117,"0000000") -> 8901407 | B117: 8901407 | C117: Dalpé | D117: Ginette | E117: Régulier | F117: 15475 | G117: Technicien laboratoire classe principale | H117: 32797 | I117: 32797 | J117: En règle | K117: Noël, Marie Carmel | L117: g.dalpe@saq.qc.ca
A118: =TEXT(B118,"0000000") -> 8502528 | B118: 8502528 | C118: Daneault | D118: Hélène | E118: Régulier | F118: 15606 | G118: Technicien classe 1 | H118: 31091 | I118: 31091 | J118: En règle | K118: x | L118: h.daneault@saq.qc.ca
A119: =TEXT(B119,"0000000") -> 0809608 | B119: 809608 | C119: Dansereau | D119: Marielle | E119: Régulier | F119: 14617 | G119: Analyste | H119: 39691 | I119: 39691 | J119: En règle | K119: Champagne, Chantal | L119: m.dansereau@saq.qc.ca
A120: =TEXT(B120,"0000000") -> 0100552 | B120: 100552 | C120: D'Avignon | D120: Marilise | E120: Régulier | F120: 18050 | G120: Coordonnateur | H120: 36942 | I120: 38464 | J120: En règle | K120: Belley, Linda | L120: m.davignon@saq.qc.ca
A121: =TEXT(B121,"0000000") -> 1206879 | B121: 1206879 | C121: De Blois | D121: Nathalie | E121: Régulier | F121: 12210 | G121: Technicien classe 1 | H121: 41140 | I121: 41140 | J121: En règle | K121: Gagnon, Jonathan | L121: nathalie.deblois@saq.qc.ca
A122: =TEXT(B122,"0000000") -> 0908350 | B122: 908350 | C122: de Saint-Rat | D122: Christophe | E122: Régulier | F122: 14618 | G122: Analyste | H122: 40062 | I122: 40062 | J122: En règle | K122: Nado, Julien | L122: c.desaint-rat@saq.qc.ca
A123: =TEXT(B123,"0000000") -> 0707745 | B123: 707745 | C123: Dea | D123: Martin | E123: Régulier | F123: 15400 | G123: Spécialiste en sciences physiques | H123: 39264 | I123: 39264 | J123: En règle | K123: Noël, Marie Carmel | L123: m.dea@saq.qc.ca
A124: =TEXT(B124,"0000000") -> 0402735 | B124: 402735 | C124: Décary | D124: Renaud | E124: Temporaire | F124: 12210 | G124: Technicien classe 1 | H124: 38963 | I124: 0000-00-00 | J124: Adhésion à compléter | K124: Gagnon, Jonathan | L124: renaud.decary@saq.qc.ca
A125: =TEXT(B125,"0000000") -> 0711275 | B125: 711275 | C125: Dedovic | D125: Mélanie | E125: Régulier | F125: 16700 | G125: Analyste | H125: 39404 | I125: 39404 | J125: En règle | K125: Belley, Linda | L125: m.dedovic@saq.qc.ca
A126: =TEXT(B126,"0000000") -> 0908459 | B126: 908459 | C126: Demers | D126: Marcel | E126: Régulier | F126: 14650 | G126: Analyste | H126: 40090 | I126: 40090 | J126: En règle | K126: Ferland, Marie-Josée | L126: ma.demers@saq.qc.ca
A127: =TEXT(B127,"0000000") -> 2001519 | B127: 2001519 | C127: Demontigny | D127: Marie-Claude | E127: Régulier | F127: 11110 | G127: Analyste | H127: 42197 | I127: 42197 | J127: En règle | K127: Racine, Manon | L127: marie-claude.demontigny@saq.qc.ca
A128: =TEXT(B128,"0000000") -> 0010157 | B128: 10157 | C128: Deneault | D128: Francine | E128: Régulier | F128: 15475 | G128: Secrétaire classe 1 | H128: 36845 | I128: 36845 | J128: En règle | K128: Noël, Marie Carmel | L128: f.deneault@saq.qc.ca
A129: =TEXT(B129,"0000000") -> 2000320 | B129: 2000320 | C129: Denis | D129: Caroline | E129: Régulier | F129: 14647 | G129: Analyste | H129: 41749 | I129: 41749 | J129: En règle | K129: Guezzane, Noureddine | L129: caroline.denis@saq.qc.ca
A130: =TEXT(B130,"0000000") -> 2001997 | B130: 2001997 | C130: Dérout | D130: Aurore | E130: Régulier | F130: 12215 | G130: Analyste | H130: 42474 | I130: 42474 | J130: En règle | K130: Gagnon, Jonathan | L130: aurore.derout@saq.qc.ca
A131: =TEXT(B131,"0000000") -> 1210483 | B131: 1210483 | C131: Désaulniers | D131: Anny | E131: Régulier | F131: 17308 | G131: Agent de bureau classe 1 | H131: 41245 | I131: 41749 | J131: En règle | K131: St-Cyr, Charles | L131: caroline.denis@saq.qc.ca
A132: =TEXT(B132,"0000000") -> 0306787 | B132: 306787 | C132: Desbiens | D132: France | E132: Régulier | F132: 12211 | G132: Secrétaire classe 1 | H132: 38739 | I132: 38739 | J132: En règle | K132: Gagnon, Jonathan | L132: f.desbiens@saq.qc.ca
A133: =TEXT(B133,"0000000") -> 1000157 | B133: 1000157 | C133: Desjardins | D133: Marie-Eve | E133: Régulier | F133: 14400 | G133: Technicien classe 1 | H133: 40217 | I133: 40217 | J133: En règle | K133: Champagne, Chantal | L133: m.desjardins@saq.qc.ca
A134: =TEXT(B134,"0000000") -> 9804949 | B134: 9804949 | C134: Desjardins | D134: Maxime | E134: Régulier | F134: 17311 | G134: Analyste | H134: 36108 | I134: 41476 | J134: En règle | K134: Gagnon, Jonathan | L134: maxime.desjardins@saq.qc.ca
A135: =TEXT(B135,"0000000") -> 0005520 | B135: 5520 | C135: Deslauriers | D135: Kim | E135: Régulier | F135: 12510 | G135: Agent de bureau classe 1 | H135: 39110 | I135: 39110 | J135: En règle | K135: St-Cyr, Charles | L135: k.deslauriers@saq.qc.ca
A136: =TEXT(B136,"0000000") -> 1206044 | B136: 1206044 | C136: Deslauriers | D136: Sylvie | E136: Régulier | F136: 11113 | G136: Technicien classe 1 | H136: 41105 | I136: 41105 | J136: En règle | K136: Racine, Manon | L136: sylvie.deslauriers@saq.qc.ca
A137: =TEXT(B137,"0000000") -> 2001957 | B137: 2001957 | C137: Desrochers-Frégeau | D137: Ève | E137: Temporaire | F137: 12510 | G137: Agent de bureau classe 1 | H137: 42351 | I137: 0000-00-00 | J137: Adhésion à compléter | K137: St-Cyr, Charles | L137: eve.desrochers-fregeau@saq.qc.ca
...

Sheet Coordonnées délégué
B2: Poste téléphonique | C2: Courriel SAQ | D2: Courriel SPTP
A3: Beaudoin, Marc | B3: 5754 | C3: m.beaudoin@saq.qc.ca | D3: marc.beaudoin@sptp-saq.com
A4: Belley, Linda | B4: 6142 | C4: l.belley@saq.qc.ca | D4: linda.belley@sptp-saq.com
A5: Champagne, Chantal | B5: 5072 | C5: c.champagne@saq.qc.ca | D5: chantal.champagne@sptp-saq.com
A6: Drolet, Rémy | B6: 6204 | C6: r.drolet@saq.qc.ca | D6: remy.drolet@sptp-saq.com
A7: Ferland, Marie-Josée | B7: 5213 | C7: m.ferland@saq.qc.ca | D7: marie-josee.ferland@sptp-saq.com
A8: Gagnon, Jonathan | B8: 5317 | C8: jonathan.gagnon@saq.qc.ca | D8: jonathan.gagnon@sptp-saq.com
A9: Guezzane, Noureddine | B9: 5033 | C9: no.guezzane@saq.qc.ca | D9: noureddine.guezzane@sptp-saq.com
A10: Maheu, Yanik | B10: 6512 | C10: y.maheu@saq.qc.ca | D10: yanik.maheu@sptp-saq.com
A11: Nado, Julien | B11: 5178 | C11: julien.nado@saq.qc.ca | D11: julien.nado@sptp-saq.com
A12: Noël, Marie Carmel | B12: 6003 | C12: mc.noel@saq.qc.ca | D12: marie-carmel.noël@sptp-saq.com
A13: Racine, Manon | B13: 5714 | C13: m.racine@saq.qc.ca | D13: manon.racine@sptp-saq.com
A14: St-Cyr, Charles | B14: 5297 | C14: c.st-cyr@saq.qc.ca | D14: charles.st-cyr@sptp-saq.com
A15: Vachon, Jonathan | B15: 5027 | C15: j.vachon@saq.qc.ca | D15: jonathan.vachon@sptp-saq.com
