Workbook
Name Age: 'Listes déroulantes'!$B$2:$B$60
Name AgeDécès: 'Listes déroulantes'!$Q$2:$Q$43
Name AgentDeBureauCL1: 'Listes déroulantes'!$D$2:$D$9
Name AgentDeBureauCP: 'Listes déroulantes'!$E$2:$E$7
Name AgentDeRecouvrement: 'Listes déroulantes'!$G$2:$G$10
Name AnneeRetraite: 'Listes déroulantes'!$C$2:$C$42
Name AnnéeService: 'Listes déroulantes'!$R$2:$R$42
Name Catégorie3TOUS: 'Listes déroulantes'!$P$2:$P$20
Name ClauseRemorque: 'Listes déroulantes'!$T$2:$T$33
Name GraphisteCP: 'Listes déroulantes'!$L$2:$L$5
Name RetraitBoni: 'Listes déroulantes'!$S$2:$S$42
Name SecrétaireCL1: 'Listes déroulantes'!$F$2:$F$5
Name TechnicienCP: 'Listes déroulantes'!$M$2:$M$5
Name TechnicienCPÉquité: 'Listes déroulantes'!$N$2:$N$5
Name TechnicienInformatiqueCL1: 'Listes déroulantes'!$I$2:$I$14
Name TechnicienInformatiqueCP: 'Listes déroulantes'!$K$2:$K$9
Name TechnicienLaboratoireCL1: 'Listes déroulantes'!$J$2:$J$14
Name TechnicienLaboratoireCLP: 'Listes déroulantes'!$O$2:$O$4
Name TechnicienTOUS: 'Listes déroulantes'!$H$2:$H$14
Name TitreDemploi: 'Listes déroulantes'!$A$2:$A$15

Sheet Critères de recherche
B2: Analyse des scénarios
B3: Négociation - Convention collective 2019
B6: Critères de recherche
B8: Emploi | F8: Retraite | L8: Retrait boni / Clause remorque FP | Q8: Compteurs
B10: Titre d'emploi | C10: Choisir… | H10: Année de la retraite | I10: Choisir… | K10: 2040 | M10: Retrait du boni (dans x ans) | N10: Jamais | S10: Nombre de vacances accumulées (hrs)*
B11: Échelon actuel (2019) | C11: Choisir… | E11: 18 | H11: Nombre d'années jusqu'à la retraite | I11: =I10-2019 -> #VALUE! | S11: Nombre de fériés à reprendre (hrs)
H12: Nombre d'années passées à la retraite | I12: =I13-C16-I11 -> #VALUE! | M12: Augmentation salariale | S12: Nombre d'heures supplémentaires (hrs)
H13: Âge hypothétique du décès | I13: 85 | M13: Fonction publique (2021) | N13: 0 | S13: Compteur maladies (hrs)
B15: Âge / années de service | G15: Espérance de vie pour un groupe de 65 ans (à titre indicatif)* | Q15: * Nombre d'heures de vacances en sus des vacances
B16: Âge actuel | C16: Choisir… | E16: 32 | G16: Hommes: | H16: 84,6 ans | I16: Femmes: | J16: 87,4 ans | Q16: annuelles)
B17: Nombre d'années de service | C17: Choisir… | E17: 14 | J17: * Institut de la statistique du Québec (2018)
F19: Notez-bien, la donnée de l'espérance de vie moyenne est à titre indicatif seulement
F20: puisqu'elle tient compte des décès infantiles, décès à l'adolescence, accidents, suicides, etc.
F21: L'espérance de vie pour un groupe de retraités est supérieur à la moyenne

Sheet Impact intégration du boni
B2: Analyse des scénarios
B3: Négociation - Convention collective 2019
B6: Mises en contexte
B8: Cet onglet compare l'entente de principe de juillet 2019 à un scénario hypothétique de 2% par année pendant les 6 ans de la convention collective et la non intégration du boni aux échelles salariales
B9: L'utilisateur peut toutefois tester l'impact du retrait du boni par le Gouvernement et l'impact qu'aurait la Politique salariale gouvernementale (PSG) pour 2021, advenant que la fonction publique négocie un meilleur pourcentage d'augmentation
B11: Pour ce faire, modifier les critères dans l'onglet "Critères de recherche"
B12: Entente de principe - Juillet 2019 (SANS intégration du boni)
B14: Barêmes
B16: Augmentation salariale | H16: =IF(H$24="Salarié",'Scénario hypothétique 2%'!M4,"N/A") -> #VALUE! | I16: =IF(I24="Salarié",'Scénario hypothétique 2%'!N4,"N/A") -> #VALUE! | J16: =IF(J24="Salarié",'Scénario hypothétique 2%'!O4,"N/A") -> #VALUE! | K16: =IF(K24="Salarié",'Scénario hypothétique 2%'!P4,"N/A") -> #VALUE! | L16: =IF(L24="Salarié",'Scénario hypothétique 2%'!Q4,"N/A") -> #VALUE! | M16: =IF(M24="Salarié",'Scénario hypothétique 2%'!R4,"N/A") -> #VALUE! | N16: =IF(N24="Salarié",'Scénario hypothétique 2%'!S4,"N/A") -> #VALUE! | O16: =IF(O24="Salarié",'Scénario hypothétique 2%'!T4,"N/A") -> #VALUE! | P16: =IF(P24="Salarié",'Scénario hypothétique 2%'!S4,"N/A") -> #VALUE! | Q16: =IF(Q24="Salarié",'Scénario hypothétique 2%'!T4,"N/A") -> #VALUE! | R16: =IF(R24="Salarié",'Scénario hypothétique 2%'!U4,"N/A") -> #VALUE! | S16: =IF(S24="Salarié",'Scénario hypothétique 2%'!V4,"N/A") -> #VALUE! | T16: =IF(T24="Salarié",'Scénario hypothétique 2%'!W4,"N/A") -> #VALUE! | U16: =IF(U24="Salarié",'Scénario hypothétique 2%'!X4,"N/A") -> #VALUE! | V16: =IF(V24="Salarié",'Scénario hypothétique 2%'!Y4,"N/A") -> #VALUE! | W16: =IF(W24="Salarié",'Scénario hypothétique 2%'!Z4,"N/A") -> #VALUE! | ... CF16: =IF(CF24="Salarié",'Scénario hypothétique 2%'!CI4,"N/A") -> #VALUE!
B17: %Boni | C17: 0.0047 | D17: 0.037 | E17: 0.0368 | F17: 0.0417 | G17: 0.0427 | H17: 0.0425 | I17: 0.0394 | J17: 0.0394 | K17: 0.0394 | L17: 0.0394 | M17: 0.0394 | N17: 0.0394 | O17: 0.0394 | P17: 0.0394 | Q17: 0.0394 | R17: 0.0394 | S17: 0.0394 | T17: 0.0394 | U17: 0.0394 | V17: 0.0394 | W17: 0.0394 | X17: 0.0394 | Y17: 0.0394 | Z17: 0.0394 | AA17: 0.0394 | AB17: 0.0394 | AC17: 0.0394 | AD17: 0.0394 | AE17: 0.0394 | AF17: 0.0394 | AG17: 0.0394 | AH17: 0.0394 | AI17: 0.0394 | AJ17: 0.0394 | AK17: 0.0394 | AL17: 0.0394 | AM17: 0.0394 | AN17: 0.0394 | AO17: 0.0394 | AP17: 0.0394 | AQ17: 0.0394 | AR17: 0.0394 | AS17: 0.0394 | AT17: 0.0394 | AU17: 0.0394 | AV17: 0.0394 | AW17: 0.0394 | AX17: 0.0394 | AY17: 0.0394 | AZ17: 0.0394 | BA17: 0.0394 | BB17: 0.0394 | BC17: 0.0394 | BD17: 0.0394 | BE17: 0.0394 | BF17: 0.0394 | BG17: 0.0394 | BH17: 0.0394 | BI17: 0.0394 | BJ17: 0.0394 | BK17: 0.0394 | BL17: 0.0394 | BM17: 0.0394 | BN17: 0.0394 | BO17: 0.0394 | BP17: 0.0394 | BQ17: 0.0394 | BR17: 0.0394 | BS17: 0.0394 | BT17: 0.0394 | BU17: 0.0394 | BV17: 0.0394 | BW17: 0.0394 | BX17: 0.0394 | BY17: 0.0394 | BZ17: 0.0394 | CA17: 0.0394 | CB17: 0.0394 | CC17: 0.0394 | CD17: 0.0394 | CE17: 0.0394 | CF17: 0.0394
B18: Indexation Retraite | C18: 0 | D18: 0 | E18: 0 | F18: 0 | G18: 0 | H18: =IF(H24="Retraité",IF(G24<>"Retraité",0,1%),0) -> #VALUE! | I18: =IF(I24="Retraité",IF(H24<>"Retraité",0,1%),0) -> #VALUE! | J18: =IF(J24="Retraité",IF(I24<>"Retraité",0,1%),0) -> #VALUE! | K18: =IF(K24="Retraité",IF(J24<>"Retraité",0,1%),0) -> #VALUE! | L18: =IF(L24="Retraité",IF(K24<>"Retraité",0,1%),0) -> #VALUE! | M18: =IF(M24="Retraité",IF(L24<>"Retraité",0,1%),0) -> #VALUE! | N18: =IF(N24="Retraité",IF(M24<>"Retraité",0,1%),0) -> #VALUE! | O18: =IF(O24="Retraité",IF(N24<>"Retraité",0,1%),0) -> #VALUE! | ... CF18: =IF(CF24="Retraité",IF(CE24<>"Retraité",0,1%),0) -> #VALUE!
B19: Nb années boni | H19: 1 | I19: 2 | J19: 3 | K19: 4 | L19: 5 | M19: 6 | N19: 7 | O19: 8 | P19: 9 | Q19: 10 | R19: 11 | S19: 12 | T19: 13 | U19: 14 | V19: 15 | W19: 16 | X19: 17 | Y19: 18 | Z19: 19 | AA19: 20 | AB19: 21 | AC19: 22 | AD19: 23 | AE19: 24 | AF19: 25 | AG19: 26 | AH19: 27 | AI19: 28 | AJ19: 29 | AK19: 30 | AL19: 31 | AM19: 32 | AN19: 33 | AO19: 34 | AP19: 35 | AQ19: 36 | AR19: 37 | AS19: 38 | AT19: 39 | AU19: 40 | AV19: 41 | AW19: 42 | AX19: 43 | AY19: 44 | AZ19: 45 | BA19: 46 | BB19: 47 | BC19: 48 | BD19: 49 | BE19: 50 | BF19: 51 | BG19: 52 | BH19: 53 | BI19: 54 | BJ19: 55 | BK19: 56 | BL19: 57 | BM19: 58 | BN19: 59 | BO19: 60 | BP19: 61 | BQ19: 62 | BR19: 63 | BS19: 64 | BT19: 65 | BU19: 66 | BV19: 67 | BW19: 68 | BX19: 69 | BY19: 70 | BZ19: 71 | CA19: 72 | CB19: 73 | CC19: 74 | CD19: 75 | CE19: 76 | CF19: 77
B21: Calculs
B23: Année | C23: 2014 | D23: 2015 | E23: 2016 | F23: 2017 | G23: 2018 | H23: 2019 | I23: 2020 | J23: 2021 | K23: 2022 | L23: 2023 | M23: 2024 | N23: 2025 | O23: 2026 | P23: 2027 | Q23: 2028 | R23: 2029 | S23: 2030 | T23: 2031 | U23: 2032 | V23: 2033 | W23: 2034 | X23: 2035 | Y23: 2036 | Z23: 2037 | AA23: 2038 | AB23: 2039 | AC23: 2040 | AD23: 2041 | AE23: 2042 | AF23: 2043 | AG23: 2044 | AH23: 2045 | AI23: 2046 | AJ23: 2047 | AK23: 2048 | AL23: 2049 | AM23: 2050 | AN23: 2051 | AO23: 2052 | AP23: 2053 | AQ23: 2054 | AR23: 2055 | AS23: 2056 | AT23: 2057 | AU23: 2058 | AV23: 2059 | AW23: 2060 | AX23: 2061 | AY23: 2062 | AZ23: 2063 | BA23: 2064 | BB23: 2065 | BC23: 2066 | BD23: 2067 | BE23: 2068 | BF23: 2069 | BG23: 2070 | BH23: 2071 | BI23: 2072 | BJ23: 2073 | BK23: 2074 | BL23: 2075 | BM23: 2076 | BN23: 2077 | BO23: 2078 | BP23: 2079 | BQ23: 2080 | BR23: 2081 | BS23: 2082 | BT23: 2083 | BU23: 2084 | BV23: 2085 | BW23: 2086 | BX23: 2087 | BY23: 2088 | BZ23: 2089 | CA23: 2090 | CB23: 2091 | CC23: 2092 | CD23: 2093 | CE23: 2094 | CF23: 2095
B24: Statut | C24: Salarié | D24: Salarié | E24: Salarié | F24: Salarié | G24: Salarié | H24: =VLOOKUP(H23,'Statut d''emploi'!$B$5:$F$87,5,0) -> #VALUE! | I24: =VLOOKUP(I23,'Statut d''emploi'!$B$5:$F$87,5,0) -> #VALUE! | J24: =VLOOKUP(J23,'Statut d''emploi'!$B$5:$F$87,5,0) -> #VALUE! | K24: =VLOOKUP(K23,'Statut d''emploi'!$B$5:$F$87,5,0) -> #VALUE! | L24: =VLOOKUP(L23,'Statut d''emploi'!$B$5:$F$87,5,0) -> #VALUE! | M24: =VLOOKUP(M23,'Statut d''emploi'!$B$5:$F$87,5,0) -> #VALUE! | N24: =VLOOKUP(N23,'Statut d''emploi'!$B$5:$F$87,5,0) -> #VALUE! | O24: =VLOOKUP(O23,'Statut d''emploi'!$B$5:$F$87,5,0) -> #VALUE! | ... CF24: =VLOOKUP(CF23,'Statut d''emploi'!$B$5:$F$87,5,0) -> #VALUE!
B25: Rang salaire | C25: =RANK(C26,$C$26:$CF$26) -> #VALUE! | D25: =RANK(D26,$C$26:$CF$26) -> #VALUE! | E25: =RANK(E26,$C$26:$CF$26) -> #VALUE! | F25: =RANK(F26,$C$26:$CF$26) -> #VALUE! | G25: =RANK(G26,$C$26:$CF$26) -> #VALUE! | H25: =RANK(H26,$C$26:$CF$26) -> #VALUE! | I25: =RANK(I26,$C$26:$CF$26) -> #VALUE! | J25: =RANK(J26,$C$26:$CF$26) -> #VALUE! | ... CF25: =RANK(CF26,$C$26:$CF$26) -> #VALUE!
B26: Salaire | C26: =SUMPRODUCT(('Critères de recherche'!C10='Scénario hypothétique 2%'!E10:E113)*('Critères de recherche'!C11='Scénario hypothétique 2%'!$F$10:$F$113)*('Scénario hypothétique 2%'!$H$10:$H$113)) -> 0 | D26: =SUMPRODUCT(('Critères de recherche'!C10='Scénario hypothétique 2%'!E10:E113)*('Critères de recherche'!C11='Scénario hypothétique 2%'!$F$10:$F$113)*('Scénario hypothétique 2%'!$I$10:$I$113)) -> 0 | E26: =SUMPRODUCT(('Critères de recherche'!C10='Scénario hypothétique 2%'!E10:E113)*('Critères de recherche'!C11='Scénario hypothétique 2%'!$F$10:$F$113)*('Scénario hypothétique 2%'!$J$10:$J$113)) -> 0 | F26: =SUMPRODUCT(('Critères de recherche'!C10='Scénario hypothétique 2%'!E10:E113)*('Critères de recherche'!C11='Scénario hypothétique 2%'!$F$10:$F$113)*('Scénario hypothétique 2%'!$K$10:$K$113)) -> 0 | G26: =SUMPRODUCT(('Critères de recherche'!C10='Scénario hypothétique 2%'!E10:E113)*('Critères de recherche'!C11='Scénario hypothétique 2%'!$F$10:$F$113)*('Scénario hypothétique 2%'!$L$10:$L$113)) -> 0 | H26: =IF(H24="Salarié",SUMPRODUCT(('Critères de recherche'!$C$10='Scénario hypothétique 2%'!$E$10:$E$113)*(SUMPRODUCT(('Impact intégration du boni'!H23='Statut d''emploi'!$B$5:$B$87)*('Statut d''emploi'!$H$5:$H$87))='Scénario hypothétique 2%'!$F$10:$F$113)*('Scénario hypothétique 2%'!$M$10:$M$113)),0) -> #VALUE! | I26: =IF(I24="Salarié",SUMPRODUCT(('Critères de recherche'!$C$10='Scénario hypothétique 2%'!$E$10:$E$113)*(SUMPRODUCT(('Impact intégration du boni'!I23='Statut d''emploi'!$B$5:$B$87)*('Statut d''emploi'!$H$5:$H$87))='Scénario hypothétique 2%'!$F$10:$F$113)*('Scénario hypothétique 2%'!$N$10:$N$113)),0) -> #VALUE! | J26: =IF(J24="Salarié",SUMPRODUCT(('Critères de recherche'!$C$10='Scénario hypothétique 2%'!$E$10:$E$113)*(SUMPRODUCT(('Impact intégration du boni'!J23='Statut d''emploi'!$B$5:$B$87)*('Statut d''emploi'!$H$5:$H$87))='Scénario hypothétique 2%'!$F$10:$F$113)*('Scénario hypothétique 2%'!$O$10:$O$113)),0) -> #VALUE! | K26: =IF(K24="Salarié",SUMPRODUCT(('Critères de recherche'!$C$10='Scénario hypothétique 2%'!$E$10:$E$113)*(SUMPRODUCT(('Impact intégration du boni'!K23='Statut d''emploi'!$B$5:$B$87)*('Statut d''emploi'!$H$5:$H$87))='Scénario hypothétique 2%'!$F$10:$F$113)*('Scénario hypothétique 2%'!$P$10:$P$113)),0) -> #VALUE! | L26: =IF(L24="Salarié",SUMPRODUCT(('Critères de recherche'!$C$10='Scénario hypothétique 2%'!$E$10:$E$113)*(SUMPRODUCT(('Impact intégration du boni'!L23='Statut d''emploi'!$B$5:$B$87)*('Statut d''emploi'!$H$5:$H$87))='Scénario hypothétique 2%'!$F$10:$F$113)*('Scénario hypothétique 2%'!$Q$10:$Q$113)),0) -> #VALUE! | M26: =IF(M24="Salarié",SUMPRODUCT(('Critères de recherche'!$C$10='Scénario hypothétique 2%'!$E$10:$E$113)*(SUMPRODUCT(('Impact intégration du boni'!M23='Statut d''emploi'!$B$5:$B$87)*('Statut d''emploi'!$H$5:$H$87))='Scénario hypothétique 2%'!$F$10:$F$113)*('Scénario hypothétique 2%'!$R$10:$R$113)),0) -> #VALUE! | N26: =IF(N24="Salarié",SUMPRODUCT(('Critères de recherche'!$C$10='Scénario hypothétique 2%'!$E$10:$E$113)*(SUMPRODUCT(('Impact intégration du boni'!N23='Statut d''emploi'!$B$5:$B$87)*('Statut d''emploi'!$H$5:$H$87))='Scénario hypothétique 2%'!$F$10:$F$113)*('Scénario hypothétique 2%'!$S$10:$S$113)),0) -> #VALUE! | O26: =IF(O24="Salarié",SUMPRODUCT(('Critères de recherche'!$C$10='Scénario hypothétique 2%'!$E$10:$E$113)*(SUMPRODUCT(('Impact intégration du boni'!O23='Statut d''emploi'!$B$5:$B$87)*('Statut d''emploi'!$H$5:$H$87))='Scénario hypothétique 2%'!$F$10:$F$113)*('Scénario hypothétique 2%'!$T$10:$T$113)),0) -> #VALUE! | P26: =IF(P24="Salarié",SUMPRODUCT(('Critères de recherche'!$C$10='Scénario hypothétique 2%'!$E$10:$E$113)*(SUMPRODUCT(('Impact intégration du boni'!P23='Statut d''emploi'!$B$5:$B$87)*('Statut d''emploi'!$H$5:$H$87))='Scénario hypothétique 2%'!$F$10:$F$113)*('Scénario hypothétique 2%'!$U$10:$U$113)),0) -> #VALUE! | Q26: =IF(Q24="Salarié",SUMPRODUCT(('Critères de recherche'!$C$10='Scénario hypothétique 2%'!$E$10:$E$113)*(SUMPRODUCT(('Impact intégration du boni'!Q23='Statut d''emploi'!$B$5:$B$87)*('Statut d''emploi'!$H$5:$H$87))='Scénario hypothétique 2%'!$F$10:$F$113)*('Scénario hypothétique 2%'!$V$10:$V$113)),0) -> #VALUE! | R26: =IF(R24="Salarié",SUMPRODUCT(('Critères de recherche'!$C$10='Scénario hypothétique 2%'!$E$10:$E$113)*(SUMPRODUCT(('Impact intégration du boni'!R23='Statut d''emploi'!$B$5:$B$87)*('Statut d''emploi'!$H$5:$H$87))='Scénario hypothétique 2%'!$F$10:$F$113)*('Scénario hypothétique 2%'!$W$10:$W$113)),0) -> #VALUE! | S26: =IF(S24="Salarié",SUMPRODUCT(('Critères de recherche'!$C$10='Scénario hypothétique 2%'!$E$10:$E$113)*(SUMPRODUCT(('Impact intégration du boni'!S23='Statut d''emploi'!$B$5:$B$87)*('Statut d''emploi'!$H$5:$H$87))='Scénario hypothétique 2%'!$F$10:$F$113)*('Scénario hypothétique 2%'!$X$10:$X$113)),0) -> #VALUE! | T26: =IF(T24="Salarié",SUMPRODUCT(('Critères de recherche'!$C$10='Scénario hypothétique 2%'!$E$10:$E$113)*(SUMPRODUCT(('Impact intégration du boni'!T23='Statut d''emploi'!$B$5:$B$87)*('Statut d''emploi'!$H$5:$H$87))='Scénario hypothétique 2%'!$F$10:$F$113)*('Scénario hypothétique 2%'!$Y$10:$Y$113)),0) -> #VALUE! | U26: =IF(U24="Salarié",SUMPRODUCT(('Critères de recherche'!$C$10='Scénario hypothétique 2%'!$E$10:$E$113)*(SUMPRODUCT(('Impact intégration du boni'!U23='Statut d''emploi'!$B$5:$B$87)*('Statut d''emploi'!$H$5:$H$87))='Scénario hypothétique 2%'!$F$10:$F$113)*('Scénario hypothétique 2%'!$Z$10:$Z$113)),0) -> #VALUE! | V26: =IF(V24="Salarié",SUMPRODUCT(('Critères de recherche'!$C$10='Scénario hypothétique 2%'!$E$10:$E$113)*(SUMPRODUCT(('Impact intégration du boni'!V23='Statut d''emploi'!$B$5:$B$87)*('Statut d''emploi'!$H$5:$H$87))='Scénario hypothétique 2%'!$F$10:$F$113)*('Scénario hypothétique 2%'!$AA$10:$AA$113)),0) -> #VALUE! | W26: =IF(W24="Salarié",SUMPRODUCT(('Critères de recherche'!$C$10='Scénario hypothétique 2%'!$E$10:$E$113)*(SUMPRODUCT(('Impact intégration du boni'!W23='Statut d''emploi'!$B$5:$B$87)*('Statut d''emploi'!$H$5:$H$87))='Scénario hypothétique 2%'!$F$10:$F$113)*('Scénario hypothétique 2%'!$AB$10:$AB$113)),0) -> #VALUE! | X26: =IF(X24="Salarié",SUMPRODUCT(('Critères de recherche'!$C$10='Scénario hypothétique 2%'!$E$10:$E$113)*(SUMPRODUCT(('Impact intégration du boni'!X23='Statut d''emploi'!$B$5:$B$87)*('Statut d''emploi'!$H$5:$H$87))='Scénario hypothétique 2%'!$F$10:$F$113)*('Scénario hypothétique 2%'!$AC$10:$AC$113)),0) -> #VALUE! | Y26: =IF(Y24="Salarié",SUMPRODUCT(('Critères de recherche'!$C$10='Scénario hypothétique 2%'!$E$10:$E$113)*(SUMPRODUCT(('Impact intégration du boni'!Y23='Statut d''emploi'!$B$5:$B$87)*('Statut d''emploi'!$H$5:$H$87))='Scénario hypothétique 2%'!$F$10:$F$113)*('Scénario hypothétique 2%'!$AD$10:$AD$113)),0) -> #VALUE! | Z26: =IF(Z24="Salarié",SUMPRODUCT(('Critères de recherche'!$C$10='Scénario hypothétique 2%'!$E$10:$E$113)*(SUMPRODUCT(('Impact intégration du boni'!Z23='Statut d''emploi'!$B$5:$B$87)*('Statut d''emploi'!$H$5:$H$87))='Scénario hypothétique 2%'!$F$10:$F$113)*('Scénario hypothétique 2%'!$AE$10:$AE$113)),0) -> #VALUE! | AA26: =IF(AA24="Salarié",SUMPRODUCT(('Critères de recherche'!$C$10='Scénario hypothétique 2%'!$E$10:$E$113)*(SUMPRODUCT(('Impact intégration du boni'!AA23='Statut d''emploi'!$B$5:$B$87)*('Statut d''emploi'!$H$5:$H$87))='Scénario hypothétique 2%'!$F$10:$F$113)*('Scénario hypothétique 2%'!$AF$10:$AF$113)),0) -> #VALUE! | AB26: =IF(AB24="Salarié",SUMPRODUCT(('Critères de recherche'!$C$10='Scénario hypothétique 2%'!$E$10:$E$113)*(SUMPRODUCT(('Impact intégration du boni'!AB23='Statut d''emploi'!$B$5:$B$87)*('Statut d''emploi'!$H$5:$H$87))='Scénario hypothétique 2%'!$F$10:$F$113)*('Scénario hypothétique 2%'!$AG$10:$AG$113)),0) -> #VALUE! | AC26: =IF(AC24="Salarié",SUMPRODUCT(('Critères de recherche'!$C$10='Scénario hypothétique 2%'!$E$10:$E$113)*(SUMPRODUCT(('Impact intégration du boni'!AC23='Statut d''emploi'!$B$5:$B$87)*('Statut d''emploi'!$H$5:$H$87))='Scénario hypothétique 2%'!$F$10:$F$113)*('Scénario hypothétique 2%'!$AH$10:$AH$113)),0) -> #VALUE! | AD26: =IF(AD24="Salarié",SUMPRODUCT(('Critères de recherche'!$C$10='Scénario hypothétique 2%'!$E$10:$E$113)*(SUMPRODUCT(('Impact intégration du boni'!AD23='Statut d''emploi'!$B$5:$B$87)*('Statut d''emploi'!$H$5:$H$87))='Scénario hypothétique 2%'!$F$10:$F$113)*('Scénario hypothétique 2%'!$AI$10:$AI$113)),0) -> #VALUE! | AE26: =IF(AE24="Salarié",SUMPRODUCT(('Critères de recherche'!$C$10='Scénario hypothétique 2%'!$E$10:$E$113)*(SUMPRODUCT(('Impact intégration du boni'!AE23='Statut d''emploi'!$B$5:$B$87)*('Statut d''emploi'!$H$5:$H$87))='Scénario hypothétique 2%'!$F$10:$F$113)*('Scénario hypothétique 2%'!$AJ$10:$AJ$113)),0) -> #VALUE! | AF26: =IF(AF24="Salarié",SUMPRODUCT(('Critères de recherche'!$C$10='Scénario hypothétique 2%'!$E$10:$E$113)*(SUMPRODUCT(('Impact intégration du boni'!AF23='Statut d''emploi'!$B$5:$B$87)*('Statut d''emploi'!$H$5:$H$87))='Scénario hypothétique 2%'!$F$10:$F$113)*('Scénario hypothétique 2%'!$AK$10:$AK$113)),0) -> #VALUE! | AG26: =IF(AG24="Salarié",SUMPRODUCT(('Critères de recherche'!$C$10='Scénario hypothétique 2%'!$E$10:$E$113)*(SUMPRODUCT(('Impact intégration du boni'!AG23='Statut d''emploi'!$B$5:$B$87)*('Statut d''emploi'!$H$5:$H$87))='Scénario hypothétique 2%'!$F$10:$F$113)*('Scénario hypothétique 2%'!$AL$10:$AL$113)),0) -> #VALUE! | AH26: =IF(AH24="Salarié",SUMPRODUCT(('Critères de recherche'!$C$10='Scénario hypothétique 2%'!$E$10:$E$113)*(SUMPRODUCT(('Impact intégration du boni'!AH23='Statut d''emploi'!$B$5:$B$87)*('Statut d''emploi'!$H$5:$H$87))='Scénario hypothétique 2%'!$F$10:$F$113)*('Scénario hypothétique 2%'!$AM$10:$AM$113)),0) -> #VALUE! | AI26: =IF(AI24="Salarié",SUMPRODUCT(('Critères de recherche'!$C$10='Scénario hypothétique 2%'!$E$10:$E$113)*(SUMPRODUCT(('Impact intégration du boni'!AI23='Statut d''emploi'!$B$5:$B$87)*('Statut d''emploi'!$H$5:$H$87))='Scénario hypothétique 2%'!$F$10:$F$113)*('Scénario hypothétique 2%'!$AN$10:$AN$113)),0) -> #VALUE! | AJ26: =IF(AJ24="Salarié",SUMPRODUCT(('Critères de recherche'!$C$10='Scénario hypothétique 2%'!$E$10:$E$113)*(SUMPRODUCT(('Impact intégration du boni'!AJ23='Statut d''emploi'!$B$5:$B$87)*('Statut d''emploi'!$H$5:$H$87))='Scénario hypothétique 2%'!$F$10:$F$113)*('Scénario hypothétique 2%'!$AO$10:$AO$113)),0) -> #VALUE! | AK26: =IF(AK24="Salarié",SUMPRODUCT(('Critères de recherche'!$C$10='Scénario hypothétique 2%'!$E$10:$E$113)*(SUMPRODUCT(('Impact intégration du boni'!AK23='Statut d''emploi'!$B$5:$B$87)*('Statut d''emploi'!$H$5:$H$87))='Scénario hypothétique 2%'!$F$10:$F$113)*('Scénario hypothétique 2%'!$AP$10:$AP$113)),0) -> #VALUE! | AL26: =IF(AL24="Salarié",SUMPRODUCT(('Critères de recherche'!$C$10='Scénario hypothétique 2%'!$E$10:$E$113)*(SUMPRODUCT(('Impact intégration du boni'!AL23='Statut d''emploi'!$B$5:$B$87)*('Statut d''emploi'!$H$5:$H$87))='Scénario hypothétique 2%'!$F$10:$F$113)*('Scénario hypothétique 2%'!$AQ$10:$AQ$113)),0) -> #VALUE! | AM26: =IF(AM24="Salarié",SUMPRODUCT(('Critères de recherche'!$C$10='Scénario hypothétique 2%'!$E$10:$E$113)*(SUMPRODUCT(('Impact intégration du boni'!AM23='Statut d''emploi'!$B$5:$B$87)*('Statut d''emploi'!$H$5:$H$87))='Scénario hypothétique 2%'!$F$10:$F$113)*('Scénario hypothétique 2%'!AR$10:AR$113)),0) -> #VALUE! | AN26: =IF(AN24="Salarié",SUMPRODUCT(('Critères de recherche'!$C$10='Scénario hypothétique 2%'!$E$10:$E$113)*(SUMPRODUCT(('Impact intégration du boni'!AN23='Statut d''emploi'!$B$5:$B$87)*('Statut d''emploi'!$H$5:$H$87))='Scénario hypothétique 2%'!$F$10:$F$113)*('Scénario hypothétique 2%'!AS$10:AS$113)),0) -> #VALUE! | AO26: =IF(AO24="Salarié",SUMPRODUCT(('Critères de recherche'!$C$10='Scénario hypothétique 2%'!$E$10:$E$113)*(SUMPRODUCT(('Impact intégration du boni'!AO23='Statut d''emploi'!$B$5:$B$87)*('Statut d''emploi'!$H$5:$H$87))='Scénario hypothétique 2%'!$F$10:$F$113)*('Scénario hypothétique 2%'!AT$10:AT$113)),0) -> #VALUE! | AP26: =IF(AP24="Salarié",SUMPRODUCT(('Critères de recherche'!$C$10='Scénario hypothétique 2%'!$E$10:$E$113)*(SUMPRODUCT(('Impact intégration du boni'!AP23='Statut d''emploi'!$B$5:$B$87)*('Statut d''emploi'!$H$5:$H$87))='Scénario hypothétique 2%'!$F$10:$F$113)*('Scénario hypothétique 2%'!AU$10:AU$113)),0) -> #VALUE! | AQ26: =IF(AQ24="Salarié",SUMPRODUCT(('Critères de recherche'!$C$10='Scénario hypothétique 2%'!$E$10:$E$113)*(SUMPRODUCT(('Impact intégration du boni'!AQ23='Statut d''emploi'!$B$5:$B$87)*('Statut d''emploi'!$H$5:$H$87))='Scénario hypothétique 2%'!$F$10:$F$113)*('Scénario hypothétique 2%'!AV$10:AV$113)),0) -> #VALUE! | AR26: =IF(AR24="Salarié",SUMPRODUCT(('Critères de recherche'!$C$10='Scénario hypothétique 2%'!$E$10:$E$113)*(SUMPRODUCT(('Impact intégration du boni'!AR23='Statut d''emploi'!$B$5:$B$87)*('Statut d''emploi'!$H$5:$H$87))='Scénario hypothétique 2%'!$F$10:$F$113)*('Scénario hypothétique 2%'!AW$10:AW$113)),0) -> #VALUE! | AS26: =IF(AS24="Salarié",SUMPRODUCT(('Critères de recherche'!$C$10='Scénario hypothétique 2%'!$E$10:$E$113)*(SUMPRODUCT(('Impact intégration du boni'!AS23='Statut d''emploi'!$B$5:$B$87)*('Statut d''emploi'!$H$5:$H$87))='Scénario hypothétique 2%'!$F$10:$F$113)*('Scénario hypothétique 2%'!AX$10:AX$113)),0) -> #VALUE! | AT26: =IF(AT24="Salarié",SUMPRODUCT(('Critères de recherche'!$C$10='Scénario hypothétique 2%'!$E$10:$E$113)*(SUMPRODUCT(('Impact intégration du boni'!AT23='Statut d''emploi'!$B$5:$B$87)*('Statut d''emploi'!$H$5:$H$87))='Scénario hypothétique 2%'!$F$10:$F$113)*('Scénario hypothétique 2%'!AY$10:AY$113)),0) -> #VALUE! | ... CF26: =IF(CF24="Salarié",SUMPRODUCT(('Critères de recherche'!$C$10='Scénario hypothétique 2%'!$E$10:$E$113)*(SUMPRODUCT(('Impact intégration du boni'!CF23='Statut d''emploi'!$B$5:$B$87)*('Statut d''emploi'!$H$5:$H$87))='Scénario hypothétique 2%'!$F$10:$F$113)*('Scénario hypothétique 2%'!CK$10:CK$113)),0) -> #VALUE!
B27: Bonification | C27: =IF('Critères de recherche'!$N10<>"Jamais",IF(C19<='Critères de recherche'!$N10+1,IF(C24="Salarié",IF(C17<>"",C26*C17,0),0),0),IF(C24="Salarié",IF(C17<>"",C26*C17,0),0)) -> 0 | D27: =IF('Critères de recherche'!$N10<>"Jamais",IF(D19<='Critères de recherche'!$N10+1,IF(D24="Salarié",IF(D17<>"",D26*D17,0),0),0),IF(D24="Salarié",IF(D17<>"",D26*D17,0),0)) -> 0 | E27: =IF('Critères de recherche'!$N10<>"Jamais",IF(E19<='Critères de recherche'!$N10+1,IF(E24="Salarié",IF(E17<>"",E26*E17,0),0),0),IF(E24="Salarié",IF(E17<>"",E26*E17,0),0)) -> 0 | F27: =IF('Critères de recherche'!$N10<>"Jamais",IF(F19<='Critères de recherche'!$N10+1,IF(F24="Salarié",IF(F17<>"",F26*F17,0),0),0),IF(F24="Salarié",IF(F17<>"",F26*F17,0),0)) -> 0 | G27: =IF('Critères de recherche'!$N10<>"Jamais",IF(G19<='Critères de recherche'!$N10+1,IF(G24="Salarié",IF(G17<>"",G26*G17,0),0),0),IF(G24="Salarié",IF(G17<>"",G26*G17,0),0)) -> 0 | H27: =IF('Critères de recherche'!$N10<>"Jamais",IF(H19<='Critères de recherche'!$N10+1,IF(H24="Salarié",IF(H17<>"",H26*H17,0),0),0),IF(H24="Salarié",IF(H17<>"",H26*H17,0),0)) -> #VALUE! | I27: =IF('Critères de recherche'!$N10<>"Jamais",IF(I19<='Critères de recherche'!$N10+1,IF(I24="Salarié",IF(I17<>"",I26*I17,0),0),0),IF(I24="Salarié",IF(I17<>"",I26*I17,0),0)) -> #VALUE! | J27: =IF('Critères de recherche'!$N10<>"Jamais",IF(J19<='Critères de recherche'!$N10+1,IF(J24="Salarié",IF(J17<>"",J26*J17,0),0),0),IF(J24="Salarié",IF(J17<>"",J26*J17,0),0)) -> #VALUE! | ... W27: =IF('Critères de recherche'!$N10<>"Jamais",IF(W19<='Critères de recherche'!$N10+1,IF(W24="Salarié",IF(W17<>"",W26*W17,0),0),0),IF(W24="Salarié",IF(W17<>"",W26*W17,0),0)) -> #VALUE! | X27: =IF('Critères de recherche'!$N10<>"Jamais",IF(X19<='Critères de recherche'!$N10,IF(X24="Salarié",IF(X17<>"",X26*X17,0),0),0),IF(X24="Salarié",IF(X17<>"",X26*X17,0),0)) -> #VALUE! | Y27: =IF('Critères de recherche'!$N10<>"Jamais",IF(Y19<='Critères de recherche'!$N10,IF(Y24="Salarié",IF(Y17<>"",Y26*Y17,0),0),0),IF(Y24="Salarié",IF(Y17<>"",Y26*Y17,0),0)) -> #VALUE! | Z27: =IF('Critères de recherche'!$N10<>"Jamais",IF(Z19<='Critères de recherche'!$N10,IF(Z24="Salarié",IF(Z17<>"",Z26*Z17,0),0),0),IF(Z24="Salarié",IF(Z17<>"",Z26*Z17,0),0)) -> #VALUE! | AA27: =IF('Critères de recherche'!$N10<>"Jamais",IF(AA19<='Critères de recherche'!$N10,IF(AA24="Salarié",IF(AA17<>"",AA26*AA17,0),0),0),IF(AA24="Salarié",IF(AA17<>"",AA26*AA17,0),0)) -> #VALUE! | AB27: =IF('Critères de recherche'!$N10<>"Jamais",IF(AB19<='Critères de recherche'!$N10,IF(AB24="Salarié",IF(AB17<>"",AB26*AB17,0),0),0),IF(AB24="Salarié",IF(AB17<>"",AB26*AB17,0),0)) -> #VALUE! | AC27: =IF('Critères de recherche'!$N10<>"Jamais",IF(AC19<='Critères de recherche'!$N10,IF(AC24="Salarié",IF(AC17<>"",AC26*AC17,0),0),0),IF(AC24="Salarié",IF(AC17<>"",AC26*AC17,0),0)) -> #VALUE! | AD27: =IF('Critères de recherche'!$N10<>"Jamais",IF(AD19<='Critères de recherche'!$N10,IF(AD24="Salarié",IF(AD17<>"",AD26*AD17,0),0),0),IF(AD24="Salarié",IF(AD17<>"",AD26*AD17,0),0)) -> #VALUE! | AE27: =IF('Critères de recherche'!$N10<>"Jamais",IF(AE19<='Critères de recherche'!$N10,IF(AE24="Salarié",IF(AE17<>"",AE26*AE17,0),0),0),IF(AE24="Salarié",IF(AE17<>"",AE26*AE17,0),0)) -> #VALUE! | ... CF27: =IF('Critères de recherche'!$N10<>"Jamais",IF(CF19<='Critères de recherche'!$N10,IF(CF24="Salarié",IF(CF17<>"",CF26*CF17,0),0),0),IF(CF24="Salarié",IF(CF17<>"",CF26*CF17,0),0)) -> #VALUE!
B28: Gain retraite | C28: =IF(C24="Retraité",IF(B28=0,$C$70,B28*(1+C18)),0) -> 0 | D28: =IF(D24="Retraité",IF(C28=0,$C$70,C28*(1+D18)),0) -> 0 | E28: =IF(E24="Retraité",IF(D28=0,$C$70,D28*(1+E18)),0) -> 0 | F28: =IF(F24="Retraité",IF(E28=0,$C$70,E28*(1+F18)),0) -> 0 | G28: =IF(G24="Retraité",IF(F28=0,$C$70,F28*(1+G18)),0) -> 0 | H28: =IF(H24="Retraité",IF(G28=0,$C$70,G28*(1+H18)),0) -> #VALUE! | I28: =IF(I24="Retraité",IF(H28=0,$C$70,H28*(1+I18)),0) -> #VALUE! | J28: =IF(J24="Retraité",IF(I28=0,$C$70,I28*(1+J18)),0) -> #VALUE! | ... CF28: =IF(CF24="Retraité",IF(CE28=0,$C$70,CE28*(1+CF18)),0) -> #VALUE!
B29: Total | C29: =SUM(C26:C28) -> 0 | D29: =SUM(D26:D28) -> 0 | E29: =SUM(E26:E28) -> 0 | F29: =SUM(F26:F28) -> 0 | G29: =SUM(G26:G28) -> 0 | H29: =SUM(H26:H28) -> #VALUE! | I29: =SUM(I26:I28) -> #VALUE! | J29: =SUM(J26:J28) -> #VALUE! | ... CF29: =SUM(CF26:CF28) -> #VALUE!
B32: Entente de principe - Juillet 2019 (AVEC intégration du boni)
B34: Barêmes
B36: Augmentation salariale | H36: =IF(H$44="Salarié",SUM('EntenteJuil2019 (avec boni)'!N4:N6),"N/A") -> #VALUE! | I36: =IF(I$44="Salarié",SUM('EntenteJuil2019 (avec boni)'!O4:O6),"N/A") -> #VALUE! | J36: =IF(J$44="Salarié",SUM('EntenteJuil2019 (avec boni)'!P4:P6),"N/A") -> #VALUE! | K36: =IF(K$44="Salarié",SUM('EntenteJuil2019 (avec boni)'!Q4:Q6),"N/A") -> #VALUE! | L36: =IF(L$44="Salarié",SUM('EntenteJuil2019 (avec boni)'!R4:R6),"N/A") -> #VALUE! | M36: =IF(M$44="Salarié",SUM('EntenteJuil2019 (avec boni)'!S4:S6),"N/A") -> #VALUE! | N36: =IF(N$44="Salarié",SUM('EntenteJuil2019 (avec boni)'!T4:T6),"N/A") -> #VALUE! | O36: =IF(O$44="Salarié",SUM('EntenteJuil2019 (avec boni)'!U4:U6),"N/A") -> #VALUE! | ... CF36: =IF(CF$44="Salarié",SUM('EntenteJuil2019 (avec boni)'!CL4:CL6),"N/A") -> #VALUE!
B37: %Boni | C37: 0.0047 | D37: 0.037 | E37: 0.0368 | F37: 0.0417 | G37: 0.0427 | H37: =IF(H$44="Salarié",'EntenteJuil2019 (avec boni)'!N7,"N/A") -> #VALUE! | I37: =IF(I$44="Salarié",'EntenteJuil2019 (avec boni)'!O7,"N/A") -> #VALUE! | J37: =IF(J$44="Salarié",'EntenteJuil2019 (avec boni)'!P7,"N/A") -> #VALUE! | K37: =IF(K$44="Salarié",'EntenteJuil2019 (avec boni)'!Q7,"N/A") -> #VALUE! | L37: =IF(L$44="Salarié",'EntenteJuil2019 (avec boni)'!R7,"N/A") -> #VALUE! | M37: =IF(M$44="Salarié",'EntenteJuil2019 (avec boni)'!S7,"N/A") -> #VALUE! | N37: =IF(N$44="Salarié",'EntenteJuil2019 (avec boni)'!T7,"N/A") -> #VALUE! | O37: =IF(O$44="Salarié",'EntenteJuil2019 (avec boni)'!U7,"N/A") -> #VALUE! | ... CF37: =IF(CF$44="Salarié",'EntenteJuil2019 (avec boni)'!CL7,"N/A") -> #VALUE!
B38: Indexation Retraite | H38: =IF(H44="Retraité",IF(G44<>"Retraité",0,1%),0) -> #VALUE! | I38: =IF(I44="Retraité",IF(H44<>"Retraité",0,1%),0) -> #VALUE! | J38: =IF(J44="Retraité",IF(I44<>"Retraité",0,1%),0) -> #VALUE! | K38: =IF(K44="Retraité",IF(J44<>"Retraité",0,1%),0) -> #VALUE! | L38: =IF(L44="Retraité",IF(K44<>"Retraité",0,1%),0) -> #VALUE! | M38: =IF(M44="Retraité",IF(L44<>"Retraité",0,1%),0) -> #VALUE! | N38: =IF(N44="Retraité",IF(M44<>"Retraité",0,1%),0) -> #VALUE! | O38: =IF(O44="Retraité",IF(N44<>"Retraité",0,1%),0) -> #VALUE! | ... CF38: =IF(CF44="Retraité",IF(CE44<>"Retraité",0,1%),0) -> #VALUE!
B39: Note | I39: Relativité salariale
B41: Calculs
B43: Année | C43: 2014 | D43: 2015 | E43: 2016 | F43: 2017 | G43: 2018 | H43: 2019 | I43: 2020 | J43: 2021 | K43: 2022 | L43: 2023 | M43: 2024 | N43: 2025 | O43: 2026 | P43: 2027 | Q43: 2028 | R43: 2029 | S43: 2030 | T43: 2031 | U43: 2032 | V43: 2033 | W43: 2034 | X43: 2035 | Y43: 2036 | Z43: 2037 | AA43: 2038 | AB43: 2039 | AC43: 2040 | AD43: 2041 | AE43: 2042 | AF43: 2043 | AG43: 2044 | AH43: 2045 | AI43: 2046 | AJ43: 2047 | AK43: 2048 | AL43: 2049 | AM43: 2050 | AN43: 2051 | AO43: 2052 | AP43: 2053 | AQ43: 2054 | AR43: 2055 | AS43: 2056 | AT43: 2057 | AU43: 2058 | AV43: 2059 | AW43: 2060 | AX43: 2061 | AY43: 2062 | AZ43: 2063 | BA43: 2064 | BB43: 2065 | BC43: 2066 | BD43: 2067 | BE43: 2068 | BF43: 2069 | BG43: 2070 | BH43: 2071 | BI43: 2072 | BJ43: 2073 | BK43: 2074 | BL43: 2075 | BM43: 2076 | BN43: 2077 | BO43: 2078 | BP43: 2079 | BQ43: 2080 | BR43: 2081 | BS43: 2082 | BT43: 2083 | BU43: 2084 | BV43: 2085 | BW43: 2086 | BX43: 2087 | BY43: 2088 | BZ43: 2089 | CA43: 2090 | CB43: 2091 | CC43: 2092 | CD43: 2093 | CE43: 2094 | CF43: 2095
B44: Statut | C44: Salarié | D44: Salarié | E44: Salarié | F44: Salarié | G44: Salarié | H44: =VLOOKUP(H43,'Statut d''emploi'!$B$5:$F$87,5,0) -> #VALUE! | I44: =VLOOKUP(I43,'Statut d''emploi'!$B$5:$F$87,5,0) -> #VALUE! | J44: =VLOOKUP(J43,'Statut d''emploi'!$B$5:$F$87,5,0) -> #VALUE! | K44: =VLOOKUP(K43,'Statut d''emploi'!$B$5:$F$87,5,0) -> #VALUE! | L44: =VLOOKUP(L43,'Statut d''emploi'!$B$5:$F$87,5,0) -> #VALUE! | M44: =VLOOKUP(M43,'Statut d''emploi'!$B$5:$F$87,5,0) -> #VALUE! | N44: =VLOOKUP(N43,'Statut d''emploi'!$B$5:$F$87,5,0) -> #VALUE! | O44: =VLOOKUP(O43,'Statut d''emploi'!$B$5:$F$87,5,0) -> #VALUE! | ... CF44: =VLOOKUP(CF43,'Statut d''emploi'!$B$5:$F$87,5,0) -> #VALUE!
B45: Rang salaire | C45: =RANK(C46,$C$46:$CE$46) -> #VALUE! | D45: =RANK(D46,$C$46:$CE$46) -> #VALUE! | E45: =RANK(E46,$C$46:$CE$46) -> #VALUE! | F45: =RANK(F46,$C$46:$CE$46) -> #VALUE! | G45: =RANK(G46,$C$46:$CE$46) -> #VALUE! | H45: =RANK(H46,$C$46:$CE$46) -> #VALUE! | I45: =RANK(I46,$C$46:$CE$46) -> #VALUE! | J45: =RANK(J46,$C$46:$CE$46) -> #VALUE! | ... CF45: =RANK(CF46,$C$46:$CE$46) -> #VALUE!
B46: Salaire | C46: =SUMPRODUCT(('Critères de recherche'!C10='EntenteJuil2019 (avec boni)'!$E$11:$E$114)*('Critères de recherche'!C11='EntenteJuil2019 (avec boni)'!$G$11:$G$114)*('EntenteJuil2019 (avec boni)'!$I$11:$I$114)) -> 0 | D46: =SUMPRODUCT(('Critères de recherche'!C10='EntenteJuil2019 (avec boni)'!$E$11:$E$114)*('Critères de recherche'!C11='EntenteJuil2019 (avec boni)'!$G$11:$G$114)*('EntenteJuil2019 (avec boni)'!$J$11:$J$114)) -> 0 | E46: =SUMPRODUCT(('Critères de recherche'!C10='EntenteJuil2019 (avec boni)'!$E$11:$E$114)*('Critères de recherche'!C11='EntenteJuil2019 (avec boni)'!$G$11:$G$114)*('EntenteJuil2019 (avec boni)'!$K$11:$K$114)) -> 0 | F46: =SUMPRODUCT(('Critères de recherche'!C10='EntenteJuil2019 (avec boni)'!$E$11:$E$114)*('Critères de recherche'!C11='EntenteJuil2019 (avec boni)'!$G$11:$G$114)*('EntenteJuil2019 (avec boni)'!$L$11:$L$114)) -> 0 | G46: =SUMPRODUCT(('Critères de recherche'!C10='EntenteJuil2019 (avec boni)'!$E$11:$E$114)*('Critères de recherche'!C11='EntenteJuil2019 (avec boni)'!$G$11:$G$114)*('EntenteJuil2019 (avec boni)'!$M$11:$M$114)) -> 0 | H46: =IF(H44="Salarié",SUMPRODUCT(('Critères de recherche'!$C$10='EntenteJuil2019 (avec boni)'!$E$11:$E$114)*(SUMPRODUCT(('Impact intégration du boni'!H43='Statut d''emploi'!$B$5:$B$87)*('Statut d''emploi'!$H$5:$H$87))='EntenteJuil2019 (avec boni)'!$G$11:$G$114)*('EntenteJuil2019 (avec boni)'!N$11:N$114)),0) -> #VALUE! | I46: =IF(I44="Salarié",SUMPRODUCT(('Critères de recherche'!$C$10='EntenteJuil2019 (avec boni)'!$E$11:$E$114)*(SUMPRODUCT(('Impact intégration du boni'!I43='Statut d''emploi'!$B$5:$B$87)*('Statut d''emploi'!$H$5:$H$87))='EntenteJuil2019 (avec boni)'!$G$11:$G$114)*('EntenteJuil2019 (avec boni)'!O$11:O$114)),0) -> #VALUE! | J46: =IF(J44="Salarié",IF('Critères de recherche'!$N13>0.01,SUMPRODUCT(('Critères de recherche'!$C$10='EntenteJuil2019 (avec boni)'!$E$11:$E$114)*(SUMPRODUCT(('Impact intégration du boni'!J43='Statut d''emploi'!$B$5:$B$87)*('Statut d''emploi'!$H$5:$H$87))='EntenteJuil2019 (avec boni)'!$G$11:$G$114)*('EntenteJuil2019 (avec boni)'!CM$11:CM$114)),SUMPRODUCT(('Critères de recherche'!$C$10='EntenteJuil2019 (avec boni)'!$E$11:$E$114)*(SUMPRODUCT(('Impact intégration du boni'!J43='Statut d''emploi'!$B$5:$B$87)*('Statut d''emploi'!$H$5:$H$87))='EntenteJuil2019 (avec boni)'!$G$11:$G$114)*('EntenteJuil2019 (avec boni)'!P$11:P$114))),0) -> #VALUE! | K46: =IF(K44="Salarié",IF('Critères de recherche'!$N13>0.01,SUMPRODUCT(('Critères de recherche'!$C$10='EntenteJuil2019 (avec boni)'!$E$11:$E$114)*(SUMPRODUCT(('Impact intégration du boni'!K43='Statut d''emploi'!$B$5:$B$87)*('Statut d''emploi'!$H$5:$H$87))='EntenteJuil2019 (avec boni)'!$G$11:$G$114)*('EntenteJuil2019 (avec boni)'!CN$11:CN$114)),SUMPRODUCT(('Critères de recherche'!$C$10='EntenteJuil2019 (avec boni)'!$E$11:$E$114)*(SUMPRODUCT(('Impact intégration du boni'!K43='Statut d''emploi'!$B$5:$B$87)*('Statut d''emploi'!$H$5:$H$87))='EntenteJuil2019 (avec boni)'!$G$11:$G$114)*('EntenteJuil2019 (avec boni)'!Q$11:Q$114))),0) -> #VALUE! | L46: =IF(L44="Salarié",IF('Critères de recherche'!$N13>0.01,SUMPRODUCT(('Critères de recherche'!$C$10='EntenteJuil2019 (avec boni)'!$E$11:$E$114)*(SUMPRODUCT(('Impact intégration du boni'!L43='Statut d''emploi'!$B$5:$B$87)*('Statut d''emploi'!$H$5:$H$87))='EntenteJuil2019 (avec boni)'!$G$11:$G$114)*('EntenteJuil2019 (avec boni)'!CO$11:CO$114)),SUMPRODUCT(('Critères de recherche'!$C$10='EntenteJuil2019 (avec boni)'!$E$11:$E$114)*(SUMPRODUCT(('Impact intégration du boni'!L43='Statut d''emploi'!$B$5:$B$87)*('Statut d''emploi'!$H$5:$H$87))='EntenteJuil2019 (avec boni)'!$G$11:$G$114)*('EntenteJuil2019 (avec boni)'!R$11:R$114))),0) -> #VALUE! | M46: =IF(M44="Salarié",IF('Critères de recherche'!$N13>0.01,SUMPRODUCT(('Critères de recherche'!$C$10='EntenteJuil2019 (avec boni)'!$E$11:$E$114)*(SUMPRODUCT(('Impact intégration du boni'!M43='Statut d''emploi'!$B$5:$B$87)*('Statut d''emploi'!$H$5:$H$87))='EntenteJuil2019 (avec boni)'!$G$11:$G$114)*('EntenteJuil2019 (avec boni)'!CP$11:CP$114)),SUMPRODUCT(('Critères de recherche'!$C$10='EntenteJuil2019 (avec boni)'!$E$11:$E$114)*(SUMPRODUCT(('Impact intégration du boni'!M43='Statut d''emploi'!$B$5:$B$87)*('Statut d''emploi'!$H$5:$H$87))='EntenteJuil2019 (avec boni)'!$G$11:$G$114)*('EntenteJuil2019 (avec boni)'!S$11:S$114))),0) -> #VALUE! | N46: =IF(N44="Salarié",SUMPRODUCT(('Critères de recherche'!$C$10='EntenteJuil2019 (avec boni)'!$E$11:$E$114)*(SUMPRODUCT(('Impact intégration du boni'!N43='Statut d''emploi'!$B$5:$B$87)*('Statut d''emploi'!$H$5:$H$87))='EntenteJuil2019 (avec boni)'!$G$11:$G$114)*('EntenteJuil2019 (avec boni)'!T$11:T$114)),0) -> #VALUE! | O46: =IF(O44="Salarié",SUMPRODUCT(('Critères de recherche'!$C$10='EntenteJuil2019 (avec boni)'!$E$11:$E$114)*(SUMPRODUCT(('Impact intégration du boni'!O43='Statut d''emploi'!$B$5:$B$87)*('Statut d''emploi'!$H$5:$H$87))='EntenteJuil2019 (avec boni)'!$G$11:$G$114)*('EntenteJuil2019 (avec boni)'!U$11:U$114)),0) -> #VALUE! | P46: =IF(P44="Salarié",SUMPRODUCT(('Critères de recherche'!$C$10='EntenteJuil2019 (avec boni)'!$E$11:$E$114)*(SUMPRODUCT(('Impact intégration du boni'!P43='Statut d''emploi'!$B$5:$B$87)*('Statut d''emploi'!$H$5:$H$87))='EntenteJuil2019 (avec boni)'!$G$11:$G$114)*('EntenteJuil2019 (avec boni)'!V$11:V$114)),0) -> #VALUE! | Q46: =IF(Q44="Salarié",SUMPRODUCT(('Critères de recherche'!$C$10='EntenteJuil2019 (avec boni)'!$E$11:$E$114)*(SUMPRODUCT(('Impact intégration du boni'!Q43='Statut d''emploi'!$B$5:$B$87)*('Statut d''emploi'!$H$5:$H$87))='EntenteJuil2019 (avec boni)'!$G$11:$G$114)*('EntenteJuil2019 (avec boni)'!W$11:W$114)),0) -> #VALUE! | R46: =IF(R44="Salarié",SUMPRODUCT(('Critères de recherche'!$C$10='EntenteJuil2019 (avec boni)'!$E$11:$E$114)*(SUMPRODUCT(('Impact intégration du boni'!R43='Statut d''emploi'!$B$5:$B$87)*('Statut d''emploi'!$H$5:$H$87))='EntenteJuil2019 (avec boni)'!$G$11:$G$114)*('EntenteJuil2019 (avec boni)'!X$11:X$114)),0) -> #VALUE! | S46: =IF(S44="Salarié",SUMPRODUCT(('Critères de recherche'!$C$10='EntenteJuil2019 (avec boni)'!$E$11:$E$114)*(SUMPRODUCT(('Impact intégration du boni'!S43='Statut d''emploi'!$B$5:$B$87)*('Statut d''emploi'!$H$5:$H$87))='EntenteJuil2019 (avec boni)'!$G$11:$G$114)*('EntenteJuil2019 (avec boni)'!Y$11:Y$114)),0) -> #VALUE! | T46: =IF(T44="Salarié",SUMPRODUCT(('Critères de recherche'!$C$10='EntenteJuil2019 (avec boni)'!$E$11:$E$114)*(SUMPRODUCT(('Impact intégration du boni'!T43='Statut d''emploi'!$B$5:$B$87)*('Statut d''emploi'!$H$5:$H$87))='EntenteJuil2019 (avec boni)'!$G$11:$G$114)*('EntenteJuil2019 (avec boni)'!Z$11:Z$114)),0) -> #VALUE! | U46: =IF(U44="Salarié",SUMPRODUCT(('Critères de recherche'!$C$10='EntenteJuil2019 (avec boni)'!$E$11:$E$114)*(SUMPRODUCT(('Impact intégration du boni'!U43='Statut d''emploi'!$B$5:$B$87)*('Statut d''emploi'!$H$5:$H$87))='EntenteJuil2019 (avec boni)'!$G$11:$G$114)*('EntenteJuil2019 (avec boni)'!AA$11:AA$114)),0) -> #VALUE! | ... CF46: =IF(CF44="Salarié",SUMPRODUCT(('Critères de recherche'!$C$10='EntenteJuil2019 (avec boni)'!$E$11:$E$114)*(SUMPRODUCT(('Impact intégration du boni'!CF43='Statut d''emploi'!$B$5:$B$87)*('Statut d''emploi'!$H$5:$H$87))='EntenteJuil2019 (avec boni)'!$G$11:$G$114)*('EntenteJuil2019 (avec boni)'!CL$11:CL$114)),0) -> #VALUE!
B47: Bonification | C47: =IF(C44="Salarié",IF(C37<>"",C46*C37,0),0) -> 0 | D47: =IF(D44="Salarié",IF(D37<>"",D46*D37,0),0) -> 0 | E47: =IF(E44="Salarié",IF(E37<>"",E46*E37,0),0) -> 0 | F47: =IF(F44="Salarié",IF(F37<>"",F46*F37,0),0) -> 0 | G47: =IF(G44="Salarié",IF(G37<>"",G46*G37,0),0) -> 0 | H47: =IF(H44="Salarié",IF(H37<>"",H46*H37,0),0) -> #VALUE! | I47: =IF(I44="Salarié",IF(I37<>"",I46*I37,0),0) -> #VALUE! | J47: =IF(J44="Salarié",IF(J37<>"",J46*J37,0),0) -> #VALUE! | ... CF47: =IF(CF44="Salarié",IF(CF37<>"",CF46*CF37,0),0) -> #VALUE!
B48: Gain retraite | C48: =IF(C44="Retraité",IF(B48=0,$D$70,B48*(1+C38)),0) -> 0 | D48: =IF(D44="Retraité",IF(C48=0,$D$70,C48*(1+D38)),0) -> 0 | E48: =IF(E44="Retraité",IF(D48=0,$D$70,D48*(1+E38)),0) -> 0 | F48: =IF(F44="Retraité",IF(E48=0,$D$70,E48*(1+F38)),0) -> 0 | G48: =IF(G44="Retraité",IF(F48=0,$D$70,F48*(1+G38)),0) -> 0 | H48: =IF(H44="Retraité",IF(G48=0,$D$70,G48*(1+H38)),0) -> #VALUE! | I48: =IF(I44="Retraité",IF(H48=0,$D$70,H48*(1+I38)),0) -> #VALUE! | J48: =IF(J44="Retraité",IF(I48=0,$D$70,I48*(1+J38)),0) -> #VALUE! | ... CF48: =IF(CF44="Retraité",IF(CE48=0,$D$70,CE48*(1+CF38)),0) -> #VALUE!
B49: Total | C49: =SUM(C46:C48) -> 0 | D49: =SUM(D46:D48) -> 0 | E49: =SUM(E46:E48) -> 0 | F49: =SUM(F46:F48) -> 0 | G49: =SUM(G46:G48) -> 0 | H49: =SUM(H46:H48) -> #VALUE! | I49: =SUM(I46:I48) -> #VALUE! | J49: =SUM(J46:J48) -> #VALUE! | ... CF49: =SUM(CF46:CF48) -> #VALUE!
B53: Comparaisons | G53: Valeur des compteurs actuels (à la retraite) | N53: Valeur des 3 jours maladie vs compte santé et ass. ICD
C55: Entente de principe (SANS intégration)- Juillet 2019 | D55: Entente de principe (AVEC intégration)- Juillet 2019 | E55: Différence | J55: Entente de principe (SANS intégration)- Juillet 2019 | K55: Entente de principe (AVEC intégration)- Juillet 2019 | L55: Différence | Q55: Entente de principe (SANS intégration)- Juillet 2019 | R55: Entente de principe (AVEC intégration)- Juillet 2019 | S55: Différence
B56: Gains futurs - Carrière | G56: Nombre de vacances accumulées (hrs)* | J56: =IF('Critères de recherche'!T10>0,MAX($G$26:$CF$26)/1826.3*'Critères de recherche'!T10,0) -> 0 | K56: =IF('Critères de recherche'!T10>0,MAX($G$46:$CF$46)/1826.3*'Critères de recherche'!T10,0) -> 0 | L56: =K56-J56 -> 0 | N56: Valeur future 3 jours maladie | Q56: =IFERROR(SUM(H26:CF26)/('Critères de recherche'!I11*1826.3)*7*'Critères de recherche'!I11*3,0) -> 0 | S56: =R56-Q56 -> 0
B57: Salaire total | C57: =SUM(H26:CF26) -> #VALUE! | D57: =SUM(H46:CF46) -> #VALUE! | E57: =D57-C57 -> #VALUE! | G57: Nombre de fériés accumulées (hrs) | J57: =IF('Critères de recherche'!T11>0,MAX($G$26:$CF$26)/1826.3*'Critères de recherche'!T11,0) -> 0 | K57: =IF('Critères de recherche'!T11>0,MAX($G$46:$CF$46)/1826.3*'Critères de recherche'!T11,0) -> 0 | L57: =K57-J57 -> 0 | N57: Valeur compte santé (450 $ par année) | R57: ='Critères de recherche'!I11*450 -> #VALUE! | S57: =R57-Q57 -> #VALUE!
B58: Bonification | C58: =SUM(H27:CF27) -> #VALUE! | D58: =SUM(H47:CF47) -> #VALUE! | E58: =D58-C58 -> #VALUE! | G58: Nombre d'heures supplémentaires (hrs) | J58: =IF('Critères de recherche'!T12>0,MAX($G$26:$CF$26)/1826.3*'Critères de recherche'!T12,0) -> 0 | K58: =IF('Critères de recherche'!T12>0,MAX($G$46:$CF$46)/1826.3*'Critères de recherche'!T12,0) -> 0 | L58: =K58-J58 -> 0 | N58: Coût assurance-salaire payé par l'employeur | R58: =0.00625819682953235*SUM(H46:CF46)/2 -> #VALUE! | S58: =R58-Q58 -> #VALUE!
B59: Rémunération totale future | C59: =C57+C58 -> #VALUE! | D59: =SUM(D57:D58) -> #VALUE! | E59: =D59-C59 -> #VALUE! | G59: Compteur maladies (hrs) | J59: =IF('Critères de recherche'!T13>0,MAX($G$26:$CF$26)/1826.3*'Critères de recherche'!T13,0) -> 0 | K59: =IF('Critères de recherche'!T13>0,MAX($G$46:$CF$46)/1826.3*'Critères de recherche'!T13,0) -> 0 | L59: =K59-J59 -> 0 | N59: Valeur totale | Q59: =SUM(Q56:Q58) -> 0 | R59: =SUM(R56:R58) -> #VALUE! | S59: =R59-Q59 -> #VALUE!
G60: Valeur totale des compteurs | J60: =SUM(J56:J59) -> 0 | K60: =SUM(K56:K59) -> 0 | L60: =K60-J60 -> 0 | S60: =S59/'Critères de recherche'!I11 -> #VALUE!
B61: Calcul de la retraite
B62: Année 1 | C62: =HLOOKUP(1,$C$25:$CF$26,2,0) -> #N/A | D62: =HLOOKUP(1,$C$45:$CF$46,2,0) -> #N/A | E62: =D62-C62 -> #N/A
B63: Année 2 | C63: =HLOOKUP(2,$C$25:$CF$26,2,0) -> #N/A | D63: =HLOOKUP(2,$C$45:$CF$46,2,0) -> #N/A | E63: =D63-C63 -> #N/A
B64: Année 3 | C64: =HLOOKUP(3,$C$25:$CF$26,2,0) -> #N/A | D64: =HLOOKUP(3,$C$45:$CF$46,2,0) -> #N/A | E64: =D64-C64 -> #N/A
B65: Année 4 | C65: =HLOOKUP(4,$C$25:$CF$26,2,0) -> #N/A | D65: =HLOOKUP(4,$C$45:$CF$46,2,0) -> #N/A | E65: =D65-C65 -> #N/A
B66: Année 5 | C66: =HLOOKUP(5,$C$25:$CF$26,2,0) -> #N/A | D66: =HLOOKUP(5,$C$45:$CF$46,2,0) -> #N/A | E66: =D66-C66 -> #N/A
B67: Moyenne 5 meilleures années | C67: =AVERAGE(C62:C66) -> #N/A | D67: =AVERAGE(D62:D66) -> #N/A | E67: =D67-C67 -> #N/A
B68: Nombre d'année de service - cible | C68: ='Critères de recherche'!I11+'Critères de recherche'!C17 -> #VALUE! | D68: ='Critères de recherche'!I11+'Critères de recherche'!C17 -> #VALUE!
B69: Pourcentage maximum | C69: =C68*2% -> #VALUE! | D69: =D68*2% -> #VALUE!
B70: Gain retraite (1ère année) | C70: =C67*C69 -> #N/A | D70: =D67*D69 -> #N/A | E70: =D70-C70 -> #N/A
B71: Gain total retraite | C71: =SUM(G28:CF28) -> #VALUE! | D71: =SUM(H48:CF48) -> #VALUE! | E71: =D71-C71 -> #VALUE!
B72: Gains totaux (Carrière + retraite) | C72: =C71+C59 -> #VALUE! | D72: =D71+D59 -> #VALUE! | E72: =D72-C72 -> #VALUE!
B76: Remarques
B77: Les scénarios de base ci-inclus impliquent des augmentations annuelles de 2% pour les 6 ans de la convention collective, le maintien des 3 jours maladies, le maintien du boni actuel à à vie à 3,98% (scénario Hypothèse 2%)
B78: et des augmentations salariales prévues dans l'entente de principe (juillet 2019), l'intégration du boni, l'ajout d'un compte santé, le paiement de l'assurance-salaire à 100% par l'employeur, une clause remorque avec
B79: la fonction publique à 0% pour 2021 et le paiement des 12 journées maladie à partir de juin 2021 (4 jours) et de juin 2022 (12 jours)
B81: Il exclut toutefois, le paiement des 12 journées maladie à partir de juin 2021
B83: L'outil permet également de calculer l'impact du retrait du boni au cours de x années, une clause remorque avec la Fonction publique et statistiques différentes en lien avec la longévité (nombre d'années à la retraite)

Sheet EntenteJuil2019 (avec boni)
F1: ÉCHELLES DE TRAITEMENT CONVENTION 2019-2025 (Entente de principe - Juillet 2019)
E3: Paramètres d'augmentation
E4: Augmentation salariale | N4: 0.0175 | O4: 0 | P4: 0.01 | Q4: 0.015 | R4: 0.0175 | S4: 0.02 | T4: 0.02 | U4: 0.02 | V4: 0.02 | W4: 0.02 | X4: 0.02 | Y4: 0.02 | Z4: 0.02 | AA4: 0.02 | AB4: 0.02 | AC4: 0.02 | AD4: 0.02 | AE4: 0.02 | AF4: 0.02 | AG4: 0.02 | AH4: 0.02 | AI4: 0.02 | AJ4: 0.02 | AK4: 0.02 | AL4: 0.02 | AM4: 0.02 | AN4: 0.02 | AO4: 0.02 | AP4: 0.02 | AQ4: 0.02 | AR4: 0.02 | AS4: 0.02 | AT4: 0.02 | AU4: 0.02 | AV4: 0.02 | AW4: 0.02 | AX4: 0.02 | AY4: 0.02 | AZ4: 0.02 | BA4: 0.02 | BB4: 0.02 | BC4: 0.02 | BD4: 0.02 | BE4: 0.02 | BF4: 0.02 | BG4: 0.02 | BH4: 0.02 | BI4: 0.02 | BJ4: 0.02 | BK4: 0.02 | BL4: 0.02 | BM4: 0.02 | BN4: 0.02 | BO4: 0.02 | BP4: 0.02 | BQ4: 0.02 | BR4: 0.02 | BS4: 0.02 | BT4: 0.02 | BU4: 0.02 | BV4: 0.02 | BW4: 0.02 | BX4: 0.02 | BY4: 0.02 | BZ4: 0.02 | CA4: 0.02 | CB4: 0.02 | CC4: 0.02 | CD4: 0.02 | CE4: 0.02 | CF4: 0.02 | CG4: 0.02 | CH4: 0.02 | CI4: 0.02 | CJ4: 0.02 | CK4: 0.02 | CL4: 0.02 | CM4: 0.01 | CN4: 0.015 | CO4: 0.0175 | CP4: 0.02
E5: Clause remorque Fonction publique | P5: =SUMPRODUCT(('Critères de recherche'!$N13='Statut d''emploi'!$J$5:$J$35)*('Statut d''emploi'!$K$5:$K$35)) -> 0 | CM5: =SUMPRODUCT(('Critères de recherche'!$N13='Statut d''emploi'!$J$5:$J$35)*('Statut d''emploi'!$K$5:$K$35)) -> 0
E6: Intégration du boni | N6: 0.0175 | P6: 0.01 | Q6: 0.0075 | CM6: 0.01 | CN6: 0.0075
E7: Boni | N7: 0.015 | O7: 0.015
CM9: Éventualité où la fonction publique a plus de 1% en 2021
E10: Titre | F10: Échelon | G10: Équivalant Échelons 2018 | H10: Nb échelons max | I10: Salaire 2014 | J10: Salaire 2015 | K10: Salaire 2016 | L10: Salaire 2017 | M10: Salaire 2018 | N10: Salaire 2019 | O10: Salaire 2020 | P10: Salaire 2021 | Q10: Salaire 2022 | R10: Salaire 2023 | S10: Salaire 2024 | T10: Salaire 2025 | U10: Salaire 2026 | V10: Salaire 2027 | W10: Salaire 2028 | X10: Salaire 2029 | Y10: Salaire 2030 | Z10: Salaire 2031 | AA10: Salaire 2032 | AB10: Salaire 2033 | AC10: Salaire 2034 | AD10: Salaire 2035 | AE10: Salaire 2036 | AF10: Salaire 2037 | AG10: Salaire 2038 | AH10: Salaire 2039 | AI10: Salaire 2040 | AJ10: Salaire 2041 | AK10: Salaire 2042 | AL10: Salaire 2043 | AM10: Salaire 2044 | AN10: Salaire 2045 | AO10: Salaire 2046 | AP10: Salaire 2047 | AQ10: Salaire 2048 | AR10: Salaire 2049 | AS10: Salaire 2050 | AT10: Salaire 2051 | AU10: Salaire 2052 | AV10: Salaire 2053 | AW10: Salaire 2054 | AX10: Salaire 2055 | AY10: Salaire 2056 | AZ10: Salaire 2057 | BA10: Salaire 2058 | BB10: Salaire 2059 | BC10: Salaire 2060 | BD10: Salaire 2061 | BE10: Salaire 2062 | BF10: Salaire 2063 | BG10: Salaire 2064 | BH10: Salaire 2065 | BI10: Salaire 2066 | BJ10: Salaire 2067 | BK10: Salaire 2068 | BL10: Salaire 2069 | BM10: Salaire 2070 | BN10: Salaire 2071 | BO10: Salaire 2072 | BP10: Salaire 2073 | BQ10: Salaire 2074 | BR10: Salaire 2075 | BS10: Salaire 2076 | BT10: Salaire 2077 | BU10: Salaire 2078 | BV10: Salaire 2079 | BW10: Salaire 2080 | BX10: Salaire 2081 | BY10: Salaire 2082 | BZ10: Salaire 2083 | CA10: Salaire 2084 | CB10: Salaire 2085 | CC10: Salaire 2086 | CD10: Salaire 2087 | CE10: Salaire 2088 | CF10: Salaire 2089 | CG10: Salaire 2090 | CH10: Salaire 2091 | CI10: Salaire 2092 | CJ10: Salaire 2093 | CK10: Salaire 2094 | CL10: Salaire 2095 | CM10: Salaire 2021 | CN10: Salaire 2022 | CO10: Salaire 2023 | CP10: Salaire 2024
E11: AgentDeBureauCL1 | F11: 1 | G11: 1 | H11: 7 | I11: 33568 | J11: 34239 | K11: 34924 | L11: 35622 | M11: 36334 | N11: 37605.69 | O11: 38401 | P11: 39169 | Q11: 40050 | R11: 40751 | S11: 41566 | T11: =IF('Critères de recherche'!$N$13>0.01,CP11*(1+T$4),S11*(1+T$4)) -> 42397.32 | U11: =T11*(1+U$4) -> 43245.266 | V11: =U11*(1+V$4) -> 44110.172 | W11: =V11*(1+W$4) -> 44992.375 | X11: =W11*(1+X$4) -> 45892.223 | Y11: =X11*(1+Y$4) -> 46810.067 | Z11: =Y11*(1+Z$4) -> 47746.268 | AA11: =Z11*(1+AA$4) -> 48701.194 | AB11: =AA11*(1+AB$4) -> 49675.218 | ... CL11: =CK11*(1+CL$4) -> 169570.55 | CM11: =IF('Critères de recherche'!$N$13>0.01,'EntenteJuil2019 (avec boni)'!O11*(1.01+'Critères de recherche'!$N$13),0) -> 0 | CN11: =IF(CM11<>0,CM11*(CN$4+CN$6+1),0) -> 0 | CO11: =IF(CN11<>0,CN11*(CO$4+CO$6+1),0) -> 0 | CP11: =IF(CO11<>0,CO11*(CP$4+CP$6+1),0) -> 0
E12: AgentDeBureauCL1 | F12: 2 | G12: 2 | H12: 7 | I12: 34741 | J12: 35436 | K12: 36145 | L12: 36868 | M12: 37605 | N12: 38921.175 | O12: 39745 | P12: 40540 | Q12: 41452 | R12: 42177 | S12: 43021 | T12: =IF('Critères de recherche'!$N$13>0.01,CP12*(1+T$4),S12*(1+T$4)) -> 43881.42 | U12: =T12*(1+U$4) -> 44759.048 | V12: =U12*(1+V$4) -> 45654.229 | W12: =V12*(1+W$4) -> 46567.314 | X12: =W12*(1+X$4) -> 47498.66 | Y12: =X12*(1+Y$4) -> 48448.633 | Z12: =Y12*(1+Z$4) -> 49417.606 | AA12: =Z12*(1+AA$4) -> 50405.958 | AB12: =AA12*(1+AB$4) -> 51414.077 | ... CL12: =CK12*(1+CL$4) -> 175506.29 | CM12: =IF('Critères de recherche'!$N$13>0.01,'EntenteJuil2019 (avec boni)'!O12*(1.01+'Critères de recherche'!$N$13),0) -> 0 | CN12: =IF(CM12<>0,CM12*(CN$4+CN$6+1),0) -> 0 | CO12: =IF(CN12<>0,CN12*(CO$4+CO$6+1),0) -> 0 | CP12: =IF(CO12<>0,CO12*(CP$4+CP$6+1),0) -> 0
E13: AgentDeBureauCL1 | F13: 3 | G13: 3 | H13: 7 | I13: 35953 | J13: 36672 | K13: 37405 | L13: 38153 | M13: 38916 | N13: 40278.06 | O13: 41136 | P13: 41959 | Q13: 42903 | R13: 43654 | S13: 44527 | T13: =IF('Critères de recherche'!$N$13>0.01,CP13*(1+T$4),S13*(1+T$4)) -> 45417.54 | U13: =T13*(1+U$4) -> 46325.891 | V13: =U13*(1+V$4) -> 47252.409 | W13: =V13*(1+W$4) -> 48197.457 | X13: =W13*(1+X$4) -> 49161.406 | Y13: =X13*(1+Y$4) -> 50144.634 | Z13: =Y13*(1+Z$4) -> 51147.527 | AA13: =Z13*(1+AA$4) -> 52170.477 | AB13: =AA13*(1+AB$4) -> 53213.887 | ... CL13: =CK13*(1+CL$4) -> 181650.1 | CM13: =IF('Critères de recherche'!$N$13>0.01,'EntenteJuil2019 (avec boni)'!O13*(1.01+'Critères de recherche'!$N$13),0) -> 0 | CN13: =IF(CM13<>0,CM13*(CN$4+CN$6+1),0) -> 0 | CO13: =IF(CN13<>0,CN13*(CO$4+CO$6+1),0) -> 0 | CP13: =IF(CO13<>0,CO13*(CP$4+CP$6+1),0) -> 0
E14: AgentDeBureauCL1 | F14: 4 | G14: 4 | H14: 7 | I14: 37182 | J14: 37926 | K14: 38685 | L14: 39459 | M14: 40248 | N14: 41656.68 | O14: 42576 | P14: 43428 | Q14: 44405 | R14: 45182 | S14: 46086 | T14: =IF('Critères de recherche'!$N$13>0.01,CP14*(1+T$4),S14*(1+T$4)) -> 47007.72 | U14: =T14*(1+U$4) -> 47947.874 | V14: =U14*(1+V$4) -> 48906.832 | W14: =V14*(1+W$4) -> 49884.969 | X14: =W14*(1+X$4) -> 50882.668 | Y14: =X14*(1+Y$4) -> 51900.321 | Z14: =Y14*(1+Z$4) -> 52938.328 | AA14: =Z14*(1+AA$4) -> 53997.094 | AB14: =AA14*(1+AB$4) -> 55077.036 | ... CL14: =CK14*(1+CL$4) -> 188010.11 | CM14: =IF('Critères de recherche'!$N$13>0.01,'EntenteJuil2019 (avec boni)'!O14*(1.01+'Critères de recherche'!$N$13),0) -> 0 | CN14: =IF(CM14<>0,CM14*(CN$4+CN$6+1),0) -> 0 | CO14: =IF(CN14<>0,CN14*(CO$4+CO$6+1),0) -> 0 | CP14: =IF(CO14<>0,CO14*(CP$4+CP$6+1),0) -> 0
E15: AgentDeBureauCL1 | F15: 5 | G15: 5 | H15: 7 | I15: 38411 | J15: 39179 | K15: 39963 | L15: 40762 | M15: 41577 | N15: 43032.195 | O15: 44066 | P15: 44947 | Q15: 45958 | R15: 46762 | S15: 47697 | T15: =IF('Critères de recherche'!$N$13>0.01,CP15*(1+T$4),S15*(1+T$4)) -> 48650.94 | U15: =T15*(1+U$4) -> 49623.959 | V15: =U15*(1+V$4) -> 50616.438 | W15: =V15*(1+W$4) -> 51628.767 | X15: =W15*(1+X$4) -> 52661.342 | Y15: =X15*(1+Y$4) -> 53714.569 | Z15: =Y15*(1+Z$4) -> 54788.86 | AA15: =Z15*(1+AA$4) -> 55884.637 | AB15: =AA15*(1+AB$4) -> 57002.33 | ... CL15: =CK15*(1+CL$4) -> 194582.27 | CM15: =IF('Critères de recherche'!$N$13>0.01,'EntenteJuil2019 (avec boni)'!O15*(1.01+'Critères de recherche'!$N$13),0) -> 0 | CN15: =IF(CM15<>0,CM15*(CN$4+CN$6+1),0) -> 0 | CO15: =IF(CN15<>0,CN15*(CO$4+CO$6+1),0) -> 0 | CP15: =IF(CO15<>0,CO15*(CP$4+CP$6+1),0) -> 0
E16: AgentDeBureauCL1 | F16: 6 | G16: 6 | H16: 7 | I16: 39752 | J16: 40547 | K16: 41358 | L16: 42185 | M16: 43029 | N16: 44535.015 | O16: 45608 | P16: 46520 | Q16: 47567 | R16: 48399 | S16: 49367 | T16: =IF('Critères de recherche'!$N$13>0.01,CP16*(1+T$4),S16*(1+T$4)) -> 50354.34 | U16: =T16*(1+U$4) -> 51361.427 | V16: =U16*(1+V$4) -> 52388.655 | W16: =V16*(1+W$4) -> 53436.428 | X16: =W16*(1+X$4) -> 54505.157 | Y16: =X16*(1+Y$4) -> 55595.26 | Z16: =Y16*(1+Z$4) -> 56707.165 | AA16: =Z16*(1+AA$4) -> 57841.309 | AB16: =AA16*(1+AB$4) -> 58998.135 | ... CL16: =CK16*(1+CL$4) -> 201395.11 | CM16: =IF('Critères de recherche'!$N$13>0.01,'EntenteJuil2019 (avec boni)'!O16*(1.01+'Critères de recherche'!$N$13),0) -> 0 | CN16: =IF(CM16<>0,CM16*(CN$4+CN$6+1),0) -> 0 | CO16: =IF(CN16<>0,CN16*(CO$4+CO$6+1),0) -> 0 | CP16: =IF(CO16<>0,CO16*(CP$4+CP$6+1),0) -> 0
E17: AgentDeBureauCL1 | F17: 7 | G17: 7 | H17: 7 | I17: 41112 | J17: 41934 | K17: 42773 | L17: 43628 | M17: 44501 | N17: 46058.535 | O17: 47441 | P17: 48390 | Q17: 49479 | R17: 50345 | S17: 51352 | T17: =IF('Critères de recherche'!$N$13>0.01,CP17*(1+T$4),S17*(1+T$4)) -> 52379.04 | U17: =T17*(1+U$4) -> 53426.621 | V17: =U17*(1+V$4) -> 54495.153 | W17: =V17*(1+W$4) -> 55585.056 | X17: =W17*(1+X$4) -> 56696.757 | Y17: =X17*(1+Y$4) -> 57830.693 | Z17: =Y17*(1+Z$4) -> 58987.306 | AA17: =Z17*(1+AA$4) -> 60167.053 | AB17: =AA17*(1+AB$4) -> 61370.394 | ... CL17: =CK17*(1+CL$4) -> 209493.02 | CM17: =IF('Critères de recherche'!$N$13>0.01,'EntenteJuil2019 (avec boni)'!O17*(1.01+'Critères de recherche'!$N$13),0) -> 0 | CN17: =IF(CM17<>0,CM17*(CN$4+CN$6+1),0) -> 0 | CO17: =IF(CN17<>0,CN17*(CO$4+CO$6+1),0) -> 0 | CP17: =IF(CO17<>0,CO17*(CP$4+CP$6+1),0) -> 0
E18: AgentDeBureauCP | F18: 1 | G18: 0 | H18: 6 | N18: 0 | O18: 50805 | P18: 51821 | Q18: 52987 | R18: 53914 | S18: 54992 | T18: =IF('Critères de recherche'!$N$13>0.01,CP18*(1+T$4),S18*(1+T$4)) -> 56091.84 | U18: =T18*(1+U$4) -> 57213.677 | V18: =U18*(1+V$4) -> 58357.95 | W18: =V18*(1+W$4) -> 59525.109 | X18: =W18*(1+X$4) -> 60715.612 | Y18: =X18*(1+Y$4) -> 61929.924 | Z18: =Y18*(1+Z$4) -> 63168.522 | AA18: =Z18*(1+AA$4) -> 64431.893 | AB18: =AA18*(1+AB$4) -> 65720.531 | ... CL18: =CK18*(1+CL$4) -> 224342.58 | CM18: =IF('Critères de recherche'!$N$13>0.01,'EntenteJuil2019 (avec boni)'!O18*(1.01+'Critères de recherche'!$N$13),0) -> 0 | CN18: =IF(CM18<>0,CM18*(CN$4+CN$6+1),0) -> 0 | CO18: =IF(CN18<>0,CN18*(CO$4+CO$6+1),0) -> 0 | CP18: =IF(CO18<>0,CO18*(CP$4+CP$6+1),0) -> 0
E19: AgentDeBureauCP | F19: 2 | G19: 1 | H19: 6 | I19: 44018 | J19: 44898 | K19: 48381 | L19: 49349 | M19: 50336 | N19: 52097.76 | O19: 52583 | P19: 53635 | Q19: 54842 | R19: 55802 | S19: 56918 | T19: =IF('Critères de recherche'!$N$13>0.01,CP19*(1+T$4),S19*(1+T$4)) -> 58056.36 | U19: =T19*(1+U$4) -> 59217.487 | V19: =U19*(1+V$4) -> 60401.837 | W19: =V19*(1+W$4) -> 61609.874 | X19: =W19*(1+X$4) -> 62842.071 | Y19: =X19*(1+Y$4) -> 64098.913 | Z19: =Y19*(1+Z$4) -> 65380.891 | AA19: =Z19*(1+AA$4) -> 66688.509 | AB19: =AA19*(1+AB$4) -> 68022.279 | ... CL19: =CK19*(1+CL$4) -> 232199.79 | CM19: =IF('Critères de recherche'!$N$13>0.01,'EntenteJuil2019 (avec boni)'!O19*(1.01+'Critères de recherche'!$N$13),0) -> 0 | CN19: =IF(CM19<>0,CM19*(CN$4+CN$6+1),0) -> 0 | CO19: =IF(CN19<>0,CN19*(CO$4+CO$6+1),0) -> 0 | CP19: =IF(CO19<>0,CO19*(CP$4+CP$6+1),0) -> 0
E20: AgentDeBureauCP | F20: 3 | G20: 2 | H20: 6 | I20: 45453 | J20: 46362 | K20: 49935 | L20: 50934 | M20: 51953 | N20: 53771.355 | O20: 54423 | P20: 55511 | Q20: 56760 | R20: 57753 | S20: 58908 | T20: =IF('Critères de recherche'!$N$13>0.01,CP20*(1+T$4),S20*(1+T$4)) -> 60086.16 | U20: =T20*(1+U$4) -> 61287.883 | V20: =U20*(1+V$4) -> 62513.641 | W20: =V20*(1+W$4) -> 63763.914 | X20: =W20*(1+X$4) -> 65039.192 | Y20: =X20*(1+Y$4) -> 66339.976 | Z20: =Y20*(1+Z$4) -> 67666.775 | AA20: =Z20*(1+AA$4) -> 69020.111 | AB20: =AA20*(1+AB$4) -> 70400.513 | ... CL20: =CK20*(1+CL$4) -> 240318.1 | CM20: =IF('Critères de recherche'!$N$13>0.01,'EntenteJuil2019 (avec boni)'!O20*(1.01+'Critères de recherche'!$N$13),0) -> 0 | CN20: =IF(CM20<>0,CM20*(CN$4+CN$6+1),0) -> 0 | CO20: =IF(CN20<>0,CN20*(CO$4+CO$6+1),0) -> 0 | CP20: =IF(CO20<>0,CO20*(CP$4+CP$6+1),0) -> 0
E21: AgentDeBureauCP | F21: 4 | G21: 3 | H21: 6 | I21: 46962 | J21: 47901 | K21: 51617 | L21: 52649 | M21: 53702 | N21: 55581.57 | O21: 56329 | P21: 57456 | Q21: 58749 | R21: 59777 | S21: 60973 | T21: =IF('Critères de recherche'!$N$13>0.01,CP21*(1+T$4),S21*(1+T$4)) -> 62192.46 | U21: =T21*(1+U$4) -> 63436.309 | V21: =U21*(1+V$4) -> 64705.035 | W21: =V21*(1+W$4) -> 65999.136 | X21: =W21*(1+X$4) -> 67319.119 | Y21: =X21*(1+Y$4) -> 68665.501 | Z21: =Y21*(1+Z$4) -> 70038.811 | AA21: =Z21*(1+AA$4) -> 71439.587 | AB21: =AA21*(1+AB$4) -> 72868.379 | ... CL21: =CK21*(1+CL$4) -> 248742.36 | CM21: =IF('Critères de recherche'!$N$13>0.01,'EntenteJuil2019 (avec boni)'!O21*(1.01+'Critères de recherche'!$N$13),0) -> 0 | CN21: =IF(CM21<>0,CM21*(CN$4+CN$6+1),0) -> 0 | CO21: =IF(CN21<>0,CN21*(CO$4+CO$6+1),0) -> 0 | CP21: =IF(CO21<>0,CO21*(CP$4+CP$6+1),0) -> 0
E22: AgentDeBureauCP | F22: 5 | G22: 4 | H22: 6 | I22: 48415 | J22: 49383 | K22: 53194 | L22: 54258 | M22: 55343 | N22: 57280.005 | O22: 58300 | P22: 59466 | Q22: 60804 | R22: 61868 | S22: 63105 | T22: =IF('Critères de recherche'!$N$13>0.01,CP22*(1+T$4),S22*(1+T$4)) -> 64367.1 | U22: =T22*(1+U$4) -> 65654.442 | V22: =U22*(1+V$4) -> 66967.531 | W22: =V22*(1+W$4) -> 68306.881 | X22: =W22*(1+X$4) -> 69673.019 | Y22: =X22*(1+Y$4) -> 71066.479 | Z22: =Y22*(1+Z$4) -> 72487.809 | AA22: =Z22*(1+AA$4) -> 73937.565 | AB22: =AA22*(1+AB$4) -> 75416.317 | ... CL22: =CK22*(1+CL$4) -> 257439.96 | CM22: =IF('Critères de recherche'!$N$13>0.01,'EntenteJuil2019 (avec boni)'!O22*(1.01+'Critères de recherche'!$N$13),0) -> 0 | CN22: =IF(CM22<>0,CM22*(CN$4+CN$6+1),0) -> 0 | CO22: =IF(CN22<>0,CN22*(CO$4+CO$6+1),0) -> 0 | CP22: =IF(CO22<>0,CO22*(CP$4+CP$6+1),0) -> 0
E23: AgentDeBureauCP | F23: 6 | G23: 5 | H23: 6 | I23: 49756 | J23: 50751 | K23: 54676 | L23: 55770 | M23: 56885 | N23: 58875.975 | O23: 60642 | P23: 61855 | Q23: 63247 | R23: 64354 | S23: 65641 | T23: =IF('Critères de recherche'!$N$13>0.01,CP23*(1+T$4),S23*(1+T$4)) -> 66953.82 | U23: =T23*(1+U$4) -> 68292.896 | V23: =U23*(1+V$4) -> 69658.754 | W23: =V23*(1+W$4) -> 71051.929 | X23: =W23*(1+X$4) -> 72472.968 | Y23: =X23*(1+Y$4) -> 73922.427 | Z23: =Y23*(1+Z$4) -> 75400.876 | AA23: =Z23*(1+AA$4) -> 76908.893 | AB23: =AA23*(1+AB$4) -> 78447.071 | ... CL23: =CK23*(1+CL$4) -> 267785.7 | CM23: =IF('Critères de recherche'!$N$13>0.01,'EntenteJuil2019 (avec boni)'!O23*(1.01+'Critères de recherche'!$N$13),0) -> 0 | CN23: =IF(CM23<>0,CM23*(CN$4+CN$6+1),0) -> 0 | CO23: =IF(CN23<>0,CN23*(CO$4+CO$6+1),0) -> 0 | CP23: =IF(CO23<>0,CO23*(CP$4+CP$6+1),0) -> 0
E24: SecrétaireCL1 | F24: 1 | G24: 1 | H24: 3 | I24: 42547 | J24: 43398 | K24: 44691 | L24: 45585 | M24: 46497 | N24: 48124.395 | O24: 48967 | P24: 49946 | Q24: 51070 | R24: 51964 | S24: 53003 | T24: =IF('Critères de recherche'!$N$13>0.01,CP24*(1+T$4),S24*(1+T$4)) -> 54063.06 | U24: =T24*(1+U$4) -> 55144.321 | V24: =U24*(1+V$4) -> 56247.208 | W24: =V24*(1+W$4) -> 57372.152 | X24: =W24*(1+X$4) -> 58519.595 | Y24: =X24*(1+Y$4) -> 59689.987 | Z24: =Y24*(1+Z$4) -> 60883.786 | AA24: =Z24*(1+AA$4) -> 62101.462 | AB24: =AA24*(1+AB$4) -> 63343.491 | ... CL24: =CK24*(1+CL$4) -> 216228.36 | CM24: =IF('Critères de recherche'!$N$13>0.01,'EntenteJuil2019 (avec boni)'!O24*(1.01+'Critères de recherche'!$N$13),0) -> 0 | CN24: =IF(CM24<>0,CM24*(CN$4+CN$6+1),0) -> 0 | CO24: =IF(CN24<>0,CN24*(CO$4+CO$6+1),0) -> 0 | CP24: =IF(CO24<>0,CO24*(CP$4+CP$6+1),0) -> 0
E25: SecrétaireCL1 | F25: 2 | G25: 2 | H25: 3 | I25: 43832 | J25: 44709 | K25: 46055 | L25: 49976 | M25: 47916 | N25: 49593.06 | O25: 50681 | P25: 51695 | Q25: 52858 | R25: 53783 | S25: 54859 | T25: =IF('Critères de recherche'!$N$13>0.01,CP25*(1+T$4),S25*(1+T$4)) -> 55956.18 | U25: =T25*(1+U$4) -> 57075.304 | V25: =U25*(1+V$4) -> 58216.81 | W25: =V25*(1+W$4) -> 59381.146 | X25: =W25*(1+X$4) -> 60568.769 | Y25: =X25*(1+Y$4) -> 61780.144 | Z25: =Y25*(1+Z$4) -> 63015.747 | AA25: =Z25*(1+AA$4) -> 64276.062 | AB25: =AA25*(1+AB$4) -> 65561.583 | ... CL25: =CK25*(1+CL$4) -> 223800 | CM25: =IF('Critères de recherche'!$N$13>0.01,'EntenteJuil2019 (avec boni)'!O25*(1.01+'Critères de recherche'!$N$13),0) -> 0 | CN25: =IF(CM25<>0,CM25*(CN$4+CN$6+1),0) -> 0 | CO25: =IF(CN25<>0,CN25*(CO$4+CO$6+1),0) -> 0 | CP25: =IF(CO25<>0,CO25*(CP$4+CP$6+1),0) -> 0
E26: SecrétaireCL1 | F26: 3 | G26: 3 | H26: 3 | I26: 45248 | J26: 46153 | K26: 47530 | L26: 48481 | M26: 49451 | N26: 51181.785 | O26: 52717 | P26: 53771 | Q26: 54981 | R26: 55943 | S26: 57062 | T26: =IF('Critères de recherche'!$N$13>0.01,CP26*(1+T$4),S26*(1+T$4)) -> 58203.24 | U26: =T26*(1+U$4) -> 59367.305 | V26: =U26*(1+V$4) -> 60554.651 | W26: =V26*(1+W$4) -> 61765.744 | X26: =W26*(1+X$4) -> 63001.059 | Y26: =X26*(1+Y$4) -> 64261.08 | Z26: =Y26*(1+Z$4) -> 65546.302 | AA26: =Z26*(1+AA$4) -> 66857.228 | AB26: =AA26*(1+AB$4) -> 68194.372 | ... CL26: =CK26*(1+CL$4) -> 232787.25 | CM26: =IF('Critères de recherche'!$N$13>0.01,'EntenteJuil2019 (avec boni)'!O26*(1.01+'Critères de recherche'!$N$13),0) -> 0 | CN26: =IF(CM26<>0,CM26*(CN$4+CN$6+1),0) -> 0 | CO26: =IF(CN26<>0,CN26*(CO$4+CO$6+1),0) -> 0 | CP26: =IF(CO26<>0,CO26*(CP$4+CP$6+1),0) -> 0
E27: AgentDeRecouvrement | F27: 1 | G27: 0 | H27: 10 | O27: 48614 | P27: 49586 | Q27: 50702 | R27: 51589 | S27: 52621 | T27: =IF('Critères de recherche'!$N$13>0.01,CP27*(1+T$4),S27*(1+T$4)) -> 53673.42 | U27: =T27*(1+U$4) -> 54746.888 | V27: =U27*(1+V$4) -> 55841.826 | W27: =V27*(1+W$4) -> 56958.663 | X27: =W27*(1+X$4) -> 58097.836 | Y27: =X27*(1+Y$4) -> 59259.793 | Z27: =Y27*(1+Z$4) -> 60444.989 | AA27: =Z27*(1+AA$4) -> 61653.888 | AB27: =AA27*(1+AB$4) -> 62886.966 | ... CL27: =CK27*(1+CL$4) -> 214669.97 | CM27: =IF('Critères de recherche'!$N$13>0.01,'EntenteJuil2019 (avec boni)'!O27*(1.01+'Critères de recherche'!$N$13),0) -> 0 | CN27: =IF(CM27<>0,CM27*(CN$4+CN$6+1),0) -> 0 | CO27: =IF(CN27<>0,CN27*(CO$4+CO$6+1),0) -> 0 | CP27: =IF(CO27<>0,CO27*(CP$4+CP$6+1),0) -> 0
E28: AgentDeRecouvrement | F28: 2 | G28: 0 | H28: 10 | O28: 50437 | P28: 51446 | Q28: 52604 | R28: 53525 | S28: 54596 | T28: =IF('Critères de recherche'!$N$13>0.01,CP28*(1+T$4),S28*(1+T$4)) -> 55687.92 | U28: =T28*(1+U$4) -> 56801.678 | V28: =U28*(1+V$4) -> 57937.712 | W28: =V28*(1+W$4) -> 59096.466 | X28: =W28*(1+X$4) -> 60278.396 | Y28: =X28*(1+Y$4) -> 61483.963 | Z28: =Y28*(1+Z$4) -> 62713.643 | AA28: =Z28*(1+AA$4) -> 63967.916 | AB28: =AA28*(1+AB$4) -> 65247.274 | ... CL28: =CK28*(1+CL$4) -> 222727.08 | CM28: =IF('Critères de recherche'!$N$13>0.01,'EntenteJuil2019 (avec boni)'!O28*(1.01+'Critères de recherche'!$N$13),0) -> 0 | CN28: =IF(CM28<>0,CM28*(CN$4+CN$6+1),0) -> 0 | CO28: =IF(CN28<>0,CN28*(CO$4+CO$6+1),0) -> 0 | CP28: =IF(CO28<>0,CO28*(CP$4+CP$6+1),0) -> 0
E29: AgentDeRecouvrement | F29: 3 | G29: 1 | H29: 10 | I29: 46179 | J29: 47103 | K29: 48045 | L29: 49006 | M29: 49986 | N29: 51735.51 | O29: 52328 | P29: 53375 | Q29: 54576 | R29: 55531 | S29: 56642 | T29: =IF('Critères de recherche'!$N$13>0.01,CP29*(1+T$4),S29*(1+T$4)) -> 57774.84 | U29: =T29*(1+U$4) -> 58930.337 | V29: =U29*(1+V$4) -> 60108.944 | W29: =V29*(1+W$4) -> 61311.122 | X29: =W29*(1+X$4) -> 62537.345 | Y29: =X29*(1+Y$4) -> 63788.092 | Z29: =Y29*(1+Z$4) -> 65063.854 | AA29: =Z29*(1+AA$4) -> 66365.131 | AB29: =AA29*(1+AB$4) -> 67692.433 | ... CL29: =CK29*(1+CL$4) -> 231073.84 | CM29: =IF('Critères de recherche'!$N$13>0.01,'EntenteJuil2019 (avec boni)'!O29*(1.01+'Critères de recherche'!$N$13),0) -> 0 | CN29: =IF(CM29<>0,CM29*(CN$4+CN$6+1),0) -> 0 | CO29: =IF(CN29<>0,CN29*(CO$4+CO$6+1),0) -> 0 | CP29: =IF(CO29<>0,CO29*(CP$4+CP$6+1),0) -> 0
E30: AgentDeRecouvrement | F30: 4 | G30: 2 | H30: 10 | I30: 47670 | J30: 48623 | K30: 49595 | L30: 50587 | M30: 51599 | N30: 53404.965 | O30: 54290 | P30: 55376 | Q30: 56622 | R30: 57613 | S30: 58765 | T30: =IF('Critères de recherche'!$N$13>0.01,CP30*(1+T$4),S30*(1+T$4)) -> 59940.3 | U30: =T30*(1+U$4) -> 61139.106 | V30: =U30*(1+V$4) -> 62361.888 | W30: =V30*(1+W$4) -> 63609.126 | X30: =W30*(1+X$4) -> 64881.308 | Y30: =X30*(1+Y$4) -> 66178.935 | Z30: =Y30*(1+Z$4) -> 67502.513 | AA30: =Z30*(1+AA$4) -> 68852.564 | AB30: =AA30*(1+AB$4) -> 70229.615 | ... CL30: =CK30*(1+CL$4) -> 239734.72 | CM30: =IF('Critères de recherche'!$N$13>0.01,'EntenteJuil2019 (avec boni)'!O30*(1.01+'Critères de recherche'!$N$13),0) -> 0 | CN30: =IF(CM30<>0,CM30*(CN$4+CN$6+1),0) -> 0 | CO30: =IF(CN30<>0,CN30*(CO$4+CO$6+1),0) -> 0 | CP30: =IF(CO30<>0,CO30*(CP$4+CP$6+1),0) -> 0
E31: AgentDeRecouvrement | F31: 5 | G31: 3 | H31: 10 | I31: 49532 | J31: 50523 | K31: 51533 | L31: 52564 | M31: 53615 | N31: 55491.525 | O31: 56326 | P31: 57453 | Q31: 58746 | R31: 59774 | S31: 60969 | T31: =IF('Critères de recherche'!$N$13>0.01,CP31*(1+T$4),S31*(1+T$4)) -> 62188.38 | U31: =T31*(1+U$4) -> 63432.148 | V31: =U31*(1+V$4) -> 64700.791 | W31: =V31*(1+W$4) -> 65994.806 | X31: =W31*(1+X$4) -> 67314.702 | Y31: =X31*(1+Y$4) -> 68660.997 | Z31: =Y31*(1+Z$4) -> 70034.216 | AA31: =Z31*(1+AA$4) -> 71434.901 | AB31: =AA31*(1+AB$4) -> 72863.599 | ... CL31: =CK31*(1+CL$4) -> 248726.05 | CM31: =IF('Critères de recherche'!$N$13>0.01,'EntenteJuil2019 (avec boni)'!O31*(1.01+'Critères de recherche'!$N$13),0) -> 0 | CN31: =IF(CM31<>0,CM31*(CN$4+CN$6+1),0) -> 0 | CO31: =IF(CN31<>0,CN31*(CO$4+CO$6+1),0) -> 0 | CP31: =IF(CO31<>0,CO31*(CP$4+CP$6+1),0) -> 0
E32: AgentDeRecouvrement | F32: 6 | G32: 4 | H32: 10 | I32: 51302 | J32: 52328 | K32: 53375 | L32: 54443 | M32: 55532 | N32: 57475.62 | O32: 58438 | P32: 59607 | Q32: 60948 | R32: 62015 | S32: 63255 | T32: =IF('Critères de recherche'!$N$13>0.01,CP32*(1+T$4),S32*(1+T$4)) -> 64520.1 | U32: =T32*(1+U$4) -> 65810.502 | V32: =U32*(1+V$4) -> 67126.712 | W32: =V32*(1+W$4) -> 68469.246 | X32: =W32*(1+X$4) -> 69838.631 | Y32: =X32*(1+Y$4) -> 71235.404 | Z32: =Y32*(1+Z$4) -> 72660.112 | AA32: =Z32*(1+AA$4) -> 74113.314 | AB32: =AA32*(1+AB$4) -> 75595.58 | ... CL32: =CK32*(1+CL$4) -> 258051.9 | CM32: =IF('Critères de recherche'!$N$13>0.01,'EntenteJuil2019 (avec boni)'!O32*(1.01+'Critères de recherche'!$N$13),0) -> 0 | CN32: =IF(CM32<>0,CM32*(CN$4+CN$6+1),0) -> 0 | CO32: =IF(CN32<>0,CN32*(CO$4+CO$6+1),0) -> 0 | CP32: =IF(CO32<>0,CO32*(CP$4+CP$6+1),0) -> 0
E33: AgentDeRecouvrement | F33: 7 | G33: 5 | H33: 10 | I33: 53072 | J33: 54133 | K33: 55216 | L33: 56320 | M33: 57446 | N33: 59456.61 | O33: 60630 | P33: 61843 | Q33: 63234 | R33: 64341 | S33: 65628 | T33: =IF('Critères de recherche'!$N$13>0.01,CP33*(1+T$4),S33*(1+T$4)) -> 66940.56 | U33: =T33*(1+U$4) -> 68279.371 | V33: =U33*(1+V$4) -> 69644.959 | W33: =V33*(1+W$4) -> 71037.858 | X33: =W33*(1+X$4) -> 72458.615 | Y33: =X33*(1+Y$4) -> 73907.787 | Z33: =Y33*(1+Z$4) -> 75385.943 | AA33: =Z33*(1+AA$4) -> 76893.662 | AB33: =AA33*(1+AB$4) -> 78431.535 | ... CL33: =CK33*(1+CL$4) -> 267732.67 | CM33: =IF('Critères de recherche'!$N$13>0.01,'EntenteJuil2019 (avec boni)'!O33*(1.01+'Critères de recherche'!$N$13),0) -> 0 | CN33: =IF(CM33<>0,CM33*(CN$4+CN$6+1),0) -> 0 | CO33: =IF(CN33<>0,CN33*(CO$4+CO$6+1),0) -> 0 | CP33: =IF(CO33<>0,CO33*(CP$4+CP$6+1),0) -> 0
E34: AgentDeRecouvrement | F34: 8 | G34: 6 | H34: 10 | I34: 55028 | J34: 56129 | K34: 57252 | L34: 58397 | M34: 59565 | N34: 61649.775 | O34: 62903 | P34: 64161 | Q34: 65605 | R34: 66753 | S34: 68088 | T34: =IF('Critères de recherche'!$N$13>0.01,CP34*(1+T$4),S34*(1+T$4)) -> 69449.76 | U34: =T34*(1+U$4) -> 70838.755 | V34: =U34*(1+V$4) -> 72255.53 | W34: =V34*(1+W$4) -> 73700.641 | X34: =W34*(1+X$4) -> 75174.654 | Y34: =X34*(1+Y$4) -> 76678.147 | Z34: =Y34*(1+Z$4) -> 78211.71 | AA34: =Z34*(1+AA$4) -> 79775.944 | AB34: =AA34*(1+AB$4) -> 81371.463 | ... CL34: =CK34*(1+CL$4) -> 277768.36 | CM34: =IF('Critères de recherche'!$N$13>0.01,'EntenteJuil2019 (avec boni)'!O34*(1.01+'Critères de recherche'!$N$13),0) -> 0 | CN34: =IF(CM34<>0,CM34*(CN$4+CN$6+1),0) -> 0 | CO34: =IF(CN34<>0,CN34*(CO$4+CO$6+1),0) -> 0 | CP34: =IF(CO34<>0,CO34*(CP$4+CP$6+1),0) -> 0
E35: AgentDeRecouvrement | F35: 9 | G35: 7 | H35: 10 | I35: 57039 | J35: 58180 | K35: 59344 | L35: 60531 | M35: 61742 | N35: 63902.97 | O35: 65262 | P35: 66567 | Q35: 68065 | R35: 69256 | S35: 70641 | T35: =IF('Critères de recherche'!$N$13>0.01,CP35*(1+T$4),S35*(1+T$4)) -> 72053.82 | U35: =T35*(1+U$4) -> 73494.896 | V35: =U35*(1+V$4) -> 74964.794 | W35: =V35*(1+W$4) -> 76464.09 | X35: =W35*(1+X$4) -> 77993.372 | Y35: =X35*(1+Y$4) -> 79553.239 | Z35: =Y35*(1+Z$4) -> 81144.304 | AA35: =Z35*(1+AA$4) -> 82767.19 | AB35: =AA35*(1+AB$4) -> 84422.534 | ... CL35: =CK35*(1+CL$4) -> 288183.45 | CM35: =IF('Critères de recherche'!$N$13>0.01,'EntenteJuil2019 (avec boni)'!O35*(1.01+'Critères de recherche'!$N$13),0) -> 0 | CN35: =IF(CM35<>0,CM35*(CN$4+CN$6+1),0) -> 0 | CO35: =IF(CN35<>0,CN35*(CO$4+CO$6+1),0) -> 0 | CP35: =IF(CO35<>0,CO35*(CP$4+CP$6+1),0) -> 0
E36: AgentDeRecouvrement | F36: 10 | G36: 8 | H36: 10 | I36: 59070 | J36: 60251 | K36: 61456 | L36: 62685 | M36: 63939 | N36: 66176.865 | O36: 68048 | P36: 69409 | Q36: 70971 | R36: 72213 | S36: 73657 | T36: =IF('Critères de recherche'!$N$13>0.01,CP36*(1+T$4),S36*(1+T$4)) -> 75130.14 | U36: =T36*(1+U$4) -> 76632.743 | V36: =U36*(1+V$4) -> 78165.398 | W36: =V36*(1+W$4) -> 79728.706 | X36: =W36*(1+X$4) -> 81323.28 | Y36: =X36*(1+Y$4) -> 82949.745 | Z36: =Y36*(1+Z$4) -> 84608.74 | AA36: =Z36*(1+AA$4) -> 86300.915 | AB36: =AA36*(1+AB$4) -> 88026.933 | ... CL36: =CK36*(1+CL$4) -> 300487.37 | CM36: =IF('Critères de recherche'!$N$13>0.01,'EntenteJuil2019 (avec boni)'!O36*(1.01+'Critères de recherche'!$N$13),0) -> 0 | CN36: =IF(CM36<>0,CM36*(CN$4+CN$6+1),0) -> 0 | CO36: =IF(CN36<>0,CN36*(CO$4+CO$6+1),0) -> 0 | CP36: =IF(CO36<>0,CO36*(CP$4+CP$6+1),0) -> 0
E37: TechnicienTOUS | F37: 1 | G37: 1 | H37: 12 | I37: 36493 | J37: 37223 | K37: 37967 | L37: 38726 | M37: 39501 | N37: 40883.535 | O37: 42292 | P37: 43138 | Q37: 44109 | R37: 44881 | S37: 45779 | T37: =IF('Critères de recherche'!$N$13>0.01,CP37*(1+T$4),S37*(1+T$4)) -> 46694.58 | U37: =T37*(1+U$4) -> 47628.472 | V37: =U37*(1+V$4) -> 48581.041 | W37: =V37*(1+W$4) -> 49552.662 | X37: =W37*(1+X$4) -> 50543.715 | Y37: =X37*(1+Y$4) -> 51554.589 | Z37: =Y37*(1+Z$4) -> 52585.681 | AA37: =Z37*(1+AA$4) -> 53637.395 | AB37: =AA37*(1+AB$4) -> 54710.143 | ... CL37: =CK37*(1+CL$4) -> 186757.69 | CM37: =IF('Critères de recherche'!$N$13>0.01,'EntenteJuil2019 (avec boni)'!O37*(1.01+'Critères de recherche'!$N$13),0) -> 0 | CN37: =IF(CM37<>0,CM37*(CN$4+CN$6+1),0) -> 0 | CO37: =IF(CN37<>0,CN37*(CO$4+CO$6+1),0) -> 0 | CP37: =IF(CO37<>0,CO37*(CP$4+CP$6+1),0) -> 0
E38: TechnicienTOUS | F38: 2 | G38: 2 | H38: 12 | I38: 37703 | J38: 38457 | K38: 39226 | L38: 40011 | M38: 40811 | N38: 42239.385 | O38: 43877 | P38: 44755 | Q38: 45762 | R38: 46563 | S38: 47494 | T38: =IF('Critères de recherche'!$N$13>0.01,CP38*(1+T$4),S38*(1+T$4)) -> 48443.88 | U38: =T38*(1+U$4) -> 49412.758 | V38: =U38*(1+V$4) -> 50401.013 | W38: =V38*(1+W$4) -> 51409.033 | X38: =W38*(1+X$4) -> 52437.214 | Y38: =X38*(1+Y$4) -> 53485.958 | Z38: =Y38*(1+Z$4) -> 54555.677 | AA38: =Z38*(1+AA$4) -> 55646.791 | AB38: =AA38*(1+AB$4) -> 56759.726 | ... CL38: =CK38*(1+CL$4) -> 193754.12 | CM38: =IF('Critères de recherche'!$N$13>0.01,'EntenteJuil2019 (avec boni)'!O38*(1.01+'Critères de recherche'!$N$13),0) -> 0 | CN38: =IF(CM38<>0,CM38*(CN$4+CN$6+1),0) -> 0 | CO38: =IF(CN38<>0,CN38*(CO$4+CO$6+1),0) -> 0 | CP38: =IF(CO38<>0,CO38*(CP$4+CP$6+1),0) -> 0
E39: TechnicienTOUS | F39: 3 | G39: 3 | H39: 12 | I39: 39287 | J39: 40073 | K39: 40874 | L39: 41691 | M39: 42525 | N39: 44013.375 | O39: 45522 | P39: 46432 | Q39: 47477 | R39: 48308 | S39: 49274 | T39: =IF('Critères de recherche'!$N$13>0.01,CP39*(1+T$4),S39*(1+T$4)) -> 50259.48 | U39: =T39*(1+U$4) -> 51264.67 | V39: =U39*(1+V$4) -> 52289.963 | W39: =V39*(1+W$4) -> 53335.762 | X39: =W39*(1+X$4) -> 54402.477 | Y39: =X39*(1+Y$4) -> 55490.527 | Z39: =Y39*(1+Z$4) -> 56600.338 | AA39: =Z39*(1+AA$4) -> 57732.344 | AB39: =AA39*(1+AB$4) -> 58886.991 | ... CL39: =CK39*(1+CL$4) -> 201015.72 | CM39: =IF('Critères de recherche'!$N$13>0.01,'EntenteJuil2019 (avec boni)'!O39*(1.01+'Critères de recherche'!$N$13),0) -> 0 | CN39: =IF(CM39<>0,CM39*(CN$4+CN$6+1),0) -> 0 | CO39: =IF(CN39<>0,CN39*(CO$4+CO$6+1),0) -> 0 | CP39: =IF(CO39<>0,CO39*(CP$4+CP$6+1),0) -> 0
E40: TechnicienTOUS | F40: 4 | G40: 4 | H40: 12 | I40: 40647 | J40: 41460 | K40: 42289 | L40: 43135 | M40: 43998 | N40: 45537.93 | O40: 47230 | P40: 48175 | Q40: 49259 | R40: 50121 | S40: 51123 | T40: =IF('Critères de recherche'!$N$13>0.01,CP40*(1+T$4),S40*(1+T$4)) -> 52145.46 | U40: =T40*(1+U$4) -> 53188.369 | V40: =U40*(1+V$4) -> 54252.137 | W40: =V40*(1+W$4) -> 55337.179 | X40: =W40*(1+X$4) -> 56443.923 | Y40: =X40*(1+Y$4) -> 57572.801 | Z40: =Y40*(1+Z$4) -> 58724.257 | AA40: =Z40*(1+AA$4) -> 59898.743 | AB40: =AA40*(1+AB$4) -> 61096.717 | ... CL40: =CK40*(1+CL$4) -> 208558.8 | CM40: =IF('Critères de recherche'!$N$13>0.01,'EntenteJuil2019 (avec boni)'!O40*(1.01+'Critères de recherche'!$N$13),0) -> 0 | CN40: =IF(CM40<>0,CM40*(CN$4+CN$6+1),0) -> 0 | CO40: =IF(CN40<>0,CN40*(CO$4+CO$6+1),0) -> 0 | CP40: =IF(CO40<>0,CO40*(CP$4+CP$6+1),0) -> 0
... E82: GraphisteCP | F82: 3 | G82: 3 | H82: 3 | I82: 63784 | J82: 65060 | K82: 66361 | L82: 67688 | M82: 69042 | N82: 71458.47 | O82: 73795 | P82: 75271 | Q82: 76965 | R82: 78312 | S82: 79878 | T82: =IF('Critères de recherche'!$N$13>0.01,CP82*(1+T$4),S82*(1+T$4)) -> 81475.56 | U82: =T82*(1+U$4) -> 83105.071 | V82: =U82*(1+V$4) -> 84767.173 | W82: =V82*(1+W$4) -> 86462.516 | X82: =W82*(1+X$4) -> 88191.766 | Y82: =X82*(1+Y$4) -> 89955.602 | Z82: =Y82*(1+Z$4) -> 91754.714 | AA82: =Z82*(1+AA$4) -> 93589.808 | AB82: =AA82*(1+AB$4) -> 95461.604 | ... CL82: =CK82*(1+CL$4) -> 325866.25 | CM82: =IF('Critères de recherche'!$N$13>0.01,'EntenteJuil2019 (avec boni)'!O82*(1.01+'Critères de recherche'!$N$13),0) -> 0 | CN82: =IF(CM82<>0,CM82*(CN$4+CN$6+1),0) -> 0 | CO82: =IF(CN82<>0,CN82*(CO$4+CO$6+1),0) -> 0 | CP82: =IF(CO82<>0,CO82*(CP$4+CP$6+1),0) -> 0
E83: TechnicienCP | F83: 1 | G83: 0 | H83: 5 | O83: 60056 | P83: 61257 | Q83: 62635 | R83: 63731 | S83: 65006 | T83: =IF('Critères de recherche'!$N$13>0.01,CP83*(1+T$4),S83*(1+T$4)) -> 66306.12 | U83: =T83*(1+U$4) -> 67632.242 | V83: =U83*(1+V$4) -> 68984.887 | W83: =V83*(1+W$4) -> 70364.585 | X83: =W83*(1+X$4) -> 71771.877 | Y83: =X83*(1+Y$4) -> 73207.314 | Z83: =Y83*(1+Z$4) -> 74671.461 | AA83: =Z83*(1+AA$4) -> 76164.89 | AB83: =AA83*(1+AB$4) -> 77688.188 | ... CL83: =CK83*(1+CL$4) -> 265195.19 | CM83: =IF('Critères de recherche'!$N$13>0.01,'EntenteJuil2019 (avec boni)'!O83*(1.01+'Critères de recherche'!$N$13),0) -> 0 | CN83: =IF(CM83<>0,CM83*(CN$4+CN$6+1),0) -> 0 | CO83: =IF(CN83<>0,CN83*(CO$4+CO$6+1),0) -> 0 | CP83: =IF(CO83<>0,CO83*(CP$4+CP$6+1),0) -> 0
E84: TechnicienCP | F84: 2 | G84: 0 | H84: 5 | O84: 62158 | P84: 63401 | Q84: 64828 | R84: 65962 | S84: 67281 | T84: =IF('Critères de recherche'!$N$13>0.01,CP84*(1+T$4),S84*(1+T$4)) -> 68626.62 | U84: =T84*(1+U$4) -> 69999.152 | V84: =U84*(1+V$4) -> 71399.135 | W84: =V84*(1+W$4) -> 72827.118 | X84: =W84*(1+X$4) -> 74283.661 | Y84: =X84*(1+Y$4) -> 75769.334 | Z84: =Y84*(1+Z$4) -> 77284.72 | AA84: =Z84*(1+AA$4) -> 78830.415 | AB84: =AA84*(1+AB$4) -> 80407.023 | ... CL84: =CK84*(1+CL$4) -> 274476.16 | CM84: =IF('Critères de recherche'!$N$13>0.01,'EntenteJuil2019 (avec boni)'!O84*(1.01+'Critères de recherche'!$N$13),0) -> 0 | CN84: =IF(CM84<>0,CM84*(CN$4+CN$6+1),0) -> 0 | CO84: =IF(CN84<>0,CN84*(CO$4+CO$6+1),0) -> 0 | CP84: =IF(CO84<>0,CO84*(CP$4+CP$6+1),0) -> 0
E85: TechnicienCP | F85: 3 | G85: 1 | H85: 5 | I85: 55344 | J85: 56451 | K85: 57580 | L85: 58732 | M85: 59907 | N85: 62004 | O85: 64333 | P85: 65620 | Q85: 67096 | R85: 68270 | S85: 69635 | T85: =IF('Critères de recherche'!$N$13>0.01,CP85*(1+T$4),S85*(1+T$4)) -> 71027.7 | U85: =T85*(1+U$4) -> 72448.254 | V85: =U85*(1+V$4) -> 73897.219 | W85: =V85*(1+W$4) -> 75375.163 | X85: =W85*(1+X$4) -> 76882.667 | Y85: =X85*(1+Y$4) -> 78420.32 | Z85: =Y85*(1+Z$4) -> 79988.726 | AA85: =Z85*(1+AA$4) -> 81588.501 | AB85: =AA85*(1+AB$4) -> 83220.271 | ... CL85: =CK85*(1+CL$4) -> 284079.42 | CM85: =IF('Critères de recherche'!$N$13>0.01,'EntenteJuil2019 (avec boni)'!O85*(1.01+'Critères de recherche'!$N$13),0) -> 0 | CN85: =IF(CM85<>0,CM85*(CN$4+CN$6+1),0) -> 0 | CO85: =IF(CN85<>0,CN85*(CO$4+CO$6+1),0) -> 0 | CP85: =IF(CO85<>0,CO85*(CP$4+CP$6+1),0) -> 0
E86: TechnicienCP | F86: 4 | G86: 2 | H86: 5 | I86: 57431 | J86: 58580 | K86: 59752 | L86: 60947 | M86: 62166 | N86: 64342 | O86: 66585 | P86: 67917 | Q86: 69445 | R86: 70660 | S86: 72073 | T86: =IF('Critères de recherche'!$N$13>0.01,CP86*(1+T$4),S86*(1+T$4)) -> 73514.46 | U86: =T86*(1+U$4) -> 74984.749 | V86: =U86*(1+V$4) -> 76484.444 | W86: =V86*(1+W$4) -> 78014.133 | X86: =W86*(1+X$4) -> 79574.416 | Y86: =X86*(1+Y$4) -> 81165.904 | Z86: =Y86*(1+Z$4) -> 82789.222 | AA86: =Z86*(1+AA$4) -> 84445.007 | AB86: =AA86*(1+AB$4) -> 86133.907 | ... CL86: =CK86*(1+CL$4) -> 294025.36 | CM86: =IF('Critères de recherche'!$N$13>0.01,'EntenteJuil2019 (avec boni)'!O86*(1.01+'Critères de recherche'!$N$13),0) -> 0 | CN86: =IF(CM86<>0,CM86*(CN$4+CN$6+1),0) -> 0 | CO86: =IF(CN86<>0,CN86*(CO$4+CO$6+1),0) -> 0 | CP86: =IF(CO86<>0,CO86*(CP$4+CP$6+1),0) -> 0
E87: TechnicienCP | F87: 5 | G87: 3 | H87: 5 | I87: 59722 | J87: 60196 | K87: 62134 | L87: 63377 | M87: 64645 | N87: 66908 | O87: 69260 | P87: 70645 | Q87: 72235 | R87: 73499 | S87: 74969 | T87: =IF('Critères de recherche'!$N$13>0.01,CP87*(1+T$4),S87*(1+T$4)) -> 76468.38 | U87: =T87*(1+U$4) -> 77997.748 | V87: =U87*(1+V$4) -> 79557.703 | W87: =V87*(1+W$4) -> 81148.857 | X87: =W87*(1+X$4) -> 82771.834 | Y87: =X87*(1+Y$4) -> 84427.27 | Z87: =Y87*(1+Z$4) -> 86115.816 | AA87: =Z87*(1+AA$4) -> 87838.132 | AB87: =AA87*(1+AB$4) -> 89594.895 | ... CL87: =CK87*(1+CL$4) -> 305839.74 | CM87: =IF('Critères de recherche'!$N$13>0.01,'EntenteJuil2019 (avec boni)'!O87*(1.01+'Critères de recherche'!$N$13),0) -> 0 | CN87: =IF(CM87<>0,CM87*(CN$4+CN$6+1),0) -> 0 | CO87: =IF(CN87<>0,CN87*(CO$4+CO$6+1),0) -> 0 | CP87: =IF(CO87<>0,CO87*(CP$4+CP$6+1),0) -> 0
E88: TechnicienCPÉquité | F88: 1 | G88: 0 | H88: 5 | O88: 60056 | P88: 61257 | Q88: 62635 | R88: 63731 | S88: 65006 | T88: =IF('Critères de recherche'!$N$13>0.01,CP88*(1+T$4),S88*(1+T$4)) -> 66306.12 | U88: =T88*(1+U$4) -> 67632.242 | V88: =U88*(1+V$4) -> 68984.887 | W88: =V88*(1+W$4) -> 70364.585 | X88: =W88*(1+X$4) -> 71771.877 | Y88: =X88*(1+Y$4) -> 73207.314 | Z88: =Y88*(1+Z$4) -> 74671.461 | AA88: =Z88*(1+AA$4) -> 76164.89 | AB88: =AA88*(1+AB$4) -> 77688.188 | ... CL88: =CK88*(1+CL$4) -> 265195.19 | CM88: =IF('Critères de recherche'!$N$13>0.01,'EntenteJuil2019 (avec boni)'!O88*(1.01+'Critères de recherche'!$N$13),0) -> 0 | CN88: =IF(CM88<>0,CM88*(CN$4+CN$6+1),0) -> 0 | CO88: =IF(CN88<>0,CN88*(CO$4+CO$6+1),0) -> 0 | CP88: =IF(CO88<>0,CO88*(CP$4+CP$6+1),0) -> 0
E89: TechnicienCPÉquité | F89: 2 | G89: 0 | H89: 5 | O89: 62158 | P89: 63401 | Q89: 64828 | R89: 65962 | S89: 67281 | T89: =IF('Critères de recherche'!$N$13>0.01,CP89*(1+T$4),S89*(1+T$4)) -> 68626.62 | U89: =T89*(1+U$4) -> 69999.152 | V89: =U89*(1+V$4) -> 71399.135 | W89: =V89*(1+W$4) -> 72827.118 | X89: =W89*(1+X$4) -> 74283.661 | Y89: =X89*(1+Y$4) -> 75769.334 | Z89: =Y89*(1+Z$4) -> 77284.72 | AA89: =Z89*(1+AA$4) -> 78830.415 | AB89: =AA89*(1+AB$4) -> 80407.023 | ... CL89: =CK89*(1+CL$4) -> 274476.16 | CM89: =IF('Critères de recherche'!$N$13>0.01,'EntenteJuil2019 (avec boni)'!O89*(1.01+'Critères de recherche'!$N$13),0) -> 0 | CN89: =IF(CM89<>0,CM89*(CN$4+CN$6+1),0) -> 0 | CO89: =IF(CN89<>0,CN89*(CO$4+CO$6+1),0) -> 0 | CP89: =IF(CO89<>0,CO89*(CP$4+CP$6+1),0) -> 0
E90: TechnicienCPÉquité | F90: 3 | G90: 1 | H90: 5 | I90: 55344 | J90: 56451 | K90: 58303 | L90: 59469 | M90: 60658 | N90: 62781 | O90: 64333 | P90: 65620 | Q90: 67096 | R90: 68270 | S90: 69635 | T90: =IF('Critères de recherche'!$N$13>0.01,CP90*(1+T$4),S90*(1+T$4)) -> 71027.7 | U90: =T90*(1+U$4) -> 72448.254 | V90: =U90*(1+V$4) -> 73897.219 | W90: =V90*(1+W$4) -> 75375.163 | X90: =W90*(1+X$4) -> 76882.667 | Y90: =X90*(1+Y$4) -> 78420.32 | Z90: =Y90*(1+Z$4) -> 79988.726 | AA90: =Z90*(1+AA$4) -> 81588.501 | AB90: =AA90*(1+AB$4) -> 83220.271 | ... CL90: =CK90*(1+CL$4) -> 284079.42 | CM90: =IF('Critères de recherche'!$N$13>0.01,'EntenteJuil2019 (avec boni)'!O90*(1.01+'Critères de recherche'!$N$13),0) -> 0 | CN90: =IF(CM90<>0,CM90*(CN$4+CN$6+1),0) -> 0 | CO90: =IF(CN90<>0,CN90*(CO$4+CO$6+1),0) -> 0 | CP90: =IF(CO90<>0,CO90*(CP$4+CP$6+1),0) -> 0
E91: TechnicienCPÉquité | F91: 4 | G91: 2 | H91: 5 | I91: 57431 | J91: 58580 | K91: 60507 | L91: 61717 | M91: 62951 | N91: 65154 | O91: 66585 | P91: 67917 | Q91: 69445 | R91: 70660 | S91: 72073 | T91: =IF('Critères de recherche'!$N$13>0.01,CP91*(1+T$4),S91*(1+T$4)) -> 73514.46 | U91: =T91*(1+U$4) -> 74984.749 | V91: =U91*(1+V$4) -> 76484.444 | W91: =V91*(1+W$4) -> 78014.133 | X91: =W91*(1+X$4) -> 79574.416 | Y91: =X91*(1+Y$4) -> 81165.904 | Z91: =Y91*(1+Z$4) -> 82789.222 | AA91: =Z91*(1+AA$4) -> 84445.007 | AB91: =AA91*(1+AB$4) -> 86133.907 | ... CL91: =CK91*(1+CL$4) -> 294025.36 | CM91: =IF('Critères de recherche'!$N$13>0.01,'EntenteJuil2019 (avec boni)'!O91*(1.01+'Critères de recherche'!$N$13),0) -> 0 | CN91: =IF(CM91<>0,CM91*(CN$4+CN$6+1),0) -> 0 | CO91: =IF(CN91<>0,CN91*(CO$4+CO$6+1),0) -> 0 | CP91: =IF(CO91<>0,CO91*(CP$4+CP$6+1),0) -> 0
E92: TechnicienCPÉquité | F92: 5 | G92: 3 | H92: 5 | I92: 59722 | J92: 60196 | K92: 62895 | L92: 64153 | M92: 65436 | N92: 67726 | O92: 69260 | P92: 70645 | Q92: 72235 | R92: 73499 | S92: 74969 | T92: =IF('Critères de recherche'!$N$13>0.01,CP92*(1+T$4),S92*(1+T$4)) -> 76468.38 | U92: =T92*(1+U$4) -> 77997.748 | V92: =U92*(1+V$4) -> 79557.703 | W92: =V92*(1+W$4) -> 81148.857 | X92: =W92*(1+X$4) -> 82771.834 | Y92: =X92*(1+Y$4) -> 84427.27 | Z92: =Y92*(1+Z$4) -> 86115.816 | AA92: =Z92*(1+AA$4) -> 87838.132 | AB92: =AA92*(1+AB$4) -> 89594.895 | ... CL92: =CK92*(1+CL$4) -> 305839.74 | CM92: =IF('Critères de recherche'!$N$13>0.01,'EntenteJuil2019 (avec boni)'!O92*(1.01+'Critères de recherche'!$N$13),0) -> 0 | CN92: =IF(CM92<>0,CM92*(CN$4+CN$6+1),0) -> 0 | CO92: =IF(CN92<>0,CN92*(CO$4+CO$6+1),0) -> 0 | CP92: =IF(CO92<>0,CO92*(CP$4+CP$6+1),0) -> 0
E93: TechnicienLaboratoireCLP | F93: 1 | G93: 0 | H93: 4 | O93: 70227 | P93: 71632 | Q93: 73244 | R93: 74526 | S93: 76017 | T93: =IF('Critères de recherche'!$N$13>0.01,CP93*(1+T$4),S93*(1+T$4)) -> 77537.34 | U93: =T93*(1+U$4) -> 79088.087 | V93: =U93*(1+V$4) -> 80669.849 | W93: =V93*(1+W$4) -> 82283.246 | X93: =W93*(1+X$4) -> 83928.91 | Y93: =X93*(1+Y$4) -> 85607.489 | Z93: =Y93*(1+Z$4) -> 87319.638 | AA93: =Z93*(1+AA$4) -> 89066.031 | AB93: =AA93*(1+AB$4) -> 90847.352 | ... CL93: =CK93*(1+CL$4) -> 310115.11 | CM93: =IF('Critères de recherche'!$N$13>0.01,'EntenteJuil2019 (avec boni)'!O93*(1.01+'Critères de recherche'!$N$13),0) -> 0 | CN93: =IF(CM93<>0,CM93*(CN$4+CN$6+1),0) -> 0 | CO93: =IF(CN93<>0,CN93*(CO$4+CO$6+1),0) -> 0 | CP93: =IF(CO93<>0,CO93*(CP$4+CP$6+1),0) -> 0
E94: TechnicienLaboratoireCLP | F94: 2 | G94: 0 | H94: 4 | O94: 73387 | P94: 74855 | Q94: 76539 | R94: 77878 | S94: 79436 | T94: =IF('Critères de recherche'!$N$13>0.01,CP94*(1+T$4),S94*(1+T$4)) -> 81024.72 | U94: =T94*(1+U$4) -> 82645.214 | V94: =U94*(1+V$4) -> 84298.119 | W94: =V94*(1+W$4) -> 85984.081 | X94: =W94*(1+X$4) -> 87703.763 | Y94: =X94*(1+Y$4) -> 89457.838 | Z94: =Y94*(1+Z$4) -> 91246.995 | AA94: =Z94*(1+AA$4) -> 93071.935 | AB94: =AA94*(1+AB$4) -> 94933.373 | ... CL94: =CK94*(1+CL$4) -> 324063.09 | CM94: =IF('Critères de recherche'!$N$13>0.01,'EntenteJuil2019 (avec boni)'!O94*(1.01+'Critères de recherche'!$N$13),0) -> 0 | CN94: =IF(CM94<>0,CM94*(CN$4+CN$6+1),0) -> 0 | CO94: =IF(CN94<>0,CN94*(CO$4+CO$6+1),0) -> 0 | CP94: =IF(CO94<>0,CO94*(CP$4+CP$6+1),0) -> 0
E95: TechnicienLaboratoireCLP | F95: 3 | G95: 1 | H95: 4 | I95: 60896 | J95: 62114 | K95: 69053 | L95: 70434 | M95: 72474 | N95: 75010.59 | O95: 76689 | P95: 78223 | Q95: 79983 | R95: 81383 | S95: 83011 | T95: =IF('Critères de recherche'!$N$13>0.01,CP95*(1+T$4),S95*(1+T$4)) -> 84671.22 | U95: =T95*(1+U$4) -> 86364.644 | V95: =U95*(1+V$4) -> 88091.937 | W95: =V95*(1+W$4) -> 89853.776 | X95: =W95*(1+X$4) -> 91650.852 | Y95: =X95*(1+Y$4) -> 93483.869 | Z95: =Y95*(1+Z$4) -> 95353.546 | AA95: =Z95*(1+AA$4) -> 97260.617 | AB95: =AA95*(1+AB$4) -> 99205.829 | ... CL95: =CK95*(1+CL$4) -> 338647.47 | CM95: =IF('Critères de recherche'!$N$13>0.01,'EntenteJuil2019 (avec boni)'!O95*(1.01+'Critères de recherche'!$N$13),0) -> 0 | CN95: =IF(CM95<>0,CM95*(CN$4+CN$6+1),0) -> 0 | CO95: =IF(CN95<>0,CN95*(CO$4+CO$6+1),0) -> 0 | CP95: =IF(CO95<>0,CO95*(CP$4+CP$6+1),0) -> 0
E96: TechnicienLaboratoireCLP | F96: 4 | G96: 2 | H96: 4 | I96: 63784 | J96: 65060 | K96: 72329 | L96: 73776 | M96: 75912 | N96: 78568.92 | O96: 80541 | P96: 82152 | Q96: 84000 | R96: 85470 | S96: 87179 | T96: =IF('Critères de recherche'!$N$13>0.01,CP96*(1+T$4),S96*(1+T$4)) -> 88922.58 | U96: =T96*(1+U$4) -> 90701.032 | V96: =U96*(1+V$4) -> 92515.052 | W96: =V96*(1+W$4) -> 94365.353 | X96: =W96*(1+X$4) -> 96252.66 | Y96: =X96*(1+Y$4) -> 98177.714 | Z96: =Y96*(1+Z$4) -> 100141.27 | AA96: =Z96*(1+AA$4) -> 102144.09 | AB96: =AA96*(1+AB$4) -> 104186.98 | ... CL96: =CK96*(1+CL$4) -> 355651.04 | CM96: =IF('Critères de recherche'!$N$13>0.01,'EntenteJuil2019 (avec boni)'!O96*(1.01+'Critères de recherche'!$N$13),0) -> 0 | CN96: =IF(CM96<>0,CM96*(CN$4+CN$6+1),0) -> 0 | CO96: =IF(CN96<>0,CN96*(CO$4+CO$6+1),0) -> 0 | CP96: =IF(CO96<>0,CO96*(CP$4+CP$6+1),0) -> 0
E97: Catégorie3TOUS | F97: 1 | G97: 1 | H97: 18 | I97: 45135 | J97: 46038 | K97: 46959 | L97: 47898 | M97: 48856 | N97: 50565.96 | O97: 51906 | P97: 52944 | Q97: 54135 | R97: 55082 | S97: 56184 | T97: =IF('Critères de recherche'!$N$13>0.01,CP97*(1+T$4),S97*(1+T$4)) -> 57307.68 | U97: =T97*(1+U$4) -> 58453.834 | V97: =U97*(1+V$4) -> 59622.91 | W97: =V97*(1+W$4) -> 60815.368 | X97: =W97*(1+X$4) -> 62031.676 | Y97: =X97*(1+Y$4) -> 63272.309 | Z97: =Y97*(1+Z$4) -> 64537.756 | AA97: =Z97*(1+AA$4) -> 65828.511 | AB97: =AA97*(1+AB$4) -> 67145.081 | ... CL97: =CK97*(1+CL$4) -> 229205.4 | CM97: =IF('Critères de recherche'!$N$13>0.01,'EntenteJuil2019 (avec boni)'!O97*(1.01+'Critères de recherche'!$N$13),0) -> 0 | CN97: =IF(CM97<>0,CM97*(CN$4+CN$6+1),0) -> 0 | CO97: =IF(CN97<>0,CN97*(CO$4+CO$6+1),0) -> 0 | CP97: =IF(CO97<>0,CO97*(CP$4+CP$6+1),0) -> 0
E98: Catégorie3TOUS | F98: 2 | G98: 2 | H98: 18 | I98: 46795 | J98: 47731 | K98: 48686 | L98: 49660 | M98: 50653 | N98: 52425.855 | O98: 53930 | P98: 55009 | Q98: 56247 | R98: 57231 | S98: 58376 | T98: =IF('Critères de recherche'!$N$13>0.01,CP98*(1+T$4),S98*(1+T$4)) -> 59543.52 | U98: =T98*(1+U$4) -> 60734.39 | V98: =U98*(1+V$4) -> 61949.078 | W98: =V98*(1+W$4) -> 63188.06 | X98: =W98*(1+X$4) -> 64451.821 | Y98: =X98*(1+Y$4) -> 65740.857 | Z98: =Y98*(1+Z$4) -> 67055.675 | AA98: =Z98*(1+AA$4) -> 68396.788 | AB98: =AA98*(1+AB$4) -> 69764.724 | ... CL98: =CK98*(1+CL$4) -> 238147.78 | CM98: =IF('Critères de recherche'!$N$13>0.01,'EntenteJuil2019 (avec boni)'!O98*(1.01+'Critères de recherche'!$N$13),0) -> 0 | CN98: =IF(CM98<>0,CM98*(CN$4+CN$6+1),0) -> 0 | CO98: =IF(CN98<>0,CN98*(CO$4+CO$6+1),0) -> 0 | CP98: =IF(CO98<>0,CO98*(CP$4+CP$6+1),0) -> 0
E99: Catégorie3TOUS | F99: 3 | G99: 3 | H99: 18 | I99: 48531 | J99: 49502 | K99: 50492 | L99: 51502 | M99: 52532 | N99: 54370.62 | O99: 56034 | P99: 57155 | Q99: 58441 | R99: 59464 | S99: 60653 | T99: =IF('Critères de recherche'!$N$13>0.01,CP99*(1+T$4),S99*(1+T$4)) -> 61866.06 | U99: =T99*(1+U$4) -> 63103.381 | V99: =U99*(1+V$4) -> 64365.449 | W99: =V99*(1+W$4) -> 65652.758 | X99: =W99*(1+X$4) -> 66965.813 | Y99: =X99*(1+Y$4) -> 68305.129 | Z99: =Y99*(1+Z$4) -> 69671.232 | AA99: =Z99*(1+AA$4) -> 71064.656 | AB99: =AA99*(1+AB$4) -> 72485.95 | ... CL99: =CK99*(1+CL$4) -> 247436.91 | CM99: =IF('Critères de recherche'!$N$13>0.01,'EntenteJuil2019 (avec boni)'!O99*(1.01+'Critères de recherche'!$N$13),0) -> 0 | CN99: =IF(CM99<>0,CM99*(CN$4+CN$6+1),0) -> 0 | CO99: =IF(CN99<>0,CN99*(CO$4+CO$6+1),0) -> 0 | CP99: =IF(CO99<>0,CO99*(CP$4+CP$6+1),0) -> 0
E100: Catégorie3TOUS | F100: 4 | G100: 4 | H100: 18 | I100: 50371 | J100: 51378 | K100: 52406 | L100: 53454 | M100: 54523 | N100: 56431.305 | O100: 58219 | P100: 59383 | Q100: 60719 | R100: 61782 | S100: 63018 | T100: =IF('Critères de recherche'!$N$13>0.01,CP100*(1+T$4),S100*(1+T$4)) -> 64278.36 | U100: =T100*(1+U$4) -> 65563.927 | V100: =U100*(1+V$4) -> 66875.206 | W100: =V100*(1+W$4) -> 68212.71 | X100: =W100*(1+X$4) -> 69576.964 | Y100: =X100*(1+Y$4) -> 70968.503 | Z100: =Y100*(1+Z$4) -> 72387.873 | AA100: =Z100*(1+AA$4) -> 73835.631 | AB100: =AA100*(1+AB$4) -> 75312.343 | ... CL100: =CK100*(1+CL$4) -> 257085.04 | CM100: =IF('Critères de recherche'!$N$13>0.01,'EntenteJuil2019 (avec boni)'!O100*(1.01+'Critères de recherche'!$N$13),0) -> 0 | CN100: =IF(CM100<>0,CM100*(CN$4+CN$6+1),0) -> 0 | CO100: =IF(CN100<>0,CN100*(CO$4+CO$6+1),0) -> 0 | CP100: =IF(CO100<>0,CO100*(CP$4+CP$6+1),0) -> 0
E101: Catégorie3TOUS | F101: 5 | G101: 5 | H101: 18 | I101: 52246 | J101: 53291 | K101: 54357 | L101: 55444 | M101: 56553 | N101: 58532.355 | O101: 60489 | P101: 61699 | Q101: 63087 | R101: 64191 | S101: 65475 | T101: =IF('Critères de recherche'!$N$13>0.01,CP101*(1+T$4),S101*(1+T$4)) -> 66784.5 | U101: =T101*(1+U$4) -> 68120.19 | V101: =U101*(1+V$4) -> 69482.594 | W101: =V101*(1+W$4) -> 70872.246 | X101: =W101*(1+X$4) -> 72289.691 | Y101: =X101*(1+Y$4) -> 73735.484 | Z101: =Y101*(1+Z$4) -> 75210.194 | AA101: =Z101*(1+AA$4) -> 76714.398 | AB101: =AA101*(1+AB$4) -> 78248.686 | ... CL101: =CK101*(1+CL$4) -> 267108.5 | CM101: =IF('Critères de recherche'!$N$13>0.01,'EntenteJuil2019 (avec boni)'!O101*(1.01+'Critères de recherche'!$N$13),0) -> 0 | CN101: =IF(CM101<>0,CM101*(CN$4+CN$6+1),0) -> 0 | CO101: =IF(CN101<>0,CN101*(CO$4+CO$6+1),0) -> 0 | CP101: =IF(CO101<>0,CO101*(CP$4+CP$6+1),0) -> 0
E102: Catégorie3TOUS | F102: 6 | G102: 6 | H102: 18 | I102: 54183 | J102: 55267 | K102: 56372 | L102: 57499 | M102: 58649 | N102: 60701.715 | O102: 62849 | P102: 64106 | Q102: 65548 | R102: 66695 | S102: 68029 | T102: =IF('Critères de recherche'!$N$13>0.01,CP102*(1+T$4),S102*(1+T$4)) -> 69389.58 | U102: =T102*(1+U$4) -> 70777.372 | V102: =U102*(1+V$4) -> 72192.919 | W102: =V102*(1+W$4) -> 73636.777 | X102: =W102*(1+X$4) -> 75109.513 | Y102: =X102*(1+Y$4) -> 76611.703 | Z102: =Y102*(1+Z$4) -> 78143.937 | AA102: =Z102*(1+AA$4) -> 79706.816 | AB102: =AA102*(1+AB$4) -> 81300.952 | ... CL102: =CK102*(1+CL$4) -> 277527.67 | CM102: =IF('Critères de recherche'!$N$13>0.01,'EntenteJuil2019 (avec boni)'!O102*(1.01+'Critères de recherche'!$N$13),0) -> 0 | CN102: =IF(CM102<>0,CM102*(CN$4+CN$6+1),0) -> 0 | CO102: =IF(CN102<>0,CN102*(CO$4+CO$6+1),0) -> 0 | CP102: =IF(CO102<>0,CO102*(CP$4+CP$6+1),0) -> 0
E103: Catégorie3TOUS | F103: 7 | G103: 7 | H103: 18 | I103: 56266 | J103: 57391 | K103: 58539 | L103: 59710 | M103: 60904 | N103: 63035.64 | O103: 65300 | P103: 66606 | Q103: 68105 | R103: 69297 | S103: 70683 | T103: =IF('Critères de recherche'!$N$13>0.01,CP103*(1+T$4),S103*(1+T$4)) -> 72096.66 | U103: =T103*(1+U$4) -> 73538.593 | V103: =U103*(1+V$4) -> 75009.365 | W103: =V103*(1+W$4) -> 76509.552 | X103: =W103*(1+X$4) -> 78039.743 | Y103: =X103*(1+Y$4) -> 79600.538 | Z103: =Y103*(1+Z$4) -> 81192.549 | AA103: =Z103*(1+AA$4) -> 82816.4 | AB103: =AA103*(1+AB$4) -> 84472.728 | ... CL103: =CK103*(1+CL$4) -> 288354.79 | CM103: =IF('Critères de recherche'!$N$13>0.01,'EntenteJuil2019 (avec boni)'!O103*(1.01+'Critères de recherche'!$N$13),0) -> 0 | CN103: =IF(CM103<>0,CM103*(CN$4+CN$6+1),0) -> 0 | CO103: =IF(CN103<>0,CN103*(CO$4+CO$6+1),0) -> 0 | CP103: =IF(CO103<>0,CO103*(CP$4+CP$6+1),0) -> 0
E104: Catégorie3TOUS | F104: 8 | G104: 8 | H104: 18 | I104: 59417 | J104: 60605 | K104: 61817 | L104: 63053 | M104: 64314 | N104: 66564.99 | O104: 67846 | P104: 69203 | Q104: 70760 | R104: 71998 | S104: 73438 | T104: =IF('Critères de recherche'!$N$13>0.01,CP104*(1+T$4),S104*(1+T$4)) -> 74906.76 | U104: =T104*(1+U$4) -> 76404.895 | V104: =U104*(1+V$4) -> 77932.993 | W104: =V104*(1+W$4) -> 79491.653 | X104: =W104*(1+X$4) -> 81081.486 | Y104: =X104*(1+Y$4) -> 82703.116 | Z104: =Y104*(1+Z$4) -> 84357.178 | AA104: =Z104*(1+AA$4) -> 86044.322 | AB104: =AA104*(1+AB$4) -> 87765.208 | ... CL104: =CK104*(1+CL$4) -> 299593.95 | CM104: =IF('Critères de recherche'!$N$13>0.01,'EntenteJuil2019 (avec boni)'!O104*(1.01+'Critères de recherche'!$N$13),0) -> 0 | CN104: =IF(CM104<>0,CM104*(CN$4+CN$6+1),0) -> 0 | CO104: =IF(CN104<>0,CN104*(CO$4+CO$6+1),0) -> 0 | CP104: =IF(CO104<>0,CO104*(CP$4+CP$6+1),0) -> 0
E105: Catégorie3TOUS | F105: 9 | G105: 9 | H105: 18 | I105: 61683 | J105: 62917 | K105: 64175 | L105: 65459 | M105: 66768 | N105: 69104.88 | O105: 70492 | P105: 71902 | Q105: 73520 | R105: 74807 | S105: 76303 | T105: =IF('Critères de recherche'!$N$13>0.01,CP105*(1+T$4),S105*(1+T$4)) -> 77829.06 | U105: =T105*(1+U$4) -> 79385.641 | V105: =U105*(1+V$4) -> 80973.354 | W105: =V105*(1+W$4) -> 82592.821 | X105: =W105*(1+X$4) -> 84244.678 | Y105: =X105*(1+Y$4) -> 85929.571 | Z105: =Y105*(1+Z$4) -> 87648.162 | AA105: =Z105*(1+AA$4) -> 89401.126 | AB105: =AA105*(1+AB$4) -> 91189.148 | ... CL105: =CK105*(1+CL$4) -> 311281.86 | CM105: =IF('Critères de recherche'!$N$13>0.01,'EntenteJuil2019 (avec boni)'!O105*(1.01+'Critères de recherche'!$N$13),0) -> 0 | CN105: =IF(CM105<>0,CM105*(CN$4+CN$6+1),0) -> 0 | CO105: =IF(CN105<>0,CN105*(CO$4+CO$6+1),0) -> 0 | CP105: =IF(CO105<>0,CO105*(CP$4+CP$6+1),0) -> 0
E106: Catégorie3TOUS | F106: 10 | G106: 10 | H106: 18 | I106: 64047 | J106: 65328 | K106: 66635 | L106: 67968 | M106: 69327 | N106: 71753.445 | O106: 73241 | P106: 74706 | Q106: 76387 | R106: 77724 | S106: 79278 | T106: =IF('Critères de recherche'!$N$13>0.01,CP106*(1+T$4),S106*(1+T$4)) -> 80863.56 | U106: =T106*(1+U$4) -> 82480.831 | V106: =U106*(1+V$4) -> 84130.448 | W106: =V106*(1+W$4) -> 85813.057 | X106: =W106*(1+X$4) -> 87529.318 | Y106: =X106*(1+Y$4) -> 89279.904 | Z106: =Y106*(1+Z$4) -> 91065.502 | AA106: =Z106*(1+AA$4) -> 92886.812 | AB106: =AA106*(1+AB$4) -> 94744.549 | ... CL106: =CK106*(1+CL$4) -> 323418.52 | CM106: =IF('Critères de recherche'!$N$13>0.01,'EntenteJuil2019 (avec boni)'!O106*(1.01+'Critères de recherche'!$N$13),0) -> 0 | CN106: =IF(CM106<>0,CM106*(CN$4+CN$6+1),0) -> 0 | CO106: =IF(CN106<>0,CN106*(CO$4+CO$6+1),0) -> 0 | CP106: =IF(CO106<>0,CO106*(CP$4+CP$6+1),0) -> 0
... E114: Catégorie3TOUS | F114: 18 | G114: 18 | H114: 18 | I114: 83353 | J114: 85020 | K114: 86720 | L114: 88454 | M114: 90223 | N114: 93380.805 | O114: 97390 | P114: 99338 | Q114: 101573 | R114: 103351 | S114: 105418 | T114: =IF('Critères de recherche'!$N$13>0.01,CP114*(1+T$4),S114*(1+T$4)) -> 107526.36 | U114: =T114*(1+U$4) -> 109676.89 | V114: =U114*(1+V$4) -> 111870.42 | W114: =V114*(1+W$4) -> 114107.83 | X114: =W114*(1+X$4) -> 116389.99 | Y114: =X114*(1+Y$4) -> 118717.79 | Z114: =Y114*(1+Z$4) -> 121092.15 | AA114: =Z114*(1+AA$4) -> 123513.99 | AB114: =AA114*(1+AB$4) -> 125984.27 | ... CL114: =CK114*(1+CL$4) -> 430057.94 | CM114: =IF('Critères de recherche'!$N$13>0.01,'EntenteJuil2019 (avec boni)'!O114*(1.01+'Critères de recherche'!$N$13),0) -> 0 | CN114: =IF(CM114<>0,CM114*(CN$4+CN$6+1),0) -> 0 | CO114: =IF(CN114<>0,CN114*(CO$4+CO$6+1),0) -> 0 | CP114: =IF(CO114<>0,CO114*(CP$4+CP$6+1),0) -> 0

Sheet Scénario hypothétique 2%
F1: ÉCHELLES DE TRAITEMENT CONVENTION 2019-2025 (Entente de principe - Juillet 2019)
E3: Paramètres d'augmentation
E4: Augmentation salariale | M4: 0.02 | N4: 0.02 | O4: 0.02 | P4: 0.02 | Q4: 0.02 | R4: 0.02 | S4: 0.02 | T4: 0.02 | U4: 0.02 | V4: 0.02 | W4: 0.02 | X4: 0.02 | Y4: 0.02 | Z4: 0.02 | AA4: 0.02 | AB4: 0.02 | AC4: 0.02 | AD4: 0.02 | AE4: 0.02 | AF4: 0.02 | AG4: 0.02 | AH4: 0.02 | AI4: 0.02 | AJ4: 0.02 | AK4: 0.02 | AL4: 0.02 | AM4: 0.02 | AN4: 0.02 | AO4: 0.02 | AP4: 0.02 | AQ4: 0.02 | AR4: 0.02 | AS4: 0.02 | AT4: 0.02 | AU4: 0.02 | AV4: 0.02 | AW4: 0.02 | AX4: 0.02 | AY4: 0.02 | AZ4: 0.02 | BA4: 0.02 | BB4: 0.02 | BC4: 0.02 | BD4: 0.02 | BE4: 0.02 | BF4: 0.02 | BG4: 0.02 | BH4: 0.02 | BI4: 0.02 | BJ4: 0.02 | BK4: 0.02 | BL4: 0.02 | BM4: 0.02 | BN4: 0.02 | BO4: 0.02 | BP4: 0.02 | BQ4: 0.02 | BR4: 0.02 | BS4: 0.02 | BT4: 0.02 | BU4: 0.02 | BV4: 0.02 | BW4: 0.02 | BX4: 0.02 | BY4: 0.02 | BZ4: 0.02 | CA4: 0.02 | CB4: 0.02 | CC4: 0.02 | CD4: 0.02 | CE4: 0.02 | CF4: 0.02 | CG4: 0.02 | CH4: 0.02 | CI4: 0.02 | CJ4: 0.02 | CK4: 0.02
E5: Intégration du boni
E6: Boni | M6: 0.0398 | N6: 0.0398 | O6: 0.0398 | P6: 0.0398 | Q6: 0.0398 | R6: 0.0398 | S6: 0.0398 | T6: 0.0398 | U6: 0.0398 | V6: 0.0398 | W6: 0.0398 | X6: 0.0398 | Y6: 0.0398 | Z6: 0.0398 | AA6: 0.0398 | AB6: 0.0398 | AC6: 0.0398 | AD6: 0.0398 | AE6: 0.0398 | AF6: 0.0398 | AG6: 0.0398 | AH6: 0.0398 | AI6: 0.0398 | AJ6: 0.0398 | AK6: 0.0398 | AL6: 0.0398 | AM6: 0.0398 | AN6: 0.0398 | AO6: 0.0398 | AP6: 0.0398 | AQ6: 0.0398 | AR6: 0.0398 | AS6: 0.0398 | AT6: 0.0398 | AU6: 0.0398 | AV6: 0.0398 | AW6: 0.0398 | AX6: 0.0398 | AY6: 0.0398 | AZ6: 0.0398 | BA6: 0.0398 | BB6: 0.0398 | BC6: 0.0398 | BD6: 0.0398 | BE6: 0.0398 | BF6: 0.0398 | BG6: 0.0398 | BH6: 0.0398 | BI6: 0.0398 | BJ6: 0.0398 | BK6: 0.0398 | BL6: 0.0398 | BM6: 0.0398 | BN6: 0.0398 | BO6: 0.0398 | BP6: 0.0398 | BQ6: 0.0398 | BR6: 0.0398 | BS6: 0.0398 | BT6: 0.0398 | BU6: 0.0398 | BV6: 0.0398 | BW6: 0.0398 | BX6: 0.0398 | BY6: 0.0398 | BZ6: 0.0398 | CA6: 0.0398 | CB6: 0.0398 | CC6: 0.0398 | CD6: 0.0398 | CE6: 0.0398 | CF6: 0.0398 | CG6: 0.0398 | CH6: 0.0398 | CI6: 0.0398 | CJ6: 0.0398 | CK6: 0.0398
E9: Titres | F9: Échelon | G9: Nb échelons max | H9: Salaire 2014 | I9: Salaire 2015 | J9: Salaire 2016 | K9: Salaire 2017 | L9: Salaire 2018 | M9: Salaire 2019 | N9: Salaire 2020 | O9: Salaire 2021 | P9: Salaire 2022 | Q9: Salaire 2023 | R9: Salaire 2024 | S9: Salaire 2025 | T9: Salaire 2026 | U9: Salaire 2027 | V9: Salaire 2028 | W9: Salaire 2029 | X9: Salaire 2030 | Y9: Salaire 2031 | Z9: Salaire 2032 | AA9: Salaire 2033 | AB9: Salaire 2034 | AC9: Salaire 2035 | AD9: Salaire 2036 | AE9: Salaire 2037 | AF9: Salaire 2038 | AG9: Salaire 2039 | AH9: Salaire 2040 | AI9: Salaire 2041 | AJ9: Salaire 2042 | AK9: Salaire 2043 | AL9: Salaire 2044 | AM9: Salaire 2045 | AN9: Salaire 2046 | AO9: Salaire 2047 | AP9: Salaire 2048 | AQ9: Salaire 2049 | AR9: Salaire 2050 | AS9: Salaire 2051 | AT9: Salaire 2052 | AU9: Salaire 2053 | AV9: Salaire 2054 | AW9: Salaire 2055 | AX9: Salaire 2056 | AY9: Salaire 2057 | AZ9: Salaire 2058 | BA9: Salaire 2059 | BB9: Salaire 2060 | BC9: Salaire 2061 | BD9: Salaire 2062 | BE9: Salaire 2063 | BF9: Salaire 2064 | BG9: Salaire 2065 | BH9: Salaire 2066 | BI9: Salaire 2067 | BJ9: Salaire 2068 | BK9: Salaire 2069 | BL9: Salaire 2070 | BM9: Salaire 2071 | BN9: Salaire 2072 | BO9: Salaire 2073 | BP9: Salaire 2074 | BQ9: Salaire 2075 | BR9: Salaire 2076 | BS9: Salaire 2077 | BT9: Salaire 2078 | BU9: Salaire 2079 | BV9: Salaire 2080 | BW9: Salaire 2081 | BX9: Salaire 2082 | BY9: Salaire 2083 | BZ9: Salaire 2084 | CA9: Salaire 2085 | CB9: Salaire 2086 | CC9: Salaire 2087 | CD9: Salaire 2088 | CE9: Salaire 2089 | CF9: Salaire 2090 | CG9: Salaire 2091 | CH9: Salaire 2092 | CI9: Salaire 2093 | CJ9: Salaire 2094 | CK9: Salaire 2095
E10: AgentDeBureauCL1 | F10: 1 | G10: 7 | H10: 33568 | I10: 34239 | J10: 34924 | K10: 35622 | L10: 36334 | M10: =L10*(1+M$4) -> 37060.68 | N10: =M10*(1+N$4) -> 37801.894 | O10: =N10*(1+O$4) -> 38557.931 | P10: =O10*(1+P$4) -> 39329.09 | Q10: =P10*(1+Q$4) -> 40115.672 | R10: =Q10*(1+R$4) -> 40917.985 | S10: =R10*(1+S$4) -> 41736.345 | T10: =S10*(1+T$4) -> 42571.072 | ... CK10: =CJ10*(1+CK$4) -> 166926.94
E11: AgentDeBureauCL1 | F11: 2 | G11: 7 | H11: 34741 | I11: 35436 | J11: 36145 | K11: 36868 | L11: 37605 | M11: =L11*(1+M$4) -> 38357.1 | N11: =M11*(1+N$4) -> 39124.242 | O11: =N11*(1+O$4) -> 39906.727 | P11: =O11*(1+P$4) -> 40704.861 | Q11: =P11*(1+Q$4) -> 41518.959 | R11: =Q11*(1+R$4) -> 42349.338 | S11: =R11*(1+S$4) -> 43196.325 | T11: =S11*(1+T$4) -> 44060.251 | ... CK11: =CJ11*(1+CK$4) -> 172766.21
E12: AgentDeBureauCL1 | F12: 3 | G12: 7 | H12: 35953 | I12: 36672 | J12: 37405 | K12: 38153 | L12: 38916 | M12: =L12*(1+M$4) -> 39694.32 | N12: =M12*(1+N$4) -> 40488.206 | O12: =N12*(1+O$4) -> 41297.971 | P12: =O12*(1+P$4) -> 42123.93 | Q12: =P12*(1+Q$4) -> 42966.409 | R12: =Q12*(1+R$4) -> 43825.737 | S12: =R12*(1+S$4) -> 44702.251 | T12: =S12*(1+T$4) -> 45596.296 | ... CK12: =CJ12*(1+CK$4) -> 178789.26
E13: AgentDeBureauCL1 | F13: 4 | G13: 7 | H13: 37182 | I13: 37926 | J13: 38685 | K13: 39459 | L13: 40248 | M13: =L13*(1+M$4) -> 41052.96 | N13: =M13*(1+N$4) -> 41874.019 | O13: =N13*(1+O$4) -> 42711.5 | P13: =O13*(1+P$4) -> 43565.73 | Q13: =P13*(1+Q$4) -> 44437.044 | R13: =Q13*(1+R$4) -> 45325.785 | S13: =R13*(1+S$4) -> 46232.301 | T13: =S13*(1+T$4) -> 47156.947 | ... CK13: =CJ13*(1+CK$4) -> 184908.78
E14: AgentDeBureauCL1 | F14: 5 | G14: 7 | H14: 38411 | I14: 39179 | J14: 39963 | K14: 40762 | L14: 41577 | M14: =L14*(1+M$4) -> 42408.54 | N14: =M14*(1+N$4) -> 43256.711 | O14: =N14*(1+O$4) -> 44121.845 | P14: =O14*(1+P$4) -> 45004.282 | Q14: =P14*(1+Q$4) -> 45904.368 | R14: =Q14*(1+R$4) -> 46822.455 | S14: =R14*(1+S$4) -> 47758.904 | T14: =S14*(1+T$4) -> 48714.082 | ... CK14: =CJ14*(1+CK$4) -> 191014.52
E15: AgentDeBureauCL1 | F15: 6 | G15: 7 | H15: 39752 | I15: 40547 | J15: 41358 | K15: 42185 | L15: 43029 | M15: =L15*(1+M$4) -> 43889.58 | N15: =M15*(1+N$4) -> 44767.372 | O15: =N15*(1+O$4) -> 45662.719 | P15: =O15*(1+P$4) -> 46575.973 | Q15: =P15*(1+Q$4) -> 47507.493 | R15: =Q15*(1+R$4) -> 48457.643 | S15: =R15*(1+S$4) -> 49426.796 | T15: =S15*(1+T$4) -> 50415.332 | ... CK15: =CJ15*(1+CK$4) -> 197685.35
E16: AgentDeBureauCL1 | F16: 7 | G16: 7 | H16: 41112 | I16: 41934 | J16: 42773 | K16: 43628 | L16: 44501 | M16: =L16*(1+M$4) -> 45391.02 | N16: =M16*(1+N$4) -> 46298.84 | O16: =N16*(1+O$4) -> 47224.817 | P16: =O16*(1+P$4) -> 48169.314 | Q16: =P16*(1+Q$4) -> 49132.7 | R16: =Q16*(1+R$4) -> 50115.354 | S16: =R16*(1+S$4) -> 51117.661 | T16: =S16*(1+T$4) -> 52140.014 | ... CK16: =CJ16*(1+CK$4) -> 204448.06
E17: AgentDeBureauCP | F17: 0 | M17: =L17*(1+M$4) -> 0 | N17: =M17*(1+N$4) -> 0 | O17: =N17*(1+O$4) -> 0 | P17: =O17*(1+P$4) -> 0 | Q17: =P17*(1+Q$4) -> 0 | R17: =Q17*(1+R$4) -> 0 | S17: =R17*(1+S$4) -> 0 | T17: =S17*(1+T$4) -> 0 | ... CK17: =CJ17*(1+CK$4) -> 0
E18: AgentDeBureauCP | F18: 1 | G18: 5 | H18: 44018 | I18: 44898 | J18: 48381 | K18: 49349 | L18: 50336 | M18: =L18*(1+M$4) -> 51342.72 | N18: =M18*(1+N$4) -> 52369.574 | O18: =N18*(1+O$4) -> 53416.966 | P18: =O18*(1+P$4) -> 54485.305 | Q18: =P18*(1+Q$4) -> 55575.011 | R18: =Q18*(1+R$4) -> 56686.512 | S18: =R18*(1+S$4) -> 57820.242 | T18: =S18*(1+T$4) -> 58976.647 | ... CK18: =CJ18*(1+CK$4) -> 231255.42
E19: AgentDeBureauCP | F19: 2 | G19: 5 | H19: 45453 | I19: 46362 | J19: 49935 | K19: 50934 | L19: 51953 | M19: =L19*(1+M$4) -> 52992.06 | N19: =M19*(1+N$4) -> 54051.901 | O19: =N19*(1+O$4) -> 55132.939 | P19: =O19*(1+P$4) -> 56235.598 | Q19: =P19*(1+Q$4) -> 57360.31 | R19: =Q19*(1+R$4) -> 58507.516 | S19: =R19*(1+S$4) -> 59677.666 | T19: =S19*(1+T$4) -> 60871.22 | ... CK19: =CJ19*(1+CK$4) -> 238684.3
E20: AgentDeBureauCP | F20: 3 | G20: 5 | H20: 46962 | I20: 47901 | J20: 51617 | K20: 52649 | L20: 53702 | M20: =L20*(1+M$4) -> 54776.04 | N20: =M20*(1+N$4) -> 55871.561 | O20: =N20*(1+O$4) -> 56988.992 | P20: =O20*(1+P$4) -> 58128.772 | Q20: =P20*(1+Q$4) -> 59291.347 | R20: =Q20*(1+R$4) -> 60477.174 | S20: =R20*(1+S$4) -> 61686.718 | T20: =S20*(1+T$4) -> 62920.452 | ... CK20: =CJ20*(1+CK$4) -> 246719.62
E21: AgentDeBureauCP | F21: 4 | G21: 5 | H21: 48415 | I21: 49383 | J21: 53194 | K21: 54258 | L21: 55343 | M21: =L21*(1+M$4) -> 56449.86 | N21: =M21*(1+N$4) -> 57578.857 | O21: =N21*(1+O$4) -> 58730.434 | P21: =O21*(1+P$4) -> 59905.043 | Q21: =P21*(1+Q$4) -> 61103.144 | R21: =Q21*(1+R$4) -> 62325.207 | S21: =R21*(1+S$4) -> 63571.711 | T21: =S21*(1+T$4) -> 64843.145 | ... CK21: =CJ21*(1+CK$4) -> 254258.76
E22: AgentDeBureauCP | F22: 5 | G22: 5 | H22: 49756 | I22: 50751 | J22: 54676 | K22: 55770 | L22: 56885 | M22: =L22*(1+M$4) -> 58022.7 | N22: =M22*(1+N$4) -> 59183.154 | O22: =N22*(1+O$4) -> 60366.817 | P22: =O22*(1+P$4) -> 61574.153 | Q22: =P22*(1+Q$4) -> 62805.636 | R22: =Q22*(1+R$4) -> 64061.749 | S22: =R22*(1+S$4) -> 65342.984 | T22: =S22*(1+T$4) -> 66649.844 | ... CK22: =CJ22*(1+CK$4) -> 261343.07
E23: SecrétaireCL1 | F23: 1 | G23: 3 | H23: 42547 | I23: 43398 | J23: 44691 | K23: 45585 | L23: 46497 | M23: =L23*(1+M$4) -> 47426.94 | N23: =M23*(1+N$4) -> 48375.479 | O23: =N23*(1+O$4) -> 49342.988 | P23: =O23*(1+P$4) -> 50329.848 | Q23: =P23*(1+Q$4) -> 51336.445 | R23: =Q23*(1+R$4) -> 52363.174 | S23: =R23*(1+S$4) -> 53410.437 | T23: =S23*(1+T$4) -> 54478.646 | ... CK23: =CJ23*(1+CK$4) -> 213618.15
E24: SecrétaireCL1 | F24: 2 | G24: 3 | H24: 43832 | I24: 44709 | J24: 46055 | K24: 49976 | L24: 47916 | M24: =L24*(1+M$4) -> 48874.32 | N24: =M24*(1+N$4) -> 49851.806 | O24: =N24*(1+O$4) -> 50848.843 | P24: =O24*(1+P$4) -> 51865.819 | Q24: =P24*(1+Q$4) -> 52903.136 | R24: =Q24*(1+R$4) -> 53961.198 | S24: =R24*(1+S$4) -> 55040.422 | T24: =S24*(1+T$4) -> 56141.231 | ... CK24: =CJ24*(1+CK$4) -> 220137.37
E25: SecrétaireCL1 | F25: 3 | G25: 3 | H25: 45248 | I25: 46153 | J25: 47530 | K25: 48481 | L25: 49451 | M25: =L25*(1+M$4) -> 50440.02 | N25: =M25*(1+N$4) -> 51448.82 | O25: =N25*(1+O$4) -> 52477.797 | P25: =O25*(1+P$4) -> 53527.353 | Q25: =P25*(1+Q$4) -> 54597.9 | R25: =Q25*(1+R$4) -> 55689.858 | S25: =R25*(1+S$4) -> 56803.655 | T25: =S25*(1+T$4) -> 57939.728 | ... CK25: =CJ25*(1+CK$4) -> 227189.53
E26: AgentDeRecouvrement | F26: 0 | M26: =L26*(1+M$4) -> 0 | N26: =M26*(1+N$4) -> 0 | O26: =N26*(1+O$4) -> 0 | P26: =O26*(1+P$4) -> 0 | Q26: =P26*(1+Q$4) -> 0 | R26: =Q26*(1+R$4) -> 0 | S26: =R26*(1+S$4) -> 0 | T26: =S26*(1+T$4) -> 0 | ... CK26: =CJ26*(1+CK$4) -> 0
E27: AgentDeRecouvrement | F27: 0 | M27: =L27*(1+M$4) -> 0 | N27: =M27*(1+N$4) -> 0 | O27: =N27*(1+O$4) -> 0 | P27: =O27*(1+P$4) -> 0 | Q27: =P27*(1+Q$4) -> 0 | R27: =Q27*(1+R$4) -> 0 | S27: =R27*(1+S$4) -> 0 | T27: =S27*(1+T$4) -> 0 | ... CK27: =CJ27*(1+CK$4) -> 0
E28: AgentDeRecouvrement | F28: 1 | G28: 8 | H28: 46179 | I28: 47103 | J28: 48045 | K28: 49006 | L28: 49986 | M28: =L28*(1+M$4) -> 50985.72 | N28: =M28*(1+N$4) -> 52005.434 | O28: =N28*(1+O$4) -> 53045.543 | P28: =O28*(1+P$4) -> 54106.454 | Q28: =P28*(1+Q$4) -> 55188.583 | R28: =Q28*(1+R$4) -> 56292.355 | S28: =R28*(1+S$4) -> 57418.202 | T28: =S28*(1+T$4) -> 58566.566 | ... CK28: =CJ28*(1+CK$4) -> 229647.44
E29: AgentDeRecouvrement | F29: 2 | G29: 8 | H29: 47670 | I29: 48623 | J29: 49595 | K29: 50587 | L29: 51599 | M29: =L29*(1+M$4) -> 52630.98 | N29: =M29*(1+N$4) -> 53683.6 | O29: =N29*(1+O$4) -> 54757.272 | P29: =O29*(1+P$4) -> 55852.417 | Q29: =P29*(1+Q$4) -> 56969.465 | R29: =Q29*(1+R$4) -> 58108.855 | S29: =R29*(1+S$4) -> 59271.032 | T29: =S29*(1+T$4) -> 60456.452 | ... CK29: =CJ29*(1+CK$4) -> 237057.94
E30: AgentDeRecouvrement | F30: 3 | G30: 8 | H30: 49532 | I30: 50523 | J30: 51533 | K30: 52564 | L30: 53615 | M30: =L30*(1+M$4) -> 54687.3 | N30: =M30*(1+N$4) -> 55781.046 | O30: =N30*(1+O$4) -> 56896.667 | P30: =O30*(1+P$4) -> 58034.6 | Q30: =P30*(1+Q$4) -> 59195.292 | R30: =Q30*(1+R$4) -> 60379.198 | S30: =R30*(1+S$4) -> 61586.782 | T30: =S30*(1+T$4) -> 62818.518 | ... CK30: =CJ30*(1+CK$4) -> 246319.92
E31: AgentDeRecouvrement | F31: 4 | G31: 8 | H31: 51302 | I31: 52328 | J31: 53375 | K31: 54443 | L31: 55532 | M31: =L31*(1+M$4) -> 56642.64 | N31: =M31*(1+N$4) -> 57775.493 | O31: =N31*(1+O$4) -> 58931.003 | P31: =O31*(1+P$4) -> 60109.623 | Q31: =P31*(1+Q$4) -> 61311.815 | R31: =Q31*(1+R$4) -> 62538.051 | S31: =R31*(1+S$4) -> 63788.812 | T31: =S31*(1+T$4) -> 65064.589 | ... CK31: =CJ31*(1+CK$4) -> 255127.07
E32: AgentDeRecouvrement | F32: 5 | G32: 8 | H32: 53072 | I32: 54133 | J32: 55216 | K32: 56320 | L32: 57446 | M32: =L32*(1+M$4) -> 58594.92 | N32: =M32*(1+N$4) -> 59766.818 | O32: =N32*(1+O$4) -> 60962.155 | P32: =O32*(1+P$4) -> 62181.398 | Q32: =P32*(1+Q$4) -> 63425.026 | R32: =Q32*(1+R$4) -> 64693.526 | S32: =R32*(1+S$4) -> 65987.397 | T32: =S32*(1+T$4) -> 67307.145 | ... CK32: =CJ32*(1+CK$4) -> 263920.44
E33: AgentDeRecouvrement | F33: 6 | G33: 8 | H33: 55028 | I33: 56129 | J33: 57252 | K33: 58397 | L33: 59565 | M33: =L33*(1+M$4) -> 60756.3 | N33: =M33*(1+N$4) -> 61971.426 | O33: =N33*(1+O$4) -> 63210.855 | P33: =O33*(1+P$4) -> 64475.072 | Q33: =P33*(1+Q$4) -> 65764.573 | R33: =Q33*(1+R$4) -> 67079.865 | S33: =R33*(1+S$4) -> 68421.462 | T33: =S33*(1+T$4) -> 69789.891 | ... CK33: =CJ33*(1+CK$4) -> 273655.62
E34: AgentDeRecouvrement | F34: 7 | G34: 8 | H34: 57039 | I34: 58180 | J34: 59344 | K34: 60531 | L34: 61742 | M34: =L34*(1+M$4) -> 62976.84 | N34: =M34*(1+N$4) -> 64236.377 | O34: =N34*(1+O$4) -> 65521.104 | P34: =O34*(1+P$4) -> 66831.526 | Q34: =P34*(1+Q$4) -> 68168.157 | R34: =Q34*(1+R$4) -> 69531.52 | S34: =R34*(1+S$4) -> 70922.15 | T34: =S34*(1+T$4) -> 72340.594 | ... CK34: =CJ34*(1+CK$4) -> 283657.27
E35: AgentDeRecouvrement | F35: 8 | G35: 8 | H35: 59070 | I35: 60251 | J35: 61456 | K35: 62685 | L35: 63939 | M35: =L35*(1+M$4) -> 65217.78 | N35: =M35*(1+N$4) -> 66522.136 | O35: =N35*(1+O$4) -> 67852.578 | P35: =O35*(1+P$4) -> 69209.63 | Q35: =P35*(1+Q$4) -> 70593.822 | R35: =Q35*(1+R$4) -> 72005.699 | S35: =R35*(1+S$4) -> 73445.813 | T35: =S35*(1+T$4) -> 74914.729 | ... CK35: =CJ35*(1+CK$4) -> 293750.8
E36: TechnicienTOUS | F36: 1 | G36: 12 | H36: 36493 | I36: 37223 | J36: 37967 | K36: 38726 | L36: 39501 | M36: =L36*(1+M$4) -> 40291.02 | N36: =M36*(1+N$4) -> 41096.84 | O36: =N36*(1+O$4) -> 41918.777 | P36: =O36*(1+P$4) -> 42757.153 | Q36: =P36*(1+Q$4) -> 43612.296 | R36: =Q36*(1+R$4) -> 44484.542 | S36: =R36*(1+S$4) -> 45374.233 | T36: =S36*(1+T$4) -> 46281.717 | ... CK36: =CJ36*(1+CK$4) -> 181476.88
E37: TechnicienTOUS | F37: 2 | G37: 12 | H37: 37703 | I37: 38457 | J37: 39226 | K37: 40011 | L37: 40811 | M37: =L37*(1+M$4) -> 41627.22 | N37: =M37*(1+N$4) -> 42459.764 | O37: =N37*(1+O$4) -> 43308.96 | P37: =O37*(1+P$4) -> 44175.139 | Q37: =P37*(1+Q$4) -> 45058.642 | R37: =Q37*(1+R$4) -> 45959.814 | S37: =R37*(1+S$4) -> 46879.011 | T37: =S37*(1+T$4) -> 47816.591 | ... CK37: =CJ37*(1+CK$4) -> 187495.33
E38: TechnicienTOUS | F38: 3 | G38: 12 | H38: 39287 | I38: 40073 | J38: 40874 | K38: 41691 | L38: 42525 | M38: =L38*(1+M$4) -> 43375.5 | N38: =M38*(1+N$4) -> 44243.01 | O38: =N38*(1+O$4) -> 45127.87 | P38: =O38*(1+P$4) -> 46030.428 | Q38: =P38*(1+Q$4) -> 46951.036 | R38: =Q38*(1+R$4) -> 47890.057 | S38: =R38*(1+S$4) -> 48847.858 | T38: =S38*(1+T$4) -> 49824.815 | ... CK38: =CJ38*(1+CK$4) -> 195369.85
E39: TechnicienTOUS | F39: 4 | G39: 12 | H39: 40647 | I39: 41460 | J39: 42289 | K39: 43135 | L39: 43998 | M39: =L39*(1+M$4) -> 44877.96 | N39: =M39*(1+N$4) -> 45775.519 | O39: =N39*(1+O$4) -> 46691.03 | P39: =O39*(1+P$4) -> 47624.85 | Q39: =P39*(1+Q$4) -> 48577.347 | R39: =Q39*(1+R$4) -> 49548.894 | S39: =R39*(1+S$4) -> 50539.872 | T39: =S39*(1+T$4) -> 51550.669 | ... CK39: =CJ39*(1+CK$4) -> 202137.16
... E81: GraphisteCP | F81: 3 | G81: 3 | H81: 63784 | I81: 65060 | J81: 66361 | K81: 67688 | L81: 69042 | M81: =L81*(1+M$4) -> 70422.84 | N81: =M81*(1+N$4) -> 71831.297 | O81: =N81*(1+O$4) -> 73267.923 | P81: =O81*(1+P$4) -> 74733.281 | Q81: =P81*(1+Q$4) -> 76227.947 | R81: =Q81*(1+R$4) -> 77752.506 | S81: =R81*(1+S$4) -> 79307.556 | T81: =S81*(1+T$4) -> 80893.707 | ... CK81: =CJ81*(1+CK$4) -> 317195.19
E82: TechnicienCP | F82: 0 | M82: =L82*(1+M$4) -> 0 | N82: =M82*(1+N$4) -> 0 | O82: =N82*(1+O$4) -> 0 | P82: =O82*(1+P$4) -> 0 | Q82: =P82*(1+Q$4) -> 0 | R82: =Q82*(1+R$4) -> 0 | S82: =R82*(1+S$4) -> 0 | T82: =S82*(1+T$4) -> 0 | ... CK82: =CJ82*(1+CK$4) -> 0
E83: TechnicienCP | F83: 0 | M83: =L83*(1+M$4) -> 0 | N83: =M83*(1+N$4) -> 0 | O83: =N83*(1+O$4) -> 0 | P83: =O83*(1+P$4) -> 0 | Q83: =P83*(1+Q$4) -> 0 | R83: =Q83*(1+R$4) -> 0 | S83: =R83*(1+S$4) -> 0 | T83: =S83*(1+T$4) -> 0 | ... CK83: =CJ83*(1+CK$4) -> 0
E84: TechnicienCP | F84: 1 | G84: 3 | H84: 55344 | I84: 56451 | J84: 57580 | K84: 58732 | L84: 59907 | M84: =L84*(1+M$4) -> 61105.14 | N84: =M84*(1+N$4) -> 62327.243 | O84: =N84*(1+O$4) -> 63573.788 | P84: =O84*(1+P$4) -> 64845.263 | Q84: =P84*(1+Q$4) -> 66142.169 | R84: =Q84*(1+R$4) -> 67465.012 | S84: =R84*(1+S$4) -> 68814.312 | T84: =S84*(1+T$4) -> 70190.599 | ... CK84: =CJ84*(1+CK$4) -> 275226.85
E85: TechnicienCP | F85: 2 | G85: 3 | H85: 57431 | I85: 58580 | J85: 59752 | K85: 60947 | L85: 62166 | M85: =L85*(1+M$4) -> 63409.32 | N85: =M85*(1+N$4) -> 64677.506 | O85: =N85*(1+O$4) -> 65971.057 | P85: =O85*(1+P$4) -> 67290.478 | Q85: =P85*(1+Q$4) -> 68636.287 | R85: =Q85*(1+R$4) -> 70009.013 | S85: =R85*(1+S$4) -> 71409.193 | T85: =S85*(1+T$4) -> 72837.377 | ... CK85: =CJ85*(1+CK$4) -> 285605.23
E86: TechnicienCP | F86: 3 | G86: 3 | H86: 59722 | I86: 60196 | J86: 62134 | K86: 63377 | L86: 64645 | M86: =L86*(1+M$4) -> 65937.9 | N86: =M86*(1+N$4) -> 67256.658 | O86: =N86*(1+O$4) -> 68601.791 | P86: =O86*(1+P$4) -> 69973.827 | Q86: =P86*(1+Q$4) -> 71373.304 | R86: =Q86*(1+R$4) -> 72800.77 | S86: =R86*(1+S$4) -> 74256.785 | T86: =S86*(1+T$4) -> 75741.921 | ... CK86: =CJ86*(1+CK$4) -> 296994.33
E87: TechnicienCPÉquité | F87: 0 | M87: =L87*(1+M$4) -> 0 | N87: =M87*(1+N$4) -> 0 | O87: =N87*(1+O$4) -> 0 | P87: =O87*(1+P$4) -> 0 | Q87: =P87*(1+Q$4) -> 0 | R87: =Q87*(1+R$4) -> 0 | S87: =R87*(1+S$4) -> 0 | T87: =S87*(1+T$4) -> 0 | ... CK87: =CJ87*(1+CK$4) -> 0
E88: TechnicienCPÉquité | F88: 0 | M88: =L88*(1+M$4) -> 0 | N88: =M88*(1+N$4) -> 0 | O88: =N88*(1+O$4) -> 0 | P88: =O88*(1+P$4) -> 0 | Q88: =P88*(1+Q$4) -> 0 | R88: =Q88*(1+R$4) -> 0 | S88: =R88*(1+S$4) -> 0 | T88: =S88*(1+T$4) -> 0 | ... CK88: =CJ88*(1+CK$4) -> 0
E89: TechnicienCPÉquité | F89: 1 | G89: 3 | H89: 55344 | I89: 56451 | J89: 58303 | K89: 59469 | L89: 60658 | M89: =L89*(1+M$4) -> 61871.16 | N89: =M89*(1+N$4) -> 63108.583 | O89: =N89*(1+O$4) -> 64370.755 | P89: =O89*(1+P$4) -> 65658.17 | Q89: =P89*(1+Q$4) -> 66971.333 | R89: =Q89*(1+R$4) -> 68310.76 | S89: =R89*(1+S$4) -> 69676.975 | T89: =S89*(1+T$4) -> 71070.515 | ... CK89: =CJ89*(1+CK$4) -> 278677.12
E90: TechnicienCPÉquité | F90: 2 | G90: 3 | H90: 57431 | I90: 58580 | J90: 60507 | K90: 61717 | L90: 62951 | M90: =L90*(1+M$4) -> 64210.02 | N90: =M90*(1+N$4) -> 65494.22 | O90: =N90*(1+O$4) -> 66804.105 | P90: =O90*(1+P$4) -> 68140.187 | Q90: =P90*(1+Q$4) -> 69502.991 | R90: =Q90*(1+R$4) -> 70893.05 | S90: =R90*(1+S$4) -> 72310.911 | T90: =S90*(1+T$4) -> 73757.13 | ... CK90: =CJ90*(1+CK$4) -> 289211.7
E91: TechnicienCPÉquité | F91: 3 | G91: 3 | H91: 59722 | I91: 60196 | J91: 62895 | K91: 64153 | L91: 65436 | M91: =L91*(1+M$4) -> 66744.72 | N91: =M91*(1+N$4) -> 68079.614 | O91: =N91*(1+O$4) -> 69441.207 | P91: =O91*(1+P$4) -> 70830.031 | Q91: =P91*(1+Q$4) -> 72246.631 | R91: =Q91*(1+R$4) -> 73691.564 | S91: =R91*(1+S$4) -> 75165.395 | T91: =S91*(1+T$4) -> 76668.703 | ... CK91: =CJ91*(1+CK$4) -> 300628.38
E92: TechnicienLaboratoireCLP | F92: 0 | M92: =L92*(1+M$4) -> 0 | N92: =M92*(1+N$4) -> 0 | O92: =N92*(1+O$4) -> 0 | P92: =O92*(1+P$4) -> 0 | Q92: =P92*(1+Q$4) -> 0 | R92: =Q92*(1+R$4) -> 0 | S92: =R92*(1+S$4) -> 0 | T92: =S92*(1+T$4) -> 0 | ... CK92: =CJ92*(1+CK$4) -> 0
E93: TechnicienLaboratoireCLP | F93: 0 | M93: =L93*(1+M$4) -> 0 | N93: =M93*(1+N$4) -> 0 | O93: =N93*(1+O$4) -> 0 | P93: =O93*(1+P$4) -> 0 | Q93: =P93*(1+Q$4) -> 0 | R93: =Q93*(1+R$4) -> 0 | S93: =R93*(1+S$4) -> 0 | T93: =S93*(1+T$4) -> 0 | ... CK93: =CJ93*(1+CK$4) -> 0
E94: TechnicienLaboratoireCLP | F94: 1 | G94: 2 | H94: 60896 | I94: 62114 | J94: 69053 | K94: 70434 | L94: 72474 | M94: =L94*(1+M$4) -> 73923.48 | N94: =M94*(1+N$4) -> 75401.95 | O94: =N94*(1+O$4) -> 76909.989 | P94: =O94*(1+P$4) -> 78448.188 | Q94: =P94*(1+Q$4) -> 80017.152 | R94: =Q94*(1+R$4) -> 81617.495 | S94: =R94*(1+S$4) -> 83249.845 | T94: =S94*(1+T$4) -> 84914.842 | ... CK94: =CJ94*(1+CK$4) -> 332962.6
E95: TechnicienLaboratoireCLP | F95: 2 | G95: 2 | H95: 63784 | I95: 65060 | J95: 72329 | K95: 73776 | L95: 75912 | M95: =L95*(1+M$4) -> 77430.24 | N95: =M95*(1+N$4) -> 78978.845 | O95: =N95*(1+O$4) -> 80558.422 | P95: =O95*(1+P$4) -> 82169.59 | Q95: =P95*(1+Q$4) -> 83812.982 | R95: =Q95*(1+R$4) -> 85489.242 | S95: =R95*(1+S$4) -> 87199.026 | T95: =S95*(1+T$4) -> 88943.007 | ... CK95: =CJ95*(1+CK$4) -> 348757.58
E96: Catégorie3TOUS | F96: 1 | G96: 18 | H96: 45135 | I96: 46038 | J96: 46959 | K96: 47898 | L96: 48856 | M96: =L96*(1+M$4) -> 49833.12 | N96: =M96*(1+N$4) -> 50829.782 | O96: =N96*(1+O$4) -> 51846.378 | P96: =O96*(1+P$4) -> 52883.306 | Q96: =P96*(1+Q$4) -> 53940.972 | R96: =Q96*(1+R$4) -> 55019.791 | S96: =R96*(1+S$4) -> 56120.187 | T96: =S96*(1+T$4) -> 57242.591 | ... CK96: =CJ96*(1+CK$4) -> 224455.96
E97: Catégorie3TOUS | F97: 2 | G97: 18 | H97: 46795 | I97: 47731 | J97: 48686 | K97: 49660 | L97: 50653 | M97: =L97*(1+M$4) -> 51666.06 | N97: =M97*(1+N$4) -> 52699.381 | O97: =N97*(1+O$4) -> 53753.369 | P97: =O97*(1+P$4) -> 54828.436 | Q97: =P97*(1+Q$4) -> 55925.005 | R97: =Q97*(1+R$4) -> 57043.505 | S97: =R97*(1+S$4) -> 58184.375 | T97: =S97*(1+T$4) -> 59348.063 | ... CK97: =CJ97*(1+CK$4) -> 232711.8
E98: Catégorie3TOUS | F98: 3 | G98: 18 | H98: 48531 | I98: 49502 | J98: 50492 | K98: 51502 | L98: 52532 | M98: =L98*(1+M$4) -> 53582.64 | N98: =M98*(1+N$4) -> 54654.293 | O98: =N98*(1+O$4) -> 55747.379 | P98: =O98*(1+P$4) -> 56862.326 | Q98: =P98*(1+Q$4) -> 57999.573 | R98: =Q98*(1+R$4) -> 59159.564 | S98: =R98*(1+S$4) -> 60342.755 | T98: =S98*(1+T$4) -> 61549.611 | ... CK98: =CJ98*(1+CK$4) -> 241344.36
E99: Catégorie3TOUS | F99: 4 | G99: 18 | H99: 50371 | I99: 51378 | J99: 52406 | K99: 53454 | L99: 54523 | M99: =L99*(1+M$4) -> 55613.46 | N99: =M99*(1+N$4) -> 56725.729 | O99: =N99*(1+O$4) -> 57860.244 | P99: =O99*(1+P$4) -> 59017.449 | Q99: =P99*(1+Q$4) -> 60197.798 | R99: =Q99*(1+R$4) -> 61401.754 | S99: =R99*(1+S$4) -> 62629.789 | T99: =S99*(1+T$4) -> 63882.384 | ... CK99: =CJ99*(1+CK$4) -> 250491.49
E100: Catégorie3TOUS | F100: 5 | G100: 18 | H100: 52246 | I100: 53291 | J100: 54357 | K100: 55444 | L100: 56553 | M100: =L100*(1+M$4) -> 57684.06 | N100: =M100*(1+N$4) -> 58837.741 | O100: =N100*(1+O$4) -> 60014.496 | P100: =O100*(1+P$4) -> 61214.786 | Q100: =P100*(1+Q$4) -> 62439.082 | R100: =Q100*(1+R$4) -> 63687.863 | S100: =R100*(1+S$4) -> 64961.621 | T100: =S100*(1+T$4) -> 66260.853 | ... CK100: =CJ100*(1+CK$4) -> 259817.78
E101: Catégorie3TOUS | F101: 6 | G101: 18 | H101: 54183 | I101: 55267 | J101: 56372 | K101: 57499 | L101: 58649 | M101: =L101*(1+M$4) -> 59821.98 | N101: =M101*(1+N$4) -> 61018.42 | O101: =N101*(1+O$4) -> 62238.788 | P101: =O101*(1+P$4) -> 63483.564 | Q101: =P101*(1+Q$4) -> 64753.235 | R101: =Q101*(1+R$4) -> 66048.3 | S101: =R101*(1+S$4) -> 67369.266 | T101: =S101*(1+T$4) -> 68716.651 | ... CK101: =CJ101*(1+CK$4) -> 269447.3
E102: Catégorie3TOUS | F102: 7 | G102: 18 | H102: 56266 | I102: 57391 | J102: 58539 | K102: 59710 | L102: 60904 | M102: =L102*(1+M$4) -> 62122.08 | N102: =M102*(1+N$4) -> 63364.522 | O102: =N102*(1+O$4) -> 64631.812 | P102: =O102*(1+P$4) -> 65924.448 | Q102: =P102*(1+Q$4) -> 67242.937 | R102: =Q102*(1+R$4) -> 68587.796 | S102: =R102*(1+S$4) -> 69959.552 | T102: =S102*(1+T$4) -> 71358.743 | ... CK102: =CJ102*(1+CK$4) -> 279807.3
E103: Catégorie3TOUS | F103: 8 | G103: 18 | H103: 59417 | I103: 60605 | J103: 61817 | K103: 63053 | L103: 64314 | M103: =L103*(1+M$4) -> 65600.28 | N103: =M103*(1+N$4) -> 66912.286 | O103: =N103*(1+O$4) -> 68250.531 | P103: =O103*(1+P$4) -> 69615.542 | Q103: =P103*(1+Q$4) -> 71007.853 | R103: =Q103*(1+R$4) -> 72428.01 | S103: =R103*(1+S$4) -> 73876.57 | T103: =S103*(1+T$4) -> 75354.101 | ... CK103: =CJ103*(1+CK$4) -> 295473.64
E104: Catégorie3TOUS | F104: 9 | G104: 18 | H104: 61683 | I104: 62917 | J104: 64175 | K104: 65459 | L104: 66768 | M104: =L104*(1+M$4) -> 68103.36 | N104: =M104*(1+N$4) -> 69465.427 | O104: =N104*(1+O$4) -> 70854.736 | P104: =O104*(1+P$4) -> 72271.83 | Q104: =P104*(1+Q$4) -> 73717.267 | R104: =Q104*(1+R$4) -> 75191.612 | S104: =R104*(1+S$4) -> 76695.445 | T104: =S104*(1+T$4) -> 78229.354 | ... CK104: =CJ104*(1+CK$4) -> 306747.9
E105: Catégorie3TOUS | F105: 10 | G105: 18 | H105: 64047 | I105: 65328 | J105: 66635 | K105: 67968 | L105: 69327 | M105: =L105*(1+M$4) -> 70713.54 | N105: =M105*(1+N$4) -> 72127.811 | O105: =N105*(1+O$4) -> 73570.367 | P105: =O105*(1+P$4) -> 75041.774 | Q105: =P105*(1+Q$4) -> 76542.61 | R105: =Q105*(1+R$4) -> 78073.462 | S105: =R105*(1+S$4) -> 79634.931 | T105: =S105*(1+T$4) -> 81227.63 | ... CK105: =CJ105*(1+CK$4) -> 318504.54
... E113: Catégorie3TOUS | F113: 18 | G113: 18 | H113: 83353 | I113: 85020 | J113: 86720 | K113: 88454 | L113: 90223 | M113: =L113*(1+M$4) -> 92027.46 | N113: =M113*(1+N$4) -> 93868.009 | O113: =N113*(1+O$4) -> 95745.369 | P113: =O113*(1+P$4) -> 97660.277 | Q113: =P113*(1+Q$4) -> 99613.482 | R113: =Q113*(1+R$4) -> 101605.75 | S113: =R113*(1+S$4) -> 103637.87 | T113: =S113*(1+T$4) -> 105710.62 | ... CK113: =CJ113*(1+CK$4) -> 414505.68

Sheet Listes déroulantes
A1: Titre d'emploi | B1: Âge(2019) | C1: Année de la Retraite | D1: AgentDeBureauCL1 | E1: AgentDeBureauCP | F1: SecrétaireCL1 | G1: AgentDeRecouvrement | H1: TechnicienTOUS | I1: TechnicienInformatiqueCL1 | J1: TechnicienLaboratoireCL1 | K1: TechnicienInformatiqueCP | L1: GraphisteCP | M1: TechnicienCP | N1: TechnicienCPÉquité | O1: TechnicienLaboratoireCLP | P1: Catégorie3TOUS | Q1: AgeDécès | R1: AnnéeService | S1: RetraitBoni | T1: ClauseRemorque
A2: Choisir… | B2: Choisir… | C2: Choisir… | D2: Choisir… | E2: Choisir… | F2: Choisir… | G2: Choisir… | H2: Choisir… | I2: Choisir… | J2: Choisir… | K2: Choisir… | L2: Choisir… | M2: Choisir… | N2: Choisir… | O2: Choisir… | P2: Choisir… | Q2: Choisir… | R2: Choisir… | S2: Choisir… | T2: Choisir…
A3: AgentDeBureauCL1 | B3: 18 | C3: 2019 | D3: 1 | E3: 1 | F3: 1 | G3: 1 | H3: 1 | I3: 1 | J3: 1 | K3: 1 | L3: 1 | M3: 1 | N3: 1 | O3: 1 | P3: 1 | Q3: 60 | R3: 1 | S3: 1 | T3: 0
A4: AgentDeBureauCP | B4: 19 | C4: 2020 | D4: 2 | E4: 2 | F4: 2 | G4: 2 | H4: 2 | I4: 2 | J4: 2 | K4: 2 | L4: 2 | M4: 2 | N4: 2 | O4: 2 | P4: 2 | Q4: 61 | R4: 2 | S4: 2 | T4: 0.001
A5: SecrétaireCL1 | B5: 20 | C5: 2021 | D5: 3 | E5: 3 | F5: 3 | G5: 3 | H5: 3 | I5: 3 | J5: 3 | K5: 3 | L5: 3 | M5: 3 | N5: 3 | P5: 3 | Q5: 62 | R5: 3 | S5: 3 | T5: 0.002
A6: AgentDeRecouvrement | B6: 21 | C6: 2022 | D6: 4 | E6: 4 | G6: 4 | H6: 4 | I6: 4 | J6: 4 | K6: 4 | P6: 4 | Q6: 63 | R6: 4 | S6: 4 | T6: 0.003
A7: TechnicienTOUS | B7: 22 | C7: 2023 | D7: 5 | E7: 5 | G7: 5 | H7: 5 | I7: 5 | J7: 5 | K7: 5 | P7: 5 | Q7: 64 | R7: 5 | S7: 5 | T7: 0.004
A8: TechnicienInformatiqueCL1 | B8: 23 | C8: 2024 | D8: 6 | G8: 6 | H8: 6 | I8: 6 | J8: 6 | K8: 6 | P8: 6 | Q8: 65 | R8: 6 | S8: 6 | T8: 0.005
A9: TechnicienLaboratoireCL1 | B9: 24 | C9: 2025 | D9: 7 | G9: 7 | H9: 7 | I9: 7 | J9: 7 | K9: 7 | P9: 7 | Q9: 66 | R9: 7 | S9: 7 | T9: 0.006
A10: TechnicienInformatiqueCP | B10: 25 | C10: 2026 | G10: 8 | H10: 8 | I10: 8 | J10: 8 | P10: 8 | Q10: 67 | R10: 8 | S10: 8 | T10: 0.007
A11: GraphisteCP | B11: 26 | C11: 2027 | H11: 9 | I11: 9 | J11: 9 | P11: 9 | Q11: 68 | R11: 9 | S11: 9 | T11: 0.008
A12: TechnicienCP | B12: 27 | C12: 2028 | H12: 10 | I12: 10 | J12: 10 | P12: 10 | Q12: 69 | R12: 10 | S12: 10 | T12: 0.009
A13: TechnicienCPÉquité | B13: 28 | C13: 2029 | H13: 11 | I13: 11 | J13: 11 | P13: 11 | Q13: 70 | R13: 11 | S13: 11 | T13: 0.01
A14: TechnicienLaboratoireCLP | B14: 29 | C14: 2030 | H14: 12 | I14: 12 | J14: 12 | P14: 12 | Q14: 71 | R14: 12 | S14: 12 | T14: 0.011
A15: Catégorie3TOUS | B15: 30 | C15: 2031 | P15: 13 | Q15: 72 | R15: 13 | S15: 13 | T15: 0.012
B16: 31 | C16: 2032 | P16: 14 | Q16: 73 | R16: 14 | S16: 14 | T16: 0.013
B17: 32 | C17: 2033 | P17: 15 | Q17: 74 | R17: 15 | S17: 15 | T17: 0.014
B18: 33 | C18: 2034 | P18: 16 | Q18: 75 | R18: 16 | S18: 16 | T18: 0.015
B19: 34 | C19: 2035 | P19: 17 | Q19: 76 | R19: 17 | S19: 17 | T19: 0.016
B20: 35 | C20: 2036 | P20: 18 | Q20: 77 | R20: 18 | S20: 18 | T20: 0.017
B21: 36 | C21: 2037 | Q21: 78 | R21: 19 | S21: 19 | T21: 0.018
B22: 37 | C22: 2038 | Q22: 79 | R22: 20 | S22: 20 | T22: 0.019
B23: 38 | C23: 2039 | Q23: 80 | R23: 21 | S23: 21 | T23: 0.02
B24: 39 | C24: 2040 | Q24: 81 | R24: 22 | S24: 22 | T24: 0.021
B25: 40 | C25: 2041 | Q25: 82 | R25: 23 | S25: 23 | T25: 0.022
B26: 41 | C26: 2042 | Q26: 83 | R26: 24 | S26: 24 | T26: 0.023
B27: 42 | C27: 2043 | Q27: 84 | R27: 25 | S27: 25 | T27: 0.024
B28: 43 | C28: 2044 | Q28: 85 | R28: 26 | S28: 26 | T28: 0.025
B29: 44 | C29: 2045 | Q29: 86 | R29: 27 | S29: 27 | T29: 0.026
B30: 45 | C30: 2046 | Q30: 87 | R30: 28 | S30: 28 | T30: 0.027
B31: 46 | C31: 2047 | Q31: 88 | R31: 29 | S31: 29 | T31: 0.028
B32: 47 | C32: 2048 | Q32: 89 | R32: 30 | S32: 30 | T32: 0.029
B33: 48 | C33: 2049 | Q33: 90 | R33: 31 | S33: 31 | T33: 0.03
B34: 49 | C34: 2050 | Q34: 91 | R34: 32 | S34: 32
B35: 50 | C35: 2051 | Q35: 92 | R35: 33 | S35: 33
B36: 51 | C36: 2052 | Q36: 93 | R36: 34 | S36: 34
B37: 52 | C37: 2053 | Q37: 94 | R37: 35 | S37: 35
B38: 53 | C38: 2054 | Q38: 95 | R38: 36 | S38: 36
B39: 54 | C39: 2055 | Q39: 96 | R39: 37 | S39: 37
B40: 55 | C40: 2056 | Q40: 97 | R40: 38 | S40: 38
B41: 56 | C41: 2057 | Q41: 98 | R41: 39 | S41: 39
B42: 57 | C42: 2058 | Q42: 99 | R42: 40 | S42: Jamais
B43: 58 | Q43: 100
B44: 59
B45: 60
B46: 61
B47: 62
B48: 63
B49: 64
B50: 65
B51: 66
B52: 67
B53: 68
B54: 69
B55: 70
... B60: 75

Sheet Statut d'emploi
B4: Année | C4: Âge actuel | D4: Nb années retraite | E4: Âge retraite | F4: Statut | G4: Catégorie d'emploi | H4: Échelon | I4: Échelon max | J4: ClauseRemorque
A5: 1 | B5: 2019 | C5: ='Critères de recherche'!C16 -> Choisir… | D5: ='Critères de recherche'!I11 -> #VALUE! | E5: =IF(D5<>0,C5+D5,E4) -> #VALUE! | F5: =IF(D5>0,"Salarié",IF(C5<'Critères de recherche'!$I$13,"Retraité","DCD")) -> #VALUE! | G5: =IF('Critères de recherche'!C$10<>'Listes déroulantes'!A$15,"Technique","Professionnel") -> Technique | H5: ='Critères de recherche'!C11 -> Choisir… | I5: =SUMPRODUCT(('Critères de recherche'!C10='Scénario hypothétique 2%'!$E$10:$E$113)*('Statut d''emploi'!H5='Scénario hypothétique 2%'!$F$10:$F$113)*('Scénario hypothétique 2%'!$G$10:$G$113)) -> 0 | J5: 0 | K5: 0
A6: 2 | B6: 2020 | C6: =C5+1 -> #VALUE! | D6: =IF(D5<>0,D5-1,0) -> #VALUE! | E6: =IF(D6<>0,C6+D6,E5) -> #VALUE! | F6: =IF(D6>0,"Salarié",IF(C6<'Critères de recherche'!$I$13,"Retraité","DCD")) -> #VALUE! | G6: =IF('Critères de recherche'!C$10<>'Listes déroulantes'!A$15,"Technique","Professionnel") -> Technique | H6: =IF('Critères de recherche'!C$10<>'Listes déroulantes'!$A$15,IF(H5<$I$5,'Statut d''emploi'!H5+1,$I$5),IF(H5<I$5,IF(H5<6,H5+2,H5+1),$I$5)) -> 0 | J6: 0.001 | K6: 0
A7: 3 | B7: 2021 | C7: =C6+1 -> #VALUE! | D7: =IF(D6<>0,D6-1,0) -> #VALUE! | E7: =IF(D7<>0,C7+D7,E6) -> #VALUE! | F7: =IF(D7>0,"Salarié",IF(C7<'Critères de recherche'!$I$13,"Retraité","DCD")) -> #VALUE! | G7: =IF('Critères de recherche'!C$10<>'Listes déroulantes'!A$15,"Technique","Professionnel") -> Technique | H7: =IF('Critères de recherche'!C$10<>'Listes déroulantes'!$A$15,IF(H6<$I$5,'Statut d''emploi'!H6+1,$I$5),IF(H6<I$5,IF(H6<6,H6+2,H6+1),$I$5)) -> 0 | J7: 0.002 | K7: 0
A8: 4 | B8: 2022 | C8: =C7+1 -> #VALUE! | D8: =IF(D7<>0,D7-1,0) -> #VALUE! | E8: =IF(D8<>0,C8+D8,E7) -> #VALUE! | F8: =IF(D8>0,"Salarié",IF(C8<'Critères de recherche'!$I$13,"Retraité","DCD")) -> #VALUE! | G8: =IF('Critères de recherche'!C$10<>'Listes déroulantes'!A$15,"Technique","Professionnel") -> Technique | H8: =IF('Critères de recherche'!C$10<>'Listes déroulantes'!$A$15,IF(H7<$I$5,'Statut d''emploi'!H7+1,$I$5),IF(H7<I$5,IF(H7<6,H7+2,H7+1),$I$5)) -> 0 | J8: 0.003 | K8: 0
A9: 5 | B9: 2023 | C9: =C8+1 -> #VALUE! | D9: =IF(D8<>0,D8-1,0) -> #VALUE! | E9: =IF(D9<>0,C9+D9,E8) -> #VALUE! | F9: =IF(D9>0,"Salarié",IF(C9<'Critères de recherche'!$I$13,"Retraité","DCD")) -> #VALUE! | G9: =IF('Critères de recherche'!C$10<>'Listes déroulantes'!A$15,"Technique","Professionnel") -> Technique | H9: =IF('Critères de recherche'!C$10<>'Listes déroulantes'!$A$15,IF(H8<$I$5,'Statut d''emploi'!H8+1,$I$5),IF(H8<I$5,IF(H8<6,H8+2,H8+1),$I$5)) -> 0 | J9: 0.004 | K9: 0
A10: 6 | B10: 2024 | C10: =C9+1 -> #VALUE! | D10: =IF(D9<>0,D9-1,0) -> #VALUE! | E10: =IF(D10<>0,C10+D10,E9) -> #VALUE! | F10: =IF(D10>0,"Salarié",IF(C10<'Critères de recherche'!$I$13,"Retraité","DCD")) -> #VALUE! | G10: =IF('Critères de recherche'!C$10<>'Listes déroulantes'!A$15,"Technique","Professionnel") -> Technique | H10: =IF('Critères de recherche'!C$10<>'Listes déroulantes'!$A$15,IF(H9<$I$5,'Statut d''emploi'!H9+1,$I$5),IF(H9<I$5,IF(H9<6,H9+2,H9+1),$I$5)) -> 0 | J10: 0.005 | K10: 0
A11: 7 | B11: 2025 | C11: =C10+1 -> #VALUE! | D11: =IF(D10<>0,D10-1,0) -> #VALUE! | E11: =IF(D11<>0,C11+D11,E10) -> #VALUE! | F11: =IF(D11>0,"Salarié",IF(C11<'Critères de recherche'!$I$13,"Retraité","DCD")) -> #VALUE! | G11: =IF('Critères de recherche'!C$10<>'Listes déroulantes'!A$15,"Technique","Professionnel") -> Technique | H11: =IF('Critères de recherche'!C$10<>'Listes déroulantes'!$A$15,IF(H10<$I$5,'Statut d''emploi'!H10+1,$I$5),IF(H10<I$5,IF(H10<6,H10+2,H10+1),$I$5)) -> 0 | J11: 0.006 | K11: 0
A12: 8 | B12: 2026 | C12: =C11+1 -> #VALUE! | D12: =IF(D11<>0,D11-1,0) -> #VALUE! | E12: =IF(D12<>0,C12+D12,E11) -> #VALUE! | F12: =IF(D12>0,"Salarié",IF(C12<'Critères de recherche'!$I$13,"Retraité","DCD")) -> #VALUE! | G12: =IF('Critères de recherche'!C$10<>'Listes déroulantes'!A$15,"Technique","Professionnel") -> Technique | H12: =IF('Critères de recherche'!C$10<>'Listes déroulantes'!$A$15,IF(H11<$I$5,'Statut d''emploi'!H11+1,$I$5),IF(H11<I$5,IF(H11<6,H11+2,H11+1),$I$5)) -> 0 | J12: 0.007 | K12: 0
A13: 9 | B13: 2027 | C13: =C12+1 -> #VALUE! | D13: =IF(D12<>0,D12-1,0) -> #VALUE! | E13: =IF(D13<>0,C13+D13,E12) -> #VALUE! | F13: =IF(D13>0,"Salarié",IF(C13<'Critères de recherche'!$I$13,"Retraité","DCD")) -> #VALUE! | G13: =IF('Critères de recherche'!C$10<>'Listes déroulantes'!A$15,"Technique","Professionnel") -> Technique | H13: =IF('Critères de recherche'!C$10<>'Listes déroulantes'!$A$15,IF(H12<$I$5,'Statut d''emploi'!H12+1,$I$5),IF(H12<I$5,IF(H12<6,H12+2,H12+1),$I$5)) -> 0 | J13: 0.008 | K13: 0
A14: 10 | B14: 2028 | C14: =C13+1 -> #VALUE! | D14: =IF(D13<>0,D13-1,0) -> #VALUE! | E14: =IF(D14<>0,C14+D14,E13) -> #VALUE! | F14: =IF(D14>0,"Salarié",IF(C14<'Critères de recherche'!$I$13,"Retraité","DCD")) -> #VALUE! | G14: =IF('Critères de recherche'!C$10<>'Listes déroulantes'!A$15,"Technique","Professionnel") -> Technique | H14: =IF('Critères de recherche'!C$10<>'Listes déroulantes'!$A$15,IF(H13<$I$5,'Statut d''emploi'!H13+1,$I$5),IF(H13<I$5,IF(H13<6,H13+2,H13+1),$I$5)) -> 0 | J14: 0.009 | K14: 0
A15: 11 | B15: 2029 | C15: =C14+1 -> #VALUE! | D15: =IF(D14<>0,D14-1,0) -> #VALUE! | E15: =IF(D15<>0,C15+D15,E14) -> #VALUE! | F15: =IF(D15>0,"Salarié",IF(C15<'Critères de recherche'!$I$13,"Retraité","DCD")) -> #VALUE! | G15: =IF('Critères de recherche'!C$10<>'Listes déroulantes'!A$15,"Technique","Professionnel") -> Technique | H15: =IF('Critères de recherche'!C$10<>'Listes déroulantes'!$A$15,IF(H14<$I$5,'Statut d''emploi'!H14+1,$I$5),IF(H14<I$5,IF(H14<6,H14+2,H14+1),$I$5)) -> 0 | J15: 0.01 | K15: 0
A16: 12 | B16: 2030 | C16: =C15+1 -> #VALUE! | D16: =IF(D15<>0,D15-1,0) -> #VALUE! | E16: =IF(D16<>0,C16+D16,E15) -> #VALUE! | F16: =IF(D16>0,"Salarié",IF(C16<'Critères de recherche'!$I$13,"Retraité","DCD")) -> #VALUE! | G16: =IF('Critères de recherche'!C$10<>'Listes déroulantes'!A$15,"Technique","Professionnel") -> Technique | H16: =IF('Critères de recherche'!C$10<>'Listes déroulantes'!$A$15,IF(H15<$I$5,'Statut d''emploi'!H15+1,$I$5),IF(H15<I$5,IF(H15<6,H15+2,H15+1),$I$5)) -> 0 | J16: 0.011 | K16: =J16-0.01 -> 0.001
A17: 13 | B17: 2031 | C17: =C16+1 -> #VALUE! | D17: =IF(D16<>0,D16-1,0) -> #VALUE! | E17: =IF(D17<>0,C17+D17,E16) -> #VALUE! | F17: =IF(D17>0,"Salarié",IF(C17<'Critères de recherche'!$I$13,"Retraité","DCD")) -> #VALUE! | G17: =IF('Critères de recherche'!C$10<>'Listes déroulantes'!A$15,"Technique","Professionnel") -> Technique | H17: =IF('Critères de recherche'!C$10<>'Listes déroulantes'!$A$15,IF(H16<$I$5,'Statut d''emploi'!H16+1,$I$5),IF(H16<I$5,IF(H16<6,H16+2,H16+1),$I$5)) -> 0 | J17: 0.012 | K17: =J17-0.01 -> 0.002
A18: 14 | B18: 2032 | C18: =C17+1 -> #VALUE! | D18: =IF(D17<>0,D17-1,0) -> #VALUE! | E18: =IF(D18<>0,C18+D18,E17) -> #VALUE! | F18: =IF(D18>0,"Salarié",IF(C18<'Critères de recherche'!$I$13,"Retraité","DCD")) -> #VALUE! | G18: =IF('Critères de recherche'!C$10<>'Listes déroulantes'!A$15,"Technique","Professionnel") -> Technique | H18: =IF('Critères de recherche'!C$10<>'Listes déroulantes'!$A$15,IF(H17<$I$5,'Statut d''emploi'!H17+1,$I$5),IF(H17<I$5,IF(H17<6,H17+2,H17+1),$I$5)) -> 0 | J18: 0.013 | K18: =J18-0.01 -> 0.003
A19: 15 | B19: 2033 | C19: =C18+1 -> #VALUE! | D19: =IF(D18<>0,D18-1,0) -> #VALUE! | E19: =IF(D19<>0,C19+D19,E18) -> #VALUE! | F19: =IF(D19>0,"Salarié",IF(C19<'Critères de recherche'!$I$13,"Retraité","DCD")) -> #VALUE! | G19: =IF('Critères de recherche'!C$10<>'Listes déroulantes'!A$15,"Technique","Professionnel") -> Technique | H19: =IF('Critères de recherche'!C$10<>'Listes déroulantes'!$A$15,IF(H18<$I$5,'Statut d''emploi'!H18+1,$I$5),IF(H18<I$5,IF(H18<6,H18+2,H18+1),$I$5)) -> 0 | J19: 0.014 | K19: =J19-0.01 -> 0.004
A20: 16 | B20: 2034 | C20: =C19+1 -> #VALUE! | D20: =IF(D19<>0,D19-1,0) -> #VALUE! | E20: =IF(D20<>0,C20+D20,E19) -> #VALUE! | F20: =IF(D20>0,"Salarié",IF(C20<'Critères de recherche'!$I$13,"Retraité","DCD")) -> #VALUE! | G20: =IF('Critères de recherche'!C$10<>'Listes déroulantes'!A$15,"Technique","Professionnel") -> Technique | H20: =IF('Critères de recherche'!C$10<>'Listes déroulantes'!$A$15,IF(H19<$I$5,'Statut d''emploi'!H19+1,$I$5),IF(H19<I$5,IF(H19<6,H19+2,H19+1),$I$5)) -> 0 | J20: 0.015 | K20: =J20-0.01 -> 0.005
A21: 17 | B21: 2035 | C21: =C20+1 -> #VALUE! | D21: =IF(D20<>0,D20-1,0) -> #VALUE! | E21: =IF(D21<>0,C21+D21,E20) -> #VALUE! | F21: =IF(D21>0,"Salarié",IF(C21<'Critères de recherche'!$I$13,"Retraité","DCD")) -> #VALUE! | G21: =IF('Critères de recherche'!C$10<>'Listes déroulantes'!A$15,"Technique","Professionnel") -> Technique | H21: =IF('Critères de recherche'!C$10<>'Listes déroulantes'!$A$15,IF(H20<$I$5,'Statut d''emploi'!H20+1,$I$5),IF(H20<I$5,IF(H20<6,H20+2,H20+1),$I$5)) -> 0 | J21: 0.016 | K21: =J21-0.01 -> 0.006
A22: 18 | B22: 2036 | C22: =C21+1 -> #VALUE! | D22: =IF(D21<>0,D21-1,0) -> #VALUE! | E22: =IF(D22<>0,C22+D22,E21) -> #VALUE! | F22: =IF(D22>0,"Salarié",IF(C22<'Critères de recherche'!$I$13,"Retraité","DCD")) -> #VALUE! | G22: =IF('Critères de recherche'!C$10<>'Listes déroulantes'!A$15,"Technique","Professionnel") -> Technique | H22: =IF('Critères de recherche'!C$10<>'Listes déroulantes'!$A$15,IF(H21<$I$5,'Statut d''emploi'!H21+1,$I$5),IF(H21<I$5,IF(H21<6,H21+2,H21+1),$I$5)) -> 0 | J22: 0.017 | K22: =J22-0.01 -> 0.007
A23: 19 | B23: 2037 | C23: =C22+1 -> #VALUE! | D23: =IF(D22<>0,D22-1,0) -> #VALUE! | E23: =IF(D23<>0,C23+D23,E22) -> #VALUE! | F23: =IF(D23>0,"Salarié",IF(C23<'Critères de recherche'!$I$13,"Retraité","DCD")) -> #VALUE! | G23: =IF('Critères de recherche'!C$10<>'Listes déroulantes'!A$15,"Technique","Professionnel") -> Technique | H23: =IF('Critères de recherche'!C$10<>'Listes déroulantes'!$A$15,IF(H22<$I$5,'Statut d''emploi'!H22+1,$I$5),IF(H22<I$5,IF(H22<6,H22+2,H22+1),$I$5)) -> 0 | J23: 0.018 | K23: =J23-0.01 -> 0.008
A24: 20 | B24: 2038 | C24: =C23+1 -> #VALUE! | D24: =IF(D23<>0,D23-1,0) -> #VALUE! | E24: =IF(D24<>0,C24+D24,E23) -> #VALUE! | F24: =IF(D24>0,"Salarié",IF(C24<'Critères de recherche'!$I$13,"Retraité","DCD")) -> #VALUE! | G24: =IF('Critères de recherche'!C$10<>'Listes déroulantes'!A$15,"Technique","Professionnel") -> Technique | H24: =IF('Critères de recherche'!C$10<>'Listes déroulantes'!$A$15,IF(H23<$I$5,'Statut d''emploi'!H23+1,$I$5),IF(H23<I$5,IF(H23<6,H23+2,H23+1),$I$5)) -> 0 | J24: 0.019 | K24: =J24-0.01 -> 0.009
A25: 21 | B25: 2039 | C25: =C24+1 -> #VALUE! | D25: =IF(D24<>0,D24-1,0) -> #VALUE! | E25: =IF(D25<>0,C25+D25,E24) -> #VALUE! | F25: =IF(D25>0,"Salarié",IF(C25<'Critères de recherche'!$I$13,"Retraité","DCD")) -> #VALUE! | G25: =IF('Critères de recherche'!C$10<>'Listes déroulantes'!A$15,"Technique","Professionnel") -> Technique | H25: =IF('Critères de recherche'!C$10<>'Listes déroulantes'!$A$15,IF(H24<$I$5,'Statut d''emploi'!H24+1,$I$5),IF(H24<I$5,IF(H24<6,H24+2,H24+1),$I$5)) -> 0 | J25: 0.02 | K25: =J25-0.01 -> 0.01
A26: 22 | B26: 2040 | C26: =C25+1 -> #VALUE! | D26: =IF(D25<>0,D25-1,0) -> #VALUE! | E26: =IF(D26<>0,C26+D26,E25) -> #VALUE! | F26: =IF(D26>0,"Salarié",IF(C26<'Critères de recherche'!$I$13,"Retraité","DCD")) -> #VALUE! | G26: =IF('Critères de recherche'!C$10<>'Listes déroulantes'!A$15,"Technique","Professionnel") -> Technique | H26: =IF('Critères de recherche'!C$10<>'Listes déroulantes'!$A$15,IF(H25<$I$5,'Statut d''emploi'!H25+1,$I$5),IF(H25<I$5,IF(H25<6,H25+2,H25+1),$I$5)) -> 0 | J26: 0.021 | K26: =J26-0.01 -> 0.011
A27: 23 | B27: 2041 | C27: =C26+1 -> #VALUE! | D27: =IF(D26<>0,D26-1,0) -> #VALUE! | E27: =IF(D27<>0,C27+D27,E26) -> #VALUE! | F27: =IF(D27>0,"Salarié",IF(C27<'Critères de recherche'!$I$13,"Retraité","DCD")) -> #VALUE! | G27: =IF('Critères de recherche'!C$10<>'Listes déroulantes'!A$15,"Technique","Professionnel") -> Technique | H27: =IF('Critères de recherche'!C$10<>'Listes déroulantes'!$A$15,IF(H26<$I$5,'Statut d''emploi'!H26+1,$I$5),IF(H26<I$5,IF(H26<6,H26+2,H26+1),$I$5)) -> 0 | J27: 0.022 | K27: =J27-0.01 -> 0.012
... A35: 31 | B35: 2049 | C35: =C34+1 -> #VALUE! | D35: =IF(D34<>0,D34-1,0) -> #VALUE! | E35: =IF(D35<>0,C35+D35,E34) -> #VALUE! | F35: =IF(D35>0,"Salarié",IF(C35<'Critères de recherche'!$I$13,"Retraité","DCD")) -> #VALUE! | G35: =IF('Critères de recherche'!C$10<>'Listes déroulantes'!A$15,"Technique","Professionnel") -> Technique | H35: =IF('Critères de recherche'!C$10<>'Listes déroulantes'!$A$15,IF(H34<$I$5,'Statut d''emploi'!H34+1,$I$5),IF(H34<I$5,IF(H34<6,H34+2,H34+1),$I$5)) -> 0 | J35: 0.03 | K35: =J35-0.01 -> 0.02
A36: 32 | B36: 2050 | C36: =C35+1 -> #VALUE! | D36: =IF(D35<>0,D35-1,0) -> #VALUE! | E36: =IF(D36<>0,C36+D36,E35) -> #VALUE! | F36: =IF(D36>0,"Salarié",IF(C36<'Critères de recherche'!$I$13,"Retraité","DCD")) -> #VALUE! | G36: =IF('Critères de recherche'!C$10<>'Listes déroulantes'!A$15,"Technique","Professionnel") -> Technique | H36: =IF('Critères de recherche'!C$10<>'Listes déroulantes'!$A$15,IF(H35<$I$5,'Statut d''emploi'!H35+1,$I$5),IF(H35<I$5,IF(H35<6,H35+2,H35+1),$I$5)) -> 0
A37: 33 | B37: 2051 | C37: =C36+1 -> #VALUE! | D37: =IF(D36<>0,D36-1,0) -> #VALUE! | E37: =IF(D37<>0,C37+D37,E36) -> #VALUE! | F37: =IF(D37>0,"Salarié",IF(C37<'Critères de recherche'!$I$13,"Retraité","DCD")) -> #VALUE! | G37: =IF('Critères de recherche'!C$10<>'Listes déroulantes'!A$15,"Technique","Professionnel") -> Technique | H37: =IF('Critères de recherche'!C$10<>'Listes déroulantes'!$A$15,IF(H36<$I$5,'Statut d''emploi'!H36+1,$I$5),IF(H36<I$5,IF(H36<6,H36+2,H36+1),$I$5)) -> 0
A38: 34 | B38: 2052 | C38: =C37+1 -> #VALUE! | D38: =IF(D37<>0,D37-1,0) -> #VALUE! | E38: =IF(D38<>0,C38+D38,E37) -> #VALUE! | F38: =IF(D38>0,"Salarié",IF(C38<'Critères de recherche'!$I$13,"Retraité","DCD")) -> #VALUE! | G38: =IF('Critères de recherche'!C$10<>'Listes déroulantes'!A$15,"Technique","Professionnel") -> Technique | H38: =IF('Critères de recherche'!C$10<>'Listes déroulantes'!$A$15,IF(H37<$I$5,'Statut d''emploi'!H37+1,$I$5),IF(H37<I$5,IF(H37<6,H37+2,H37+1),$I$5)) -> 0
A39: 35 | B39: 2053 | C39: =C38+1 -> #VALUE! | D39: =IF(D38<>0,D38-1,0) -> #VALUE! | E39: =IF(D39<>0,C39+D39,E38) -> #VALUE! | F39: =IF(D39>0,"Salarié",IF(C39<'Critères de recherche'!$I$13,"Retraité","DCD")) -> #VALUE! | G39: =IF('Critères de recherche'!C$10<>'Listes déroulantes'!A$15,"Technique","Professionnel") -> Technique | H39: =IF('Critères de recherche'!C$10<>'Listes déroulantes'!$A$15,IF(H38<$I$5,'Statut d''emploi'!H38+1,$I$5),IF(H38<I$5,IF(H38<6,H38+2,H38+1),$I$5)) -> 0
A40: 36 | B40: 2054 | C40: =C39+1 -> #VALUE! | D40: =IF(D39<>0,D39-1,0) -> #VALUE! | E40: =IF(D40<>0,C40+D40,E39) -> #VALUE! | F40: =IF(D40>0,"Salarié",IF(C40<'Critères de recherche'!$I$13,"Retraité","DCD")) -> #VALUE! | G40: =IF('Critères de recherche'!C$10<>'Listes déroulantes'!A$15,"Technique","Professionnel") -> Technique | H40: =IF('Critères de recherche'!C$10<>'Listes déroulantes'!$A$15,IF(H39<$I$5,'Statut d''emploi'!H39+1,$I$5),IF(H39<I$5,IF(H39<6,H39+2,H39+1),$I$5)) -> 0
A41: 37 | B41: 2055 | C41: =C40+1 -> #VALUE! | D41: =IF(D40<>0,D40-1,0) -> #VALUE! | E41: =IF(D41<>0,C41+D41,E40) -> #VALUE! | F41: =IF(D41>0,"Salarié",IF(C41<'Critères de recherche'!$I$13,"Retraité","DCD")) -> #VALUE! | G41: =IF('Critères de recherche'!C$10<>'Listes déroulantes'!A$15,"Technique","Professionnel") -> Technique | H41: =IF('Critères de recherche'!C$10<>'Listes déroulantes'!$A$15,IF(H40<$I$5,'Statut d''emploi'!H40+1,$I$5),IF(H40<I$5,IF(H40<6,H40+2,H40+1),$I$5)) -> 0
A42: 38 | B42: 2056 | C42: =C41+1 -> #VALUE! | D42: =IF(D41<>0,D41-1,0) -> #VALUE! | E42: =IF(D42<>0,C42+D42,E41) -> #VALUE! | F42: =IF(D42>0,"Salarié",IF(C42<'Critères de recherche'!$I$13,"Retraité","DCD")) -> #VALUE! | G42: =IF('Critères de recherche'!C$10<>'Listes déroulantes'!A$15,"Technique","Professionnel") -> Technique | H42: =IF('Critères de recherche'!C$10<>'Listes déroulantes'!$A$15,IF(H41<$I$5,'Statut d''emploi'!H41+1,$I$5),IF(H41<I$5,IF(H41<6,H41+2,H41+1),$I$5)) -> 0
A43: 39 | B43: 2057 | C43: =C42+1 -> #VALUE! | D43: =IF(D42<>0,D42-1,0) -> #VALUE! | E43: =IF(D43<>0,C43+D43,E42) -> #VALUE! | F43: =IF(D43>0,"Salarié",IF(C43<'Critères de recherche'!$I$13,"Retraité","DCD")) -> #VALUE! | G43: =IF('Critères de recherche'!C$10<>'Listes déroulantes'!A$15,"Technique","Professionnel") -> Technique | H43: =IF('Critères de recherche'!C$10<>'Listes déroulantes'!$A$15,IF(H42<$I$5,'Statut d''emploi'!H42+1,$I$5),IF(H42<I$5,IF(H42<6,H42+2,H42+1),$I$5)) -> 0
A44: 40 | B44: 2058 | C44: =C43+1 -> #VALUE! | D44: =IF(D43<>0,D43-1,0) -> #VALUE! | E44: =IF(D44<>0,C44+D44,E43) -> #VALUE! | F44: =IF(D44>0,"Salarié",IF(C44<'Critères de recherche'!$I$13,"Retraité","DCD")) -> #VALUE! | G44: =IF('Critères de recherche'!C$10<>'Listes déroulantes'!A$15,"Technique","Professionnel") -> Technique | H44: =IF('Critères de recherche'!C$10<>'Listes déroulantes'!$A$15,IF(H43<$I$5,'Statut d''emploi'!H43+1,$I$5),IF(H43<I$5,IF(H43<6,H43+2,H43+1),$I$5)) -> 0
A45: 41 | B45: 2059 | C45: =C44+1 -> #VALUE! | D45: =IF(D44<>0,D44-1,0) -> #VALUE! | E45: =IF(D45<>0,C45+D45,E44) -> #VALUE! | F45: =IF(D45>0,"Salarié",IF(C45<'Critères de recherche'!$I$13,"Retraité","DCD")) -> #VALUE! | G45: =IF('Critères de recherche'!C$10<>'Listes déroulantes'!A$15,"Technique","Professionnel") -> Technique | H45: =IF('Critères de recherche'!C$10<>'Listes déroulantes'!$A$15,IF(H44<$I$5,'Statut d''emploi'!H44+1,$I$5),IF(H44<I$5,IF(H44<6,H44+2,H44+1),$I$5)) -> 0
A46: 42 | B46: 2060 | C46: =C45+1 -> #VALUE! | D46: =IF(D45<>0,D45-1,0) -> #VALUE! | E46: =IF(D46<>0,C46+D46,E45) -> #VALUE! | F46: =IF(D46>0,"Salarié",IF(C46<'Critères de recherche'!$I$13,"Retraité","DCD")) -> #VALUE! | G46: =IF('Critères de recherche'!C$10<>'Listes déroulantes'!A$15,"Technique","Professionnel") -> Technique | H46: =IF('Critères de recherche'!C$10<>'Listes déroulantes'!$A$15,IF(H45<$I$5,'Statut d''emploi'!H45+1,$I$5),IF(H45<I$5,IF(H45<6,H45+2,H45+1),$I$5)) -> 0
A47: 43 | B47: 2061 | C47: =C46+1 -> #VALUE! | D47: =IF(D46<>0,D46-1,0) -> #VALUE! | E47: =IF(D47<>0,C47+D47,E46) -> #VALUE! | F47: =IF(D47>0,"Salarié",IF(C47<'Critères de recherche'!$I$13,"Retraité","DCD")) -> #VALUE! | G47: =IF('Critères de recherche'!C$10<>'Listes déroulantes'!A$15,"Technique","Professionnel") -> Technique | H47: =IF('Critères de recherche'!C$10<>'Listes déroulantes'!$A$15,IF(H46<$I$5,'Statut d''emploi'!H46+1,$I$5),IF(H46<I$5,IF(H46<6,H46+2,H46+1),$I$5)) -> 0
... A87: 83 | B87: 2101 | C87: =C86+1 -> #VALUE! | D87: =IF(D86<>0,D86-1,0) -> #VALUE! | E87: =IF(D87<>0,C87+D87,E86) -> #VALUE! | F87: =IF(D87>0,"Salarié",IF(C87<'Critères de recherche'!$I$13,"Retraité","DCD")) -> #VALUE! | G87: =IF('Critères de recherche'!C$10<>'Listes déroulantes'!A$15,"Technique","Professionnel") -> Technique | H87: =IF('Critères de recherche'!C$10<>'Listes déroulantes'!$A$15,IF(H86<$I$5,'Statut d''emploi'!H86+1,$I$5),IF(H86<I$5,IF(H86<6,H86+2,H86+1),$I$5)) -> 0
A88: 84
A89: 85
A90: 86
A91: 87
A92: 88
A93: 89
A94: 90
A95: 91
A96: 92
A97: 93
A98: 94
A99: 95
... A104: 100
