Workbook
Name Age: 'Listes déroulantes'!$B$2:$B$60
Name AgeDécès: 'Listes déroulantes'!$Q$2:$Q$43
Name AgentDeBureauCL1: 'Listes déroulantes'!$D$2:$D$9
Name AgentDeBureauCP: 'Listes déroulantes'!$E$2:$E$7
Name AgentDeRecouvrement: 'Listes déroulantes'!$G$2:$G$10
Name AnneeRetraite: 'Listes déroulantes'!$C$2:$C$42
Name AnnéeService: 'Listes déroulantes'!$R$2:$R$42
Name Catégorie3TOUS: 'Listes déroulantes'!$P$2:$P$20
Name ClauseRemorque: 'Listes déroulantes'!$T$2:$T$33
Name GraphisteCP: 'Listes déroulantes'!$L$2:$L$5
Name RetraitBoni: 'Listes déroulantes'!$S$2:$S$42
Name SecrétaireCL1: 'Listes déroulantes'!$F$2:$F$5
Name TechnicienCP: 'Listes déroulantes'!$M$2:$M$5
Name TechnicienCPÉquité: 'Listes déroulantes'!$N$2:$N$5
Name TechnicienInformatiqueCL1: 'Listes déroulantes'!$I$2:$I$14
Name TechnicienInformatiqueCP: 'Listes déroulantes'!$K$2:$K$9
Name TechnicienLaboratoireCL1: 'Listes déroulantes'!$J$2:$J$14
Name TechnicienLaboratoireCLP: 'Listes déroulantes'!$O$2:$O$4
Name TechnicienTOUS: 'Listes déroulantes'!$H$2:$H$14
Name TitreDemploi: 'Listes déroulantes'!$A$2:$A$15

Sheet Critères de recherche
B2: Analyse des scénarios
B3: Négociation - Convention collective 2019
B6: Critères de recherche
B8: Emploi | F8: Retraite | L8: Retrait boni / Clause remorque FP | Q8: Compteurs
B10: Titre d'emploi | C10: Choisir… | H10: Année de la retraite | I10: Choisir… | K10: 2040 | M10: Retrait du boni (dans x ans) | N10: Jamais | S10: Nombre de vacances accumulées (hrs)*
B11: Échelon actuel (2019) | C11: Choisir… | E11: 18 | H11: Nombre d'années jusqu'à la retraite | I11: =I10-2019 -> #VALUE! | S11: Nombre de fériés à reprendre (hrs)
H12: Nombre d'années passées à la retraite | I12: =I13-C16-I11 -> #VALUE! | M12: Augmentation salariale | S12: Nombre d'heures supplémentaires (hrs)
H13: Âge hypothétique du décès | I13: 85 | M13: Fonction publique (2021) | N13: 0 | S13: Compteur maladies (hrs)
B15: Âge / années de service | G15: Espérance de vie pour un groupe de 65 ans (à titre indicatif)* | Q15: * Nombre d'heures de vacances en sus des vacances
B16: Âge actuel | C16: Choisir… | E16: 32 | G16: Hommes: | H16: 84,6 ans | I16: Femmes: | J16: 87,4 ans | Q16: annuelles)
B17: Nombre d'années de service | C17: Choisir… | E17: 14 | J17: * Institut de la statistique du Québec (2018)
F19: Notez-bien, la donnée de l'espérance de vie moyenne est à titre indicatif seulement
F20: puisqu'elle tient compte des décès infantiles, décès à l'adolescence, accidents, suicides, etc.
F21: L'espérance de vie pour un groupe de retraités est supérieur à la moyenne

Sheet Impact intégration du boni
B2: Analyse des scénarios
B3: Négociation - Convention collective 2019
B6: Mises en contexte
B8: Cet onglet compare l'entente de principe de juillet 2019 à un scénario hypothétique de 2% par année pendant les 6 ans de la convention collective et la non intégration du boni aux échelles salariales
B9: L'utilisateur peut toutefois tester l'impact du retrait du boni par le Gouvernement et l'impact qu'aurait la Politique salariale gouvernementale (PSG) pour 2021, advenant que la fonction publique négocie un meilleur pourcentage d'augmentation
B11: Pour ce faire, modifier les critères dans l'onglet "Critères de recherche"
B12: Entente de principe - Juillet 2019 (SANS intégration du boni)
B14: Barêmes
B16: Augmentation salariale | H16: =IF(H$24="Salarié",'Scénario hypothétique 2%'!M4,"N/A") -> #VALUE! | I16: =IF(I24="Salarié",'Scénario hypothétique 2%'!N4,"N/A") -> #VALUE! | J16: =IF(J24="Salarié",'Scénario hypothétique 2%'!O4,"N/A") -> #VALUE! | K16: =IF(K24="Salarié",'Scénario hypothétique 2%'!P4,"N/A") -> #VALUE! | L16: =IF(L24="Salarié",'Scénario hypothétique 2%'!Q4,"N/A") -> #VALUE! | M16: =IF(M24="Salarié",'Scénario hypothétique 2%'!R4,"N/A") -> #VALUE! | N16: =IF(N24="Salarié",'Scénario hypothétique 2%'!S4,"N/A") -> #VALUE! | O16: =IF(O24="Salarié",'Scénario hypothétique 2%'!T4,"N/A") -> #VALUE! | P16: =IF(P24="Salarié",'Scénario hypothétique 2%'!S4,"N/A") -> #VALUE! | Q16: =IF(Q24="Salarié",'Scénario hypothétique 2%'!T4,"N/A") -> #VALUE! | R16: =IF(R24="Salarié",'Scénario hypothétique 2%'!U4,"N/A") -> #VALUE! | S16: =IF(S24="Salarié",'Scénario hypothétique 2%'!V4,"N/A") -> #VALUE! | T16: =IF(T24="Salarié",'Scénario hypothétique 2%'!W4,"N/A") -> #VALUE! | U16: =IF(U24="Salarié",'Scénario hypothétique 2%'!X4,"N/A") -> #VALUE! | V16: =IF(V24="Salarié",'Scénario hypothétique 2%'!Y4,"N/A") -> #VALUE! | W16: =IF(W24="Salarié",'Scénario hypothétique 2%'!Z4,"N/A") -> #VALUE! | ... CF16: =IF(CF24="Salarié",'Scénario hypothétique 2%'!CI4,"N/A") -> #VALUE!
B17: %Boni | C17: 0.0047 | D17: 0.037 | E17: 0.0368 | F17: 0.0417 | G17: 0.0427 | H17: 0.0425 | I17: 0.0394 | J17: 0.0394 | K17: 0.0394 | L17: 0.0394 | M17: 0.0394 | N17: 0.0394 | O17: 0.0394 | P17: 0.0394 | Q17: 0.0394 | R17: 0.0394 | S17: 0.0394 | T17: 0.0394 | U17: 0.0394 | V17: 0.0394 | W17: 0.0394 | X17: 0.0394 | Y17: 0.0394 | Z17: 0.0394 | AA17: 0.0394 | AB17: 0.0394 | AC17: 0.0394 | AD17: 0.0394 | AE17: 0.0394 | AF17: 0.0394 | AG17: 0.0394 | AH17: 0.0394 | AI17: 0.0394 | AJ17: 0.0394 | AK17: 0.0394 | AL17: 0.0394 | AM17: 0.0394 | AN17: 0.0394 | AO17: 0.0394 | AP17: 0.0394 | AQ17: 0.0394 | AR17: 0.0394 | AS17: 0.0394 | AT17: 0.0394 | AU17: 0.0394 | AV17: 0.0394 | AW17: 0.0394 | AX17: 0.0394 | AY17: 0.0394 | AZ17: 0.0394 | BA17: 0.0394 | BB17: 0.0394 | BC17: 0.0394 | BD17: 0.0394 | BE17: 0.0394 | BF17: 0.0394 | BG17: 0.0394 | BH17: 0.0394 | BI17: 0.0394 | BJ17: 0.0394 | BK17: 0.0394 | BL17: 0.0394 | BM17: 0.0394 | BN17: 0.0394 | BO17: 0.0394 | BP17: 0.0394 | BQ17: 0.0394 | BR17: 0.0394 | BS17: 0.0394 | BT17: 0.0394 | BU17: 0.0394 | BV17: 0.0394 | BW17: 0.0394 | BX17: 0.0394 | BY17: 0.0394 | BZ17: 0.0394 | CA17: 0.0394 | CB17: 0.0394 | CC17: 0.0394 | CD17: 0.0394 | CE17: 0.0394 | CF17: 0.0394
B18: Indexation Retraite | C18: 0 | D18: 0 | E18: 0 | F18: 0 | G18: 0 | H18: =IF(H24="Retraité",IF(G24<>"Retraité",0,1%),0) -> #VALUE! | I18: =IF(I24="Retraité",IF(H24<>"Retraité",0,1%),0) -> #VALUE! | J18: =IF(J24="Retraité",IF(I24<>"Retraité",0,1%),0) -> #VALUE! | K18: =IF(K24="Retraité",IF(J24<>"Retraité",0,1%),0) -> #VALUE! | L18: =IF(L24="Retraité",IF(K24<>"Retraité",0,1%),0) -> #VALUE! | M18: =IF(M24="Retraité",IF(L24<>"Retraité",0,1%),0) -> #VALUE! | N18: =IF(N24="Retraité",IF(M24<>"Retraité",0,1%),0) -> #VALUE! | O18: =IF(O24="Retraité",IF(N24<>"Retraité",0,1%),0) -> #VALUE! | ... CF18: =IF(CF24="Retraité",IF(CE24<>"Retraité",0,1%),0) -> #VALUE!
B19: Nb années boni | H19: 1 | I19: 2 | J19: 3 | K19: 4 | L19: 5 | M19: 6 | N19: 7 | O19: 8 | P19: 9 | Q19: 10 | R19: 11 | S19: 12 | T19: 13 | U19: 14 | V19: 15 | W19: 16 | X19: 17 | Y19: 18 | Z19: 19 | AA19: 20 | AB19: 21 | AC19: 22 | AD19: 23 | AE19: 24 | AF19: 25 | AG19: 26 | AH19: 27 | AI19: 28 | AJ19: 29 | AK19: 30 | AL19: 31 | AM19: 32 | AN19: 33 | AO19: 34 | AP19: 35 | AQ19: 36 | AR19: 37 | AS19: 38 | AT19: 39 | AU19: 40 | AV19: 41 | AW19: 42 | AX19: 43 | AY19: 44 | AZ19: 45 | BA19: 46 | BB19: 47 | BC19: 48 | BD19: 49 | BE19: 50 | BF19: 51 | BG19: 52 | BH19: 53 | BI19: 54 | BJ19: 55 | BK19: 56 | BL19: 57 | BM19: 58 | BN19: 59 | BO19: 60 | BP19: 61 | BQ19: 62 | BR19: 63 | BS19: 64 | BT19: 65 | BU19: 66 | BV19: 67 | BW19: 68 | BX19: 69 | BY19: 70 | BZ19: 71 | CA19: 72 | CB19: 73 | CC19: 74 | CD19: 75 | CE19: 76 | CF19: 77
B21: Calculs
B23: Année | C23: 2014 | D23: 2015 | E23: 2016 | F23: 2017 | G23: 2018 | H23: 2019 | I23: 2020 | J23: 2021 | K23: 2022 | L23: 2023 | M23: 2024 | N23: 2025 | O23: 2026 | P23: 2027 | Q23: 2028 | R23: 2029 | S23: 2030 | T23: 2031 | U23: 2032 | V23: 2033 | W23: 2034 | X23: 2035 | Y23: 2036 | Z23: 2037 | AA23: 2038 | AB23: 2039 | AC23: 2040 | AD23: 2041 | AE23: 2042 | AF23: 2043 | AG23: 2044 | AH23: 2045 | AI23: 2046 | AJ23: 2047 | AK23: 2048 | AL23: 2049 | AM23: 2050 | AN23: 2051 | AO23: 2052 | AP23: 2053 | AQ23: 2054 | AR23: 2055 | AS23: 2056 | AT23: 2057 | AU23: 2058 | AV23: 2059 | AW23: 2060 | AX23: 2061 | AY23: 2062 | AZ23: 2063 | BA23: 2064 | BB23: 2065 | BC23: 2066 | BD23: 2067 | BE23: 2068 | BF23: 2069 | BG23: 2070 | BH23: 2071 | BI23: 2072 | BJ23: 2073 | BK23: 2074 | BL23: 2075 | BM23: 2076 | BN23: 2077 | BO23: 2078 | BP23: 2079 | BQ23: 2080 | BR23: 2081 | BS23: 2082 | BT23: 2083 | BU23: 2084 | BV23: 2085 | BW23: 2086 | BX23: 2087 | BY23: 2088 | BZ23: 2089 | CA23: 2090 | CB23: 2091 | CC23: 2092 | CD23: 2093 | CE23: 2094 | CF23: 2095
B24: Statut | C24: Salarié | D24: Salarié | E24: Salarié | F24: Salarié | G24: Salarié | H24: =VLOOKUP(H23,'Statut d''emploi'!$B$5:$F$87,5,0) -> #VALUE! | I24: =VLOOKUP(I23,'Statut d''emploi'!$B$5:$F$87,5,0) -> #VALUE! | J24: =VLOOKUP(J23,'Statut d''emploi'!$B$5:$F$87,5,0) -> #VALUE! | K24: =VLOOKUP(K23,'Statut d''emploi'!$B$5:$F$87,5,0) -> #VALUE! | L24: =VLOOKUP(L23,'Statut d''emploi'!$B$5:$F$87,5,0) -> #VALUE! | M24: =VLOOKUP(M23,'Statut d''emploi'!$B$5:$F$87,5,0) -> #VALUE! | N24: =VLOOKUP(N23,'Statut d''emploi'!$B$5:$F$87,5,0) -> #VALUE! | O24: =VLOOKUP(O23,'Statut d''emploi'!$B$5:$F$87,5,0) -> #VALUE! | ... CF24: =VLOOKUP(CF23,'Statut d''emploi'!$B$5:$F$87,5,0) -> #VALUE!
B25: Rang salaire | C25: =RANK(C26,$C$26:$CF$26) -> #VALUE! | D25: =RANK(D26,$C$26:$CF$26) -> #VALUE! | E25: =RANK(E26,$C$26:$CF$26) -> #VALUE! | F25: =RANK(F26,$C$26:$CF$26) -> #VALUE! | G25: =RANK(G26,$C$26:$CF$26) -> #VALUE! | H25: =RANK(H26,$C$26:$CF$26) -> #VALUE! | I25: =RANK(I26,$C$26:$CF$26) -> #VALUE! | J25: =RANK(J26,$C$26:$CF$26) -> #VALUE! | ... CF25: =RANK(CF26,$C$26:$CF$26) -> #VALUE!
B26: Salaire | C26: =SUMPRODUCT(('Critères de recherche'!C10='Scénario hypothétique 2%'!E10:E113)*('Critères de recherche'!C11='Scénario hypothétique 2%'!$F$10:$F$113)*('Scénario hypothétique 2%'!$H$10:$H$113)) -> 0 | D26: =SUMPRODUCT(('Critères de recherche'!C10='Scénario hypothétique 2%'!E10:E113)*('Critères de recherche'!C11='Scénario hypothétique 2%'!$F$10:$F$113)*('Scénario hypothétique 2%'!$I$10:$I$113)) -> 0 | E26: =SUMPRODUCT(('Critères de recherche'!C10='Scénario hypothétique 2%'!E10:E113)*('Critères de recherche'!C11='Scénario hypothétique 2%'!$F$10:$F$113)*('Scénario hypothétique 2%'!$J$10:$J$113)) -> 0 | F26: =SUMPRODUCT(('Critères de recherche'!C10='Scénario hypothétique 2%'!E10:E113)*('Critères de recherche'!C11='Scénario hypothétique 2%'!$F$10:$F$113)*('Scénario hypothétique 2%'!$K$10:$K$113)) -> 0 | G26: =SUMPRODUCT(('Critères de recherche'!C10='Scénario hypothétique 2%'!E10:E113)*('Critères de recherche'!C11='Scénario hypothétique 2%'!$F$10:$F$113)*('Scénario hypothétique 2%'!$L$10:$L$113)) -> 0 | H26: =IF(H24="Salarié",SUMPRODUCT(('Critères de recherche'!$C$10='Scénario hypothétique 2%'!$E$10:$E$113)*(SUMPRODUCT(('Impact intégration du boni'!H23='Statut d''emploi'!$B$5:$B$87)*('Statut d''emploi'!$H$5:$H$87))='Scénario hypothétique 2%'!$F$10:$F$113)*('Scénario hypothétique 2%'!$M$10:$M$113)),0) -> #VALUE! | I26: =IF(I24="Salarié",SUMPRODUCT(('Critères de recherche'!$C$10='Scénario hypothétique 2%'!$E$10:$E$113)*(SUMPRODUCT(('Impact intégration du boni'!I23='Statut d''emploi'!$B$5:$B$87)*('Statut d''emploi'!$H$5:$H$87))='Scénario hypothétique 2%'!$F$10:$F$113)*('Scénario hypothétique 2%'!$N$10:$N$113)),0) -> #VALUE! | J26: =IF(J24="Salarié",SUMPRODUCT(('Critères de recherche'!$C$10='Scénario hypothétique 2%'!$E$10:$E$113)*(SUMPRODUCT(('Impact intégration du boni'!J23='Statut d''emploi'!$B$5:$B$87)*('Statut d''emploi'!$H$5:$H$87))='Scénario hypothétique 2%'!$F$10:$F$113)*('Scénario hypothétique 2%'!$O$10:$O$113)),0) -> #VALUE! | K26: =IF(K24="Salarié",SUMPRODUCT(('Critères de recherche'!$C$10='Scénario hypothétique 2%'!$E$10:$E$113)*(SUMPRODUCT(('Impact intégration du boni'!K23='Statut d''emploi'!$B$5:$B$87)*('Statut d''emploi'!$H$5:$H$87))='Scénario hypothétique 2%'!$F$10:$F$113)*('Scénario hypothétique 2%'!$P$10:$P$113)),0) -> #VALUE! | L26: =IF(L24="Salarié",SUMPRODUCT(('Critères de recherche'!$C$10='Scénario hypothétique 2%'!$E$10:$E$113)*(SUMPRODUCT(('Impact intégration du boni'!L23='Statut d''emploi'!$B$5:$B$87)*('Statut d''emploi'!$H$5:$H$87))='Scénario hypothétique 2%'!$F$10:$F$113)*('Scénario hypothétique 2%'!$Q$10:$Q$113)),0) -> #VALUE! | M26: =IF(M24="Salarié",SUMPRODUCT(('Critères de recherche'!$C$10='Scénario hypothétique 2%'!$E$10:$E$113)*(SUMPRODUCT(('Impact intégration du boni'!M23='Statut d''emploi'!$B$5:$B$87)*('Statut d''emploi'!$H$5:$H$87))='Scénario hypothétique 2%'!$F$10:$F$113)*('Scénario hypothétique 2%'!$R$10:$R$113)),0) -> #VALUE! | N26: =IF(N24="Salarié",SUMPRODUCT(('Critères de recherche'!$C$10='Scénario hypothétique 2%'!$E$10:$E$113)*(SUMPRODUCT(('Impact intégration du boni'!N23='Statut d''emploi'!$B$5:$B$87)*('Statut d''emploi'!$H$5:$H$87))='Scénario hypothétique 2%'!$F$10:$F$113)*('Scénario hypothétique 2%'!$S$10:$S$113)),0) -> #VALUE! | O26: =IF(O24="Salarié",SUMPRODUCT(('Critères de recherche'!$C$10='Scénario hypothétique 2%'!$E$10:$E$113)*(SUMPRODUCT(('Impact intégration du boni'!O23='Statut d''emploi'!$B$5:$B$87)*('Statut d''emploi'!$H$5:$H$87))='Scénario hypothétique 2%'!$F$10:$F$113)*('Scénario hypothétique 2%'!$T$10:$T$113)),0) -> #VALUE! | P26: =IF(P24="Salarié",SUMPRODUCT(('Critères de recherche'!$C$10='Scénario hypothétique 2%'!$E$10:$E$113)*(SUMPRODUCT(('Impact intégration du boni'!P23='Statut d''emploi'!$B$5:$B$87)*('Statut d''emploi'!$H$5:$H$87))='Scénario hypothétique 2%'!$F$10:$F$113)*('Scénario hypothétique 2%'!$U$10:$U$113)),0) -> #VALUE! | Q26: =IF(Q24="Salarié",SUMPRODUCT(('Critères de recherche'!$C$10='Scénario hypothétique 2%'!$E$10:$E$113)*(SUMPRODUCT(('Impact intégration du boni'!Q23='Statut d''emploi'!$B$5:$B$87)*('Statut d''emploi'!$H$5:$H$87))='Scénario hypothétique 2%'!$F$10:$F$113)*('Scénario hypothétique 2%'!$V$10:$V$113)),0) -> #VALUE! | R26: =IF(R24="Salarié",SUMPRODUCT(('Critères de recherche'!$C$10='Scénario hypothétique 2%'!$E$10:$E$113)*(SUMPRODUCT(('Impact intégration du boni'!R23='Statut d''emploi'!$B$5:$B$87)*('Statut d''emploi'!$H$5:$H$87))='Scénario hypothétique 2%'!$F$10:$F$113)*('Scénario hypothétique 2%'!$W$10:$W$113)),0) -> #VALUE! | S26: =IF(S24="Salarié",SUMPRODUCT(('Critères de recherche'!$C$10='Scénario hypothétique 2%'!$E$10:$E$113)*(SUMPRODUCT(('Impact intégration du boni'!S23='Statut d''emploi'!$B$5:$B$87)*('Statut d''emploi'!$H$5:$H$87))='Scénario hypothétique 2%'!$F$10:$F$113)*('Scénario hypothétique 2%'!$X$10:$X$113)),0) -> #VALUE! | T26: =IF(T24="Salarié",SUMPRODUCT(('Critères de recherche'!$C$10='Scénario hypothétique 2%'!$E$10:$E$113)*(SUMPRODUCT(('Impact intégration du boni'!T23='Statut d''emploi'!$B$5:$B$87)*('Statut d''emploi'!$H$5:$H$87))='Scénario hypothétique 2%'!$F$10:$F$113)*('Scénario hypothétique 2%'!$Y$10:$Y$113)),0) -> #VALUE! | U26: =IF(U24="Salarié",SUMPRODUCT(('Critères de recherche'!$C$10='Scénario hypothétique 2%'!$E$10:$E$113)*(SUMPRODUCT(('Impact intégration du boni'!U23='Statut d''emploi'!$B$5:$B$87)*('Statut d''emploi'!$H$5:$H$87))='Scénario hypothétique 2%'!$F$10:$F$113)*('Scénario hypothétique 2%'!$Z$10:$Z$113)),0) -> #VALUE! | V26: =IF(V24="Salarié",SUMPRODUCT(('Critères de recherche'!$C$10='Scénario hypothétique 2%'!$E$10:$E$113)*(SUMPRODUCT(('Impact intégration du boni'!V23='Statut d''emploi'!$B$5:$B$87)*('Statut d''emploi'!$H$5:$H$87))='Scénario hypothétique 2%'!$F$10:$F$113)*('Scénario hypothétique 2%'!$AA$10:$AA$113)),0) -> #VALUE! | W26: =IF(W24="Salarié",SUMPRODUCT(('Critères de recherche'!$C$10='Scénario hypothétique 2%'!$E$10:$E$113)*(SUMPRODUCT(('Impact intégration du boni'!W23='Statut d''emploi'!$B$5:$B$87)*('Statut d''emploi'!$H$5:$H$87))='Scénario hypothétique 2%'!$F$10:$F$113)*('Scénario hypothétique 2%'!$AB$10:$AB$113)),0) -> #VALUE! | X26: =IF(X24="Salarié",SUMPRODUCT(('Critères de recherche'!$C$10='Scénario hypothétique 2%'!$E$10:$E$113)*(SUMPRODUCT(('Impact intégration du boni'!X23='Statut d''emploi'!$B$5:$B$87)*('Statut d''emploi'!$H$5:$H$87))='Scénario hypothétique 2%'!$F$10:$F$113)*('Scénario hypothétique 2%'!$AC$10:$AC$113)),0) -> #VALUE! | Y26: =IF(Y24="Salarié",SUMPRODUCT(('Critères de recherche'!$C$10='Scénario hypothétique 2%'!$E$10:$E$113)*(SUMPRODUCT(('Impact intégration du boni'!Y23='Statut d''emploi'!$B$5:$B$87)*('Statut d''emploi'!$H$5:$H$87))='Scénario hypothétique 2%'!$F$10:$F$113)*('Scénario hypothétique 2%'!$AD$10:$AD$113)),0) -> #VALUE! | Z26: =IF(Z24="Salarié",SUMPRODUCT(('Critères de recherche'!$C$10='Scénario hypothétique 2%'!$E$10:$E$113)*(SUMPRODUCT(('Impact intégration du boni'!Z23='Statut d''emploi'!$B$5:$B$87)*('Statut d''emploi'!$H$5:$H$87))='Scénario hypothétique 2%'!$F$10:$F$113)*('Scénario hypothétique 2%'!$AE$10:$AE$113)),0) -> #VALUE! | AA26: =IF(AA24="Salarié",SUMPRODUCT(('Critères de recherche'!$C$10='Scénario hypothétique 2%'!$E$10:$E$113)*(SUMPRODUCT(('Impact intégration du boni'!AA23='Statut d''emploi'!$B$5:$B$87)*('Statut d''emploi'!$H$5:$H$87))='Scénario hypothétique 2%'!$F$10:$F$113)*('Scénario hypothétique 2%'!$AF$10:$AF$113)),0) -> #VALUE! | AB26: =IF(AB24="Salarié",SUMPRODUCT(('Critères de recherche'!$C$10='Scénario hypothétique 2%'!$E$10:$E$113)*(SUMPRODUCT(('Impact intégration du boni'!AB23='Statut d''emploi'!$B$5:$B$87)*('Statut d''emploi'!$H$5:$H$87))='Scénario hypothétique 2%'!$F$10:$F$113)*('Scénario hypothétique 2%'!$AG$10:$AG$113)),0) -> #VALUE! | AC26: =IF(AC24="Salarié",SUMPRODUCT(('Critères de recherche'!$C$10='Scénario hypothétique 2%'!$E$10:$E$113)*(SUMPRODUCT(('Impact intégration du boni'!AC23='Statut d''emploi'!$B$5:$B$87)*('Statut d''emploi'!$H$5:$H$87))='Scénario hypothétique 2%'!$F$10:$F$113)*('Scénario hypothétique 2%'!$AH$10:$AH$113)),0) -> #VALUE! | AD26: =IF(AD24="Salarié",SUMPRODUCT(('Critères de recherche'!$C$10='Scénario hypothétique 2%'!$E$10:$E$113)*(SUMPRODUCT(('Impact intégration du boni'!AD23='Statut d''emploi'!$B$5:$B$87)*('Statut d''emploi'!$H$5:$H$87))='Scénario hypothétique 2%'!$F$10:$F$113)*('Scénario hypothétique 2%'!$AI$10:$AI$113)),0) -> #VALUE! | AE26: =IF(AE24="Salarié",SUMPRODUCT(('Critères de recherche'!$C$10='Scénario hypothétique 2%'!$E$10:$E$113)*(SUMPRODUCT(('Impact intégration du boni'!AE23='Statut d''emploi'!$B$5:$B$87)*('Statut d''emploi'!$H$5:$H$87))='Scénario hypothétique 2%'!$F$10:$F$113)*('Scénario hypothétique 2%'!$AJ$10:$AJ$113)),0) -> #VALUE! | AF26: =IF(AF24="Salarié",SUMPRODUCT(('Critères de recherche'!$C$10='Scénario hypothétique 2%'!$E$10:$E$113)*(SUMPRODUCT(('Impact intégration du boni'!AF23='Statut d''emploi'!$B$5:$B$87)*('Statut d''emploi'!$H$5:$H$87))='Scénario hypothétique 2%'!$F$10:$F$113)*('Scénario hypothétique 2%'!$AK$10:$AK$113)),0) -> #VALUE! | AG26: =IF(AG24="Salarié",SUMPRODUCT(('Critères de recherche'!$C$10='Scénario hypothétique 2%'!$E$10:$E$113)*(SUMPRODUCT(('Impact intégration du boni'!AG23='Statut d''emploi'!$B$5:$B$87)*('Statut d''emploi'!$H$5:$H$87))='Scénario hypothétique 2%'!$F$10:$F$113)*('Scénario hypothétique 2%'!$AL$10:$AL$113)),0) -> #VALUE! | AH26: =IF(AH24="Salarié",SUMPRODUCT(('Critères de recherche'!$C$10='Scénario hypothétique 2%'!$E$10:$E$113)*(SUMPRODUCT(('Impact intégration du boni'!AH23='Statut d''emploi'!$B$5:$B$87)*('Statut d''emploi'!$H$5:$H$87))='Scénario hypothétique 2%'!$F$10:$F$113)*('Scénario hypothétique 2%'!$AM$10:$AM$113)),0) -> #VALUE! | AI26: =IF(AI24="Salarié",SUMPRODUCT(('Critères de recherche'!$C$10='Scénario hypothétique 2%'!$E$10:$E$113)*(SUMPRODUCT(('Impact intégration du boni'!AI23='Statut d''emploi'!$B$5:$B$87)*('Statut d''emploi'!$H$5:$H$87))='Scénario hypothétique 2%'!$F$10:$F$113)*('Scénario hypothétique 2%'!$AN$10:$AN$113)),0) -> #VALUE! | AJ26: =IF(AJ24="Salarié",SUMPRODUCT(('Critères de recherche'!$C$10='Scénario hypothétique 2%'!$E$10:$E$113)*(SUMPRODUCT(('Impact intégration du boni'!AJ23='Statut d''emploi'!$B$5:$B$87)*('Statut d''emploi'!$H$5:$H$87))='Scénario hypothétique 2%'!$F$10:$F$113)*('Scénario hypothétique 2%'!$AO$10:$AO$113)),0) -> #VALUE! | AK26: =IF(AK24="Salarié",SUMPRODUCT(('Critères de recherche'!$C$10='Scénario hypothétique 2%'!$E$10:$E$113)*(SUMPRODUCT(('Impact intégration du boni'!AK23='Statut d''emploi'!$B$5:$B$87)*('Statut d''emploi'!$H$5:$H$87))='Scénario hypothétique 2%'!$F$10:$F$113)*('Scénario hypothétique 2%'!$AP$10:$AP$113)),0) -> #VALUE! | AL26: =IF(AL24="Salarié",SUMPRODUCT(('Critères de recherche'!$C$10='Scénario hypothétique 2%'!$E$10:$E$113)*(SUMPRODUCT(('Impact intégration du boni'!AL23='Statut d''emploi'!$B$5:$B$87)*('Statut d''emploi'!$H$5:$H$87))='Scénario hypothétique 2%'!$F$10:$F$113)*('Scénario hypothétique 2%'!$AQ$10:$AQ$113)),0) -> #VALUE! | AM26: =IF(AM24="Salarié",SUMPRODUCT(('Critères de recherche'!$C$10='Scénario hypothétique 2%'!$E$10:$E$113)*(SUMPRODUCT(('Impact intégration du boni'!AM23='Statut d''emploi'!$B$5:$B$87)*('Statut d''emploi'!$H$5:$H$87))='Scénario hypothétique 2%'!$F$10:$F$113)*('Scénario hypothétique 2%'!AR$10:AR$113)),0) -> #VALUE! | AN26: =IF(AN24="Salarié",SUMPRODUCT(('Critères de recherche'!$C$10='Scénario hypothétique 2%'!$E$10:$E$113)*(SUMPRODUCT(('Impact intégration du boni'!AN23='Statut d''emploi'!$B$5:$B$87)*('Statut d''emploi'!$H$5:$H$87))='Scénario hypothétique 2%'!$F$10:$F$113)*('Scénario hypothétique 2%'!AS$10:AS$113)),0) -> #VALUE! | AO26: =IF(AO24="Salarié",SUMPRODUCT(('Critères de recherche'!$C$10='Scénario hypothétique 2%'!$E$10:$E$113)*(SUMPRODUCT(('Impact intégration du boni'!AO23='Statut d''emploi'!$B$5:$B$87)*('Statut d''emploi'!$H$5:$H$87))='Scénario hypothétique 2%'!$F$10:$F$113)*('Scénario hypothétique 2%'!AT$10:AT$113)),0) -> #VALUE! | AP26: =IF(AP24="Salarié",SUMPRODUCT(('Critères de recherche'!$C$10='Scénario hypothétique 2%'!$E$10:$E$113)*(SUMPRODUCT(('Impact intégration du boni'!AP23='Statut d''emploi'!$B$5:$B$87)*('Statut d''emploi'!$H$5:$H$87))='Scénario hypothétique 2%'!$F$10:$F$113)*('Scénario hypothétique 2%'!AU$10:AU$113)),0) -> #VALUE! | AQ26: =IF(AQ24="Salarié",SUMPRODUCT(('Critères de recherche'!$C$10='Scénario hypothétique 2%'!$E$10:$E$113)*(SUMPRODUCT(('Impact intégration du boni'!AQ23='Statut d''emploi'!$B$5:$B$87)*('Statut d''emploi'!$H$5:$H$87))='Scénario hypothétique 2%'!$F$10:$F$113)*('Scénario hypothétique 2%'!AV$10:AV$113)),0) -> #VALUE! | AR26: =IF(AR24="Salarié",SUMPRODUCT(('Critères de recherche'!$C$10='Scénario hypothétique 2%'!$E$10:$E$113)*(SUMPRODUCT(('Impact intégration du boni'!AR23='Statut d''emploi'!$B$5:$B$87)*('Statut d''emploi'!$H$5:$H$87))='Scénario hypothétique 2%'!$F$10:$F$113)*('Scénario hypothétique 2%'!AW$10:AW$113)),0) -> #VALUE! | AS26: =IF(AS24="Salarié",SUMPRODUCT(('Critères de recherche'!$C$10='Scénario hypothétique 2%'!$E$10:$E$113)*(SUMPRODUCT(('Impact intégration du boni'!AS23='Statut d''emploi'!$B$5:$B$87)*('Statut d''emploi'!$H$5:$H$87))='Scénario hypothétique 2%'!$F$10:$F$113)*('Scénario hypothétique 2%'!AX$10:AX$113)),0) -> #VALUE! | AT26: =IF(AT24="Salarié",SUMPRODUCT(('Critères de recherche'!$C$10='Scénario hypothétique 2%'!$E$10:$E$113)*(SUMPRODUCT(('Impact intégration du boni'!AT23='Statut d''emploi'!$B$5:$B$87)*('Statut d''emploi'!$H$5:$H$87))='Scénario hypothétique 2%'!$F$10:$F$113)*('Scénario hypothétique 2%'!AY$10:AY$113)),0) -> #VALUE! | ... CF26: =IF(CF24="Salarié",SUMPRODUCT(('Critères de recherche'!$C$10='Scénario hypothétique 2%'!$E$10:$E$113)*(SUMPRODUCT(('Impact intégration du boni'!CF23='Statut d''emploi'!$B$5:$B$87)*('Statut d''emploi'!$H$5:$H$87))='Scénario hypothétique 2%'!$F$10:$F$113)*('Scénario hypothétique 2%'!CK$10:CK$113)),0) -> #VALUE!
B27: Bonification | C27: =IF('Critères de recherche'!$N10<>"Jamais",IF(C19<='Critères de recherche'!$N10+1,IF(C24="Salarié",IF(C17<>"",C26*C17,0),0),0),IF(C24="Salarié",IF(C17<>"",C26*C17,0),0)) -> 0 | D27: =IF('Critères de recherche'!$N10<>"Jamais",IF(D19<='Critères de recherche'!$N10+1,IF(D24="Salarié",IF(D17<>"",D26*D17,0),0),0),IF(D24="Salarié",IF(D17<>"",D26*D17,0),0)) -> 0 | E27: =IF('Critères de recherche'!$N10<>"Jamais",IF(E19<='Critères de recherche'!$N10+1,IF(E24="Salarié",IF(E17<>"",E26*E17,0),0),0),IF(E24="Salarié",IF(E17<>"",E26*E17,0),0)) -> 0 | F27: =IF('Critères de recherche'!$N10<>"Jamais",IF(F19<='Critères de recherche'!$N10+1,IF(F24="Salarié",IF(F17<>"",F26*F17,0),0),0),IF(F24="Salarié",IF(F17<>"",F26*F17,0),0)) -> 0 | G27: =IF('Critères de recherche'!$N10<>"Jamais",IF(G19<='Critères de recherche'!$N10+1,IF(G24="Salarié",IF(G17<>"",G26*G17,0),0),0),IF(G24="Salarié",IF(G17<>"",G26*G17,0),0)) -> 0 | H27: =IF('Critères de recherche'!$N10<>"Jamais",IF(H19<='Critères de recherche'!$N10+1,IF(H24="Salarié",IF(H17<>"",H26*H17,0),0),0),IF(H24="Salarié",IF(H17<>"",H26*H17,0),0)) -> #VALUE! | I27: =IF('Critères de recherche'!$N10<>"Jamais",IF(I19<='Critères de recherche'!$N10+1,IF(I24="Salarié",IF(I17<>"",I26*I17,0),0),0),IF(I24="Salarié",IF(I17<>"",I26*I17,0),0)) -> #VALUE! | J27: =IF('Critères de recherche'!$N10<>"Jamais",IF(J19<='Critères de recherche'!$N10+1,IF(J24="Salarié",IF(J17<>"",J26*J17,0),0),0),IF(J24="Salarié",IF(J17<>"",J26*J17,0),0)) -> #VALUE! | ... W27: =IF('Critères de recherche'!$N10<>"Jamais",IF(W19<='Critères de recherche'!$N10+1,IF(W24="Salarié",IF(W17<>"",W26*W17,0),0),0),IF(W24="Salarié",IF(W17<>"",W26*W17,0),0)) -> #VALUE! | X27: =IF('Critères de recherche'!$N10<>"Jamais",IF(X19<='Critères de recherche'!$N10,IF(X24="Salarié",IF(X17<>"",X26*X17,0),0),0),IF(X24="Salarié",IF(X17<>"",X26*X17,0),0)) -> #VALUE! | Y27: =IF('Critères de recherche'!$N10<>"Jamais",IF(Y19<='Critères de recherche'!$N10,IF(Y24="Salarié",IF(Y17<>"",Y26*Y17,0),0),0),IF(Y24="Salarié",IF(Y17<>"",Y26*Y17,0),0)) -> #VALUE! | Z27: =IF('Critères de recherche'!$N10<>"Jamais",IF(Z19<='Critères de recherche'!$N10,IF(Z24="Salarié",IF(Z17<>"",Z26*Z17,0),0),0),IF(Z24="Salarié",IF(Z17<>"",Z26*Z17,0),0)) -> #VALUE! | AA27: =IF('Critères de recherche'!$N10<>"Jamais",IF(AA19<='Critères de recherche'!$N10,IF(AA24="Salarié",IF(AA17<>"",AA26*AA17,0),0),0),IF(AA24="Salarié",IF(AA17<>"",AA26*AA17,0),0)) -> #VALUE! | AB27: =IF('Critères de recherche'!$N10<>"Jamais",IF(AB19<='Critères de recherche'!$N10,IF(AB24="Salarié",IF(AB17<>"",AB26*AB17,0),0),0),IF(AB24="Salarié",IF(AB17<>"",AB26*AB17,0),0)) -> #VALUE! | AC27: =IF('Critères de recherche'!$N10<>"Jamais",IF(AC19<='Critères de recherche'!$N10,IF(AC24="Salarié",IF(AC17<>"",AC26*AC17,0),0),0),IF(AC24="Salarié",IF(AC17<>"",AC26*AC17,0),0)) -> #VALUE! | AD27: =IF('Critères de recherche'!$N10<>"Jamais",IF(AD19<='Critères de recherche'!$N10,IF(AD24="Salarié",IF(AD17<>"",AD26*AD17,0),0),0),IF(AD24="Salarié",IF(AD17<>"",AD26*AD17,0),0)) -> #VALUE! | AE27: =IF('Critères de recherche'!$N10<>"Jamais",IF(AE19<='Critères de recherche'!$N10,IF(AE24="Salarié",IF(AE17<>"",AE26*AE17,0),0),0),IF(AE24="Salarié",IF(AE17<>"",AE26*AE17,0),0)) -> #VALUE! | ... CF27: =IF('Critères de recherche'!$N10<>"Jamais",IF(CF19<='Critères de recherche'!$N10,IF(CF24="Salarié",IF(CF17<>"",CF26*CF17,0),0),0),IF(CF24="Salarié",IF(CF17<>"",CF26*CF17,0),0)) -> #VALUE!
B28: Gain retraite | C28: =IF(C24="Retraité",IF(B28=0,$C$70,B28*(1+C18)),0) -> 0 | D28: =IF(D24="Retraité",IF(C28=0,$C$70,C28*(1+D18)),0) -> 0 | E28: =IF(E24="Retraité",IF(D28=0,$C$70,D28*(1+E18)),0) -> 0 | F28: =IF(F24="Retraité",IF(E28=0,$C$70,E28*(1+F18)),0) -> 0 | G28: =IF(G24="Retraité",IF(F28=0,$C$70,F28*(1+G18)),0) -> 0 | H28: =IF(H24="Retraité",IF(G28=0,$C$70,G28*(1+H18)),0) -> #VALUE! | I28: =IF(I24="Retraité",IF(H28=0,$C$70,H28*(1+I18)),0) -> #VALUE! | J28: =IF(J24="Retraité",IF(I28=0,$C$70,I28*(1+J18)),0) -> #VALUE! | ... CF28: =IF(CF24="Retraité",IF(CE28=0,$C$70,CE28*(1+CF18)),0) -> #VALUE!
B29: Total | C29: =SUM(C26:C28) -> 0 | D29: =SUM(D26:D28) -> 0 | E29: =SUM(E26:E28) -> 0 | F29: =SUM(F26:F28) -> 0 | G29: =SUM(G26:G28) -> 0 | H29: =SUM(H26:H28) -> #VALUE! | I29: =SUM(I26:I28) -> #VALUE! | J29: =SUM(J26:J28) -> #VALUE! | ... CF29: =SUM(CF26:CF28) -> #VALUE!
B32: Entente de principe - Juillet 2019 (AVEC intégration du boni)
B34: Barêmes
B36: Augmentation salariale | H36: =IF(H$44="Salarié",SUM('EntenteJuil2019 (avec boni)'!N4:N6),"N/A") -> #VALUE! | I36: =IF(I$44="Salarié",SUM('EntenteJuil2019 (avec boni)'!O4:O6),"N/A") -> #VALUE! | J36: =IF(J$44="Salarié",SUM('EntenteJuil2019 (avec boni)'!P4:P6),"N/A") -> #VALUE! | K36: =IF(K$44="Salarié",SUM('EntenteJuil2019 (avec boni)'!Q4:Q6),"N/A") -> #VALUE! | L36: =IF(L$44="Salarié",SUM('EntenteJuil2019 (avec boni)'!R4:R6),"N/A") -> #VALUE! | M36: =IF(M$44="Salarié",SUM('EntenteJuil2019 (avec boni)'!S4:S6),"N/A") -> #VALUE! | N36: =IF(N$44="Salarié",SUM('EntenteJuil2019 (avec boni)'!T4:T6),"N/A") -> #VALUE! | O36: =IF(O$44="Salarié",SUM('EntenteJuil2019 (avec boni)'!U4:U6),"N/A") -> #VALUE! | ... CF36: =IF(CF$44="Salarié",SUM('EntenteJuil2019 (avec boni)'!CL4:CL6),"N/A") -> #VALUE!
B37: %Boni | C37: 0.0047 | D37: 0.037 | E37: 0.0368 | F37: 0.0417 | G37: 0.0427 | H37: =IF(H$44="Salarié",'EntenteJuil2019 (avec boni)'!N7,"N/A") -> #VALUE! | I37: =IF(I$44="Salarié",'EntenteJuil2019 (avec boni)'!O7,"N/A") -> #VALUE! | J37: =IF(J$44="Salarié",'EntenteJuil2019 (avec boni)'!P7,"N/A") -> #VALUE! | K37: =IF(K$44="Salarié",'EntenteJuil2019 (avec boni)'!Q7,"N/A") -> #VALUE! | L37: =IF(L$44="Salarié",'EntenteJuil2019 (avec boni)'!R7,"N/A") -> #VALUE! | M37: =IF(M$44="Salarié",'EntenteJuil2019 (avec boni)'!S7,"N/A") -> #VALUE! | N37: =IF(N$44="Salarié",'EntenteJuil2019 (avec boni)'!T7,"N/A") -> #VALUE! | O37: =IF(O$44="Salarié",'EntenteJuil2019 (avec boni)'!U7,"N/A") -> #VALUE! | ... CF37: =IF(CF$44="Salarié",'EntenteJuil2019 (avec boni)'!CL7,"N/A") -> #VALUE!
B38: Indexation Retraite | H38: =IF(H44="Retraité",IF(G44<>"Retraité",0,1%),0) -> #VALUE! | I38: =IF(I44="Retraité",IF(H44<>"Retraité",0,1%),0) -> #VALUE! | J38: =IF(J44="Retraité",IF(I44<>"Retraité",0,1%),0) -> #VALUE! | K38: =IF(K44="Retraité",IF(J44<>"Retraité",0,1%),0) -> #VALUE! | L38: =IF(L44="Retraité",IF(K44<>"Retraité",0,1%),0) -> #VALUE! | M38: =IF(M44="Retraité",IF(L44<>"Retraité",0,1%),0) -> #VALUE! | N38: =IF(N44="Retraité",IF(M44<>"Retraité",0,1%),0) -> #VALUE! | O38: =IF(O44="Retraité",IF(N44<>"Retraité",0,1%),0) -> #VALUE! | ... CF38: =IF(CF44="Retraité",IF(CE44<>"Retraité",0,1%),0) -> #VALUE!
B39: Note | I39: Relativité salariale
B41: Calculs
B43: Année | C43: 2014 | D43: 2015 | E43: 2016 | F43: 2017 | G43: 2018 | H43: 2019 | I43: 2020 | J43: 2021 | K43: 2022 | L43: 2023 | M43: 2024 | N43: 2025 | O43: 2026 | P43: 2027 | Q43: 2028 | R43: 2029 | S43: 2030 | T43: 2031 | U43: 2032 | V43: 2033 | W43: 2034 | X43: 2035 | Y43: 2036 | Z43: 2037 | AA43: 2038 | AB43: 2039 | AC43: 2040 | AD43: 2041 | AE43: 2042 | AF43: 2043 | AG43: 2044 | AH43: 2045 | AI43: 2046 | AJ43: 2047 | AK43: 2048 | AL43: 2049 | AM43: 2050 | AN43: 2051 | AO43: 2052 | AP43: 2053 | AQ43: 2054 | AR43: 2055 | AS43: 2056 | AT43: 2057 | AU43: 2058 | AV43: 2059 | AW43: 2060 | AX43: 2061 | AY43: 2062 | AZ43: 2063 | BA43: 2064 | BB43: 2065 | BC43: 2066 | BD43: 2067 | BE43: 2068 | BF43: 2069 | BG43: 2070 | BH43: 2071 | BI43: 2072 | BJ43: 2073 | BK43: 2074 | BL43: 2075 | BM43: 2076 | BN43: 2077 | BO43: 2078 | BP43: 2079 | BQ43: 2080 | BR43: 2081 | BS43: 2082 | BT43: 2083 | BU43: 2084 | BV43: 2085 | BW43: 2086 | BX43: 2087 | BY43: 2088 | BZ43: 2089 | CA43: 2090 | CB43: 2091 | CC43: 2092 | CD43: 2093 | CE43: 2094 | CF43: 2095
B44: Statut | C44: Salarié | D44: Salarié | E44: Salarié | F44: Salarié | G44: Salarié | H44: =VLOOKUP(H43,'Statut d''emploi'!$B$5:$F$87,5,0) -> #VALUE! | I44: =VLOOKUP(I43,'Statut d''emploi'!$B$5:$F$87,5,0) -> #VALUE! | J44: =VLOOKUP(J43,'Statut d''emploi'!$B$5:$F$87,5,0) -> #VALUE! | K44: =VLOOKUP(K43,'Statut d''emploi'!$B$5:$F$87,5,0) -> #VALUE! | L44: =VLOOKUP(L43,'Statut d''emploi'!$B$5:$F$87,5,0) -> #VALUE! | M44: =VLOOKUP(M43,'Statut d''emploi'!$B$5:$F$87,5,0) -> #VALUE! | N44: =VLOOKUP(N43,'Statut d''emploi'!$B$5:$F$87,5,0) -> #VALUE! | O44: =VLOOKUP(O43,'Statut d''emploi'!$B$5:$F$87,5,0) -> #VALUE! | ... CF44: =VLOOKUP(CF43,'Statut d''emploi'!$B$5:$F$87,5,0) -> #VALUE!
B45: Rang salaire | C45: =RANK(C46,$C$46:$CE$46) -> #VALUE! | D45: =RANK(D46,$C$46:$CE$46) -> #VALUE! | E45: =RANK(E46,$C$46:$CE$46) -> #VALUE! | F45: =RANK(F46,$C$46:$CE$46) -> #VALUE! | G45: =RANK(G46,$C$46:$CE$46) -> #VALUE! | H45: =RANK(H46,$C$46:$CE$46) -> #VALUE! | I45: =RANK(I46,$C$46:$CE$46) -> #VALUE! | J45: =RANK(J46,$C$46:$CE$46) -> #VALUE! | ... CF45: =RANK(CF46,$C$46:$CE$46) -> #VALUE!
B46: Salaire | C46: =SUMPRODUCT(('Critères de recherche'!C10='EntenteJuil2019 (avec boni)'!$E$11:$E$114)*('Critères de recherche'!C11='EntenteJuil2019 (avec boni)'!$G$11:$G$114)*('EntenteJuil2019 (avec boni)'!$I$11:$I$114)) -> 0 | D46: =SUMPRODUCT(('Critères de recherche'!C10='EntenteJuil2019 (avec boni)'!$E$11:$E$114)*('Critères de recherche'!C11='EntenteJuil2019 (avec boni)'!$G$11:$G$114)*('EntenteJuil2019 (avec boni)'!$J$11:$J$114)) -> 0 | E46: =SUMPRODUCT(('Critères de recherche'!C10='EntenteJuil2019 (avec boni)'!$E$11:$E$114)*('Critères de recherche'!C11='EntenteJuil2019 (avec boni)'!$G$11:$G$114)*('EntenteJuil2019 (avec boni)'!$K$11:$K$114)) -> 0 | F46: =SUMPRODUCT(('Critères de recherche'!C10='EntenteJuil2019 (avec boni)'!$E$11:$E$114)*('Critères de recherche'!C11='EntenteJuil2019 (avec boni)'!$G$11:$G$114)*('EntenteJuil2019 (avec boni)'!$L$11:$L$114)) -> 0 | G46: =SUMPRODUCT(('Critères de recherche'!C10='EntenteJuil2019 (avec boni)'!$E$11:$E$114)*('Critères de recherche'!C11='EntenteJuil2019 (avec boni)'!$G$11:$G$114)*('EntenteJuil2019 (avec boni)'!$M$11:$M$114)) -> 0 | H46: =IF(H44="Salarié",SUMPRODUCT(('Critères de recherche'!$C$10='EntenteJuil2019 (avec boni)'!$E$11:$E$114)*(SUMPRODUCT(('Impact intégration du boni'!H43='Statut d''emploi'!$B$5:$B$87)*('Statut d''emploi'!$H$5:$H$87))='EntenteJuil2019 (avec boni)'!$G$11:$G$114)*('EntenteJuil2019 (avec boni)'!N$11:N$114)),0) -> #VALUE! | I46: =IF(I44="Salarié",SUMPRODUCT(('Critères de recherche'!$C$10='EntenteJuil2019 (avec boni)'!$E$11:$E$114)*(SUMPRODUCT(('Impact intégration du boni'!I43='Statut d''emploi'!$B$5:$B$87)*('Statut d''emploi'!$H$5:$H$87))='EntenteJuil2019 (avec boni)'!$G$11:$G$114)*('EntenteJuil2019 (avec boni)'!O$11:O$114)),0) -> #VALUE! | J46: =IF(J44="Salarié",IF('Critères de recherche'!$N13>0.01,SUMPRODUCT(('Critères de recherche'!$C$10='EntenteJuil2019 (avec boni)'!$E$11:$E$114)*(SUMPRODUCT(('Impact intégration du boni'!J43='Statut d''emploi'!$B$5:$B$87)*('Statut d''emploi'!$H$5:$H$87))='EntenteJuil2019 (avec boni)'!$G$11:$G$114)*('EntenteJuil2019 (avec boni)'!CM$11:CM$114)),SUMPRODUCT(('Critères de recherche'!$C$10='EntenteJuil2019 (avec boni)'!$E$11:$E$114)*(SUMPRODUCT(('Impact intégration du boni'!J43='Statut d''emploi'!$B$5:$B$87)*('Statut d''emploi'!$H$5:$H$87))='EntenteJuil2019 (avec boni)'!$G$11:$G$114)*('EntenteJuil2019 (avec boni)'!P$11:P$114))),0) -> #VALUE! | K46: =IF(K44="Salarié",IF('Critères de recherche'!$N13>0.01,SUMPRODUCT(('Critères de recherche'!$C$10='EntenteJuil2019 (avec boni)'!$E$11:$E$114)*(SUMPRODUCT(('Impact intégration du boni'!K43='Statut d''emploi'!$B$5:$B$87)*('Statut d''emploi'!$H$5:$H$87))='EntenteJuil2019 (avec boni)'!$G$11:$G$114)*('EntenteJuil2019 (avec boni)'!CN$11:CN$114)),SUMPRODUCT(('Critères de recherche'!$C$10='EntenteJuil2019 (avec boni)'!$E$11:$E$114)*(SUMPRODUCT(('Impact intégration du boni'!K43='Statut d''emploi'!$B$5:$B$87)*('Statut d''emploi'!$H$5:$H$87))='EntenteJuil2019 (avec boni)'!$G$11:$G$114)*('EntenteJuil2019 (avec boni)'!Q$11:Q$114))),0) -> #VALUE! | L46: =IF(L44="Salarié",IF('Critères de recherche'!$N13>0.01,SUMPRODUCT(('Critères de recherche'!$C$10='EntenteJuil2019 (avec boni)'!$E$11:$E$114)*(SUMPRODUCT(('Impact intégration du boni'!L43='Statut d''emploi'!$B$5:$B$87)*('Statut d''emploi'!$H$5:$H$87))='EntenteJuil2019 (avec boni)'!$G$11:$G$114)*('EntenteJuil2019 (avec boni)'!CO$11:CO$114)),SUMPRODUCT(('Critères de recherche'!$C$10='EntenteJuil2019 (avec boni)'!$E$11:$E$114)*(SUMPRODUCT(('Impact intégration du boni'!L43='Statut d''emploi'!$B$5:$B$87)*('Statut d''emploi'!$H$5:$H$87))='EntenteJuil2019 (avec boni)'!$G$11:$G$114)*('EntenteJuil2019 (avec boni)'!R$11:R$114))),0) -> #VALUE! | M46: =IF(M44="Salarié",IF('Critères de recherche'!$N13>0.01,SUMPRODUCT(('Critères de recherche'!$C$10='EntenteJuil2019 (avec boni)'!$E$11:$E$114)*(SUMPRODUCT(('Impact intégration du boni'!M43='Statut d''emploi'!$B$5:$B$87)*('Statut d''emploi'!$H$5:$H$87))='EntenteJuil2019 (avec boni)'!$G$11:$G$114)*('EntenteJuil2019 (avec boni)'!CP$11:CP$114)),SUMPRODUCT(('Critères de recherche'!$C$10='EntenteJuil2019 (avec boni)'!$E$11:$E$114)*(SUMPRODUCT(('Impact intégration du boni'!M43='Statut d''emploi'!$B$5:$B$87)*('Statut d''emploi'!$H$5:$H$87))='EntenteJuil2019 (avec boni)'!$G$11:$G$114)*('EntenteJuil2019 (avec boni)'!S$11:S$114))),0) -> #VALUE! | N46: =IF(N44="Salarié",SUMPRODUCT(('Critères de recherche'!$C$10='EntenteJuil2019 (avec boni)'!$E$11:$E$114)*(SUMPRODUCT(('Impact intégration du boni'!N43='Statut d''emploi'!$B$5:$B$87)*('Statut d''emploi'!$H$5:$H$87))='EntenteJuil2019 (avec boni)'!$G$11:$G$114)*('EntenteJuil2019 (avec boni)'!T$11:T$114)),0) -> #VALUE! | O46: =IF(O44="Salarié",SUMPRODUCT(('Critères de recherche'!$C$10='EntenteJuil2019 (avec boni)'!$E$11:$E$114)*(SUMPRODUCT(('Impact intégration du boni'!O43='Statut d''emploi'!$B$5:$B$87)*('Statut d''emploi'!$H$5:$H$87))='EntenteJuil2019 (avec boni)'!$G$11:$G$114)*('EntenteJuil2019 (avec boni)'!U$11:U$114)),0) -> #VALUE! | P46: =IF(P44="Salarié",SUMPRODUCT(('Critères de recherche'!$C$10='EntenteJuil2019 (avec boni)'!$E$11:$E$114)*(SUMPRODUCT(('Impact intégration du boni'!P43='Statut d''emploi'!$B$5:$B$87)*('Statut d''emploi'!$H$5:$H$87))='EntenteJuil2019 (avec boni)'!$G$11:$G$114)*('EntenteJuil2019 (avec boni)'!V$11:V$114)),0) -> #VALUE! | Q46: =IF(Q44="Salarié",SUMPRODUCT(('Critères de recherche'!$C$10='EntenteJuil2019 (avec boni)'!$E$11:$E$114)*(SUMPRODUCT(('Impact intégration du boni'!Q43='Statut d''emploi'!$B$5:$B$87)*('Statut d''emploi'!$H$5:$H$87))='EntenteJuil2019 (avec boni)'!$G$11:$G$114)*('EntenteJuil2019 (avec boni)'!W$11:W$114)),0) -> #VALUE! | R46: =IF(R44="Salarié",SUMPRODUCT(('Critères de recherche'!$C$10='EntenteJuil2019 (avec boni)'!$E$11:$E$114)*(SUMPRODUCT(('Impact intégration du boni'!R43='Statut d''emploi'!$B$5:$B$87)*('Statut d''emploi'!$H$5:$H$87))='EntenteJuil2019 (avec boni)'!$G$11:$G$114)*('EntenteJuil2019 (avec boni)'!X$11:X$114)),0) -> #VALUE! | S46: =IF(S44="Salarié",SUMPRODUCT(('Critères de recherche'!$C$10='EntenteJuil2019 (avec boni)'!$E$11:$E$114)*(SUMPRODUCT(('Impact intégration du boni'!S43='Statut d''emploi'!$B$5:$B$87)*('Statut d''emploi'!$H$5:$H$87))='EntenteJuil2019 (avec boni)'!$G$11:$G$114)*('EntenteJuil2019 (avec boni)'!Y$11:Y$114)),0) -> #VALUE! | T46: =IF(T44="Salarié",SUMPRODUCT(('Critères de recherche'!$C$10='EntenteJuil2019 (avec boni)'!$E$11:$E$114)*(SUMPRODUCT(('Impact intégration du boni'!T43='Statut d''emploi'!$B$5:$B$87)*('Statut d''emploi'!$H$5:$H$87))='EntenteJuil2019 (avec boni)'!$G$11:$G$114)*('EntenteJuil2019 (avec boni)'!Z$11:Z$114)),0) -> #VALUE! | U46: =IF(U44="Salarié",SUMPRODUCT(('Critères de recherche'!$C$10='EntenteJuil2019 (avec boni)'!$E$11:$E$114)*(SUMPRODUCT(('Impact intégration du boni'!U43='Statut d''emploi'!$B$5:$B$87)*('Statut d''emploi'!$H$5:$H$87))='EntenteJuil2019 (avec boni)'!$G$11:$G$114)*('EntenteJuil2019 (avec boni)'!AA$11:AA$114)),0) -> #VALUE! | ... CF46: =IF(CF44="Salarié",SUMPRODUCT(('Critères de recherche'!$C$10='EntenteJuil2019 (avec boni)'!$E$11:$E$114)*(SUMPRODUCT(('Impact intégration du boni'!CF43='Statut d''emploi'!$B$5:$B$87)*('Statut d''emploi'!$H$5:$H$87))='EntenteJuil2019 (avec boni)'!$G$11:$G$114)*('EntenteJuil2019 (avec boni)'!CL$11:CL$114)),0) -> #VALUE!
B47: Bonification | C47: =IF(C44="Salarié",IF(C37<>"",C46*C37,0),0) -> 0 | D47: =IF(D44="Salarié",IF(D37<>"",D46*D37,0),0) -> 0 | E47: =IF(E44="Salarié",IF(E37<>"",E46*E37,0),0) -> 0 | F47: =IF(F44="Salarié",IF(F37<>"",F46*F37,0),0) -> 0 | G47: =IF(G44="Salarié",IF(G37<>"",G46*G37,0),0) -> 0 | H47: =IF(H44="Salarié",IF(H37<>"",H46*H37,0),0) -> #VALUE! | I47: =IF(I44="Salarié",IF(I37<>"",I46*I37,0),0) -> #VALUE! | J47: =IF(J44="Salarié",IF(J37<>"",J46*J37,0),0) -> #VALUE! | ... CF47: =IF(CF44="Salarié",IF(CF37<>"",CF46*CF37,0),0) -> #VALUE!
B48: Gain retraite | C48: =IF(C44="Retraité",IF(B48=0,$D$70,B48*(1+C38)),0) -> 0 | D48: =IF(D44="Retraité",IF(C48=0,$D$70,C48*(1+D38)),0) -> 0 | E48: =IF(E44="Retraité",IF(D48=0,$D$70,D48*(1+E38)),0) -> 0 | F48: =IF(F44="Retraité",IF(E48=0,$D$70,E48*(1+F38)),0) -> 0 | G48: =IF(G44="Retraité",IF(F48=0,$D$70,F48*(1+G38)),0) -> 0 | H48: =IF(H44="Retraité",IF(G48=0,$D$70,G48*(1+H38)),0) -> #VALUE! | I48: =IF(I44="Retraité",IF(H48=0,$D$70,H48*(1+I38)),0) -> #VALUE! | J48: =IF(J44="Retraité",IF(I48=0,$D$70,I48*(1+J38)),0) -> #VALUE! | ... CF48: =IF(CF44="Retraité",IF(CE48=0,$D$70,CE48*(1+CF38)),0) -> #VALUE!
B49: Total | C49: =SUM(C46:C48) -> 0 | D49: =SUM(D46:D48) -> 0 | E49: =SUM(E46:E48) -> 0 | F49: =SUM(F46:F48) -> 0 | G49: =SUM(G46:G48) -> 0 | H49: =SUM(H46:H48) -> #VALUE! | I49: =SUM(I46:I48) -> #VALUE! | J49: =SUM(J46:J48) -> #VALUE! | ... CF49: =SUM(CF46:CF48) -> #VALUE!
B53: Comparaisons | G53: Valeur des compteurs actuels (à la retraite) | N53: Valeur des 3 jours maladie vs compte santé et ass. ICD
C55: Entente de principe (SANS intégration)- Juillet 2019 | D55: Entente de principe (AVEC intégration)- Juillet 2019 | E55: Différence | J55: Entente de principe (SANS intégration)- Juillet 2019 | K55: Entente de principe (AVEC intégration)- Juillet 2019 | L55: Différence | Q55: Entente de principe (SANS intégration)- Juillet 2019 | R55: Entente de principe (AVEC intégration)- Juillet 2019 | S55: Différence
B56: Gains futurs - Carrière | G56: Nombre de vacances accumulées (hrs)* | J56: =IF('Critères de recherche'!T10>0,MAX($G$26:$CF$26)/1826.3*'Critères de recherche'!T10,0) -> 0 | K56: =IF('Critères de recherche'!T10>0,MAX($G$46:$CF$46)/1826.3*'Critères de recherche'!T10,0) -> 0 | L56: =K56-J56 -> 0 | N56: Valeur future 3 jours maladie | Q56: =IFERROR(SUM(H26:CF26)/('Critères de recherche'!I11*1826.3)*7*'Critères de recherche'!I11*3,0) -> 0 | S56: =R56-Q56 -> 0
B57: Salaire total | C57: =SUM(H26:CF26) -> #VALUE! | D57: =SUM(H46:CF46) -> #VALUE! | E57: =D57-C57 -> #VALUE! | G57: Nombre de fériés accumulées (hrs) | J57: =IF('Critères de recherche'!T11>0,MAX($G$26:$CF$26)/1826.3*'Critères de recherche'!T11,0) -> 0 | K57: =IF('Critères de recherche'!T11>0,MAX($G$46:$CF$46)/1826.3*'Critères de recherche'!T11,0) -> 0 | L57: =K57-J57 -> 0 | N57: Valeur compte santé (450 $ par année) | R57: ='Critères de recherche'!I11*450 -> #VALUE! | S57: =R57-Q57 -> #VALUE!
B58: Bonification | C58: =SUM(H27:CF27) -> #VALUE! | D58: =SUM(H47:CF47) -> #VALUE! | E58: =D58-C58 -> #VALUE! | G58: Nombre d'heures supplémentaires (hrs) | J58: =IF('Critères de recherche'!T12>0,MAX($G$26:$CF$26)/1826.3*'Critères de recherche'!T12,0) -> 0 | K58: =IF('Critères de recherche'!T12>0,MAX($G$46:$CF$46)/1826.3*'Critères de recherche'!T12,0) -> 0 | L58: =K58-J58 -> 0 | N58: Coût assurance-salaire payé par l'employeur | R58: =0.00625819682953235*SUM(H46:CF46)/2 -> #VALUE! | S58: =R58-Q58 -> #VALUE!
B59: Rémunération totale future | C59: =C57+C58 -> #VALUE! | D59: =SUM(D57:D58) -> #VALUE! | E59: =D59-C59 -> #VALUE! | G59: Compteur maladies (hrs) | J59: =IF('Critères de recherche'!T13>0,MAX($G$26:$CF$26)/1826.3*'Critères de recherche'!T13,0) -> 0 | K59: =IF('Critères de recherche'!T13>0,MAX($G$46:$CF$46)/1826.3*'Critères de recherche'!T13,0) -> 0 | L59: =K59-J59 -> 0 | N59: Valeur totale | Q59: =SUM(Q56:Q58) -> 0 | R59: =SUM(R56:R58) -> #VALUE! | S59: =R59-Q59 -> #VALUE!
...

Sheet EntenteJuil2019 (avec boni)
F1: ÉCHELLES DE TRAITEMENT CONVENTION 2019-2025 (Entente de principe - Juillet 2019)
E3: Paramètres d'augmentation
E4: Augmentation salariale | N4: 0.0175 | O4: 0 | P4: 0.01 | Q4: 0.015 | R4: 0.0175 | S4: 0.02 | T4: 0.02 | U4: 0.02 | V4: 0.02 | W4: 0.02 | X4: 0.02 | Y4: 0.02 | Z4: 0.02 | AA4: 0.02 | AB4: 0.02 | AC4: 0.02 | AD4: 0.02 | AE4: 0.02 | AF4: 0.02 | AG4: 0.02 | AH4: 0.02 | AI4: 0.02 | AJ4: 0.02 | AK4: 0.02 | AL4: 0.02 | AM4: 0.02 | AN4: 0.02 | AO4: 0.02 | AP4: 0.02 | AQ4: 0.02 | AR4: 0.02 | AS4: 0.02 | AT4: 0.02 | AU4: 0.02 | AV4: 0.02 | AW4: 0.02 | AX4: 0.02 | AY4: 0.02 | AZ4: 0.02 | BA4: 0.02 | BB4: 0.02 | BC4: 0.02 | BD4: 0.02 | BE4: 0.02 | BF4: 0.02 | BG4: 0.02 | BH4: 0.02 | BI4: 0.02 | BJ4: 0.02 | BK4: 0.02 | BL4: 0.02 | BM4: 0.02 | BN4: 0.02 | BO4: 0.02 | BP4: 0.02 | BQ4: 0.02 | BR4: 0.02 | BS4: 0.02 | BT4: 0.02 | BU4: 0.02 | BV4: 0.02 | BW4: 0.02 | BX4: 0.02 | BY4: 0.02 | BZ4: 0.02 | CA4: 0.02 | CB4: 0.02 | CC4: 0.02 | CD4: 0.02 | CE4: 0.02 | CF4: 0.02 | CG4: 0.02 | CH4: 0.02 | CI4: 0.02 | CJ4: 0.02 | CK4: 0.02 | CL4: 0.02 | CM4: 0.01 | CN4: 0.015 | CO4: 0.0175 | CP4: 0.02
E5: Clause remorque Fonction publique | P5: =SUMPRODUCT(('Critères de recherche'!$N13='Statut d''emploi'!$J$5:$J$35)*('Statut d''emploi'!$K$5:$K$35)) -> 0 | CM5: =SUMPRODUCT(('Critères de recherche'!$N13='Statut d''emploi'!$J$5:$J$35)*('Statut d''emploi'!$K$5:$K$35)) -> 0
E6: Intégration du boni | N6: 0.0175 | P6: 0.01 | Q6: 0.0075 | CM6: 0.01 | CN6: 0.0075
E7: Boni | N7: 0.015 | O7: 0.015
CM9: Éventualité où la fonction publique a plus de 1% en 2021
E10: Titre | F10: Échelon | G10: Équivalant Échelons 2018 | H10: Nb échelons max | I10: Salaire 2014 | J10: Salaire 2015 | K10: Salaire 2016 | L10: Salaire 2017 | M10: Salaire 2018 | N10: Salaire 2019 | O10: Salaire 2020 | P10: Salaire 2021 | Q10: Salaire 2022 | R10: Salaire 2023 | S10: Salaire 2024 | T10: Salaire 2025 | U10: Salaire 2026 | V10: Salaire 2027 | W10: Salaire 2028 | X10: Salaire 2029 | Y10: Salaire 2030 | Z10: Salaire 2031 | AA10: Salaire 2032 | AB10: Salaire 2033 | AC10: Salaire 2034 | AD10: Salaire 2035 | AE10: Salaire 2036 | AF10: Salaire 2037 | AG10: Salaire 2038 | AH10: Salaire 2039 | AI10: Salaire 2040 | AJ10: Salaire 2041 | AK10: Salaire 2042 | AL10: Salaire 2043 | AM10: Salaire 2044 | AN10: Salaire 2045 | AO10: Salaire 2046 | AP10: Salaire 2047 | AQ10: Salaire 2048 | AR10: Salaire 2049 | AS10: Salaire 2050 | AT10: Salaire 2051 | AU10: Salaire 2052 | AV10: Salaire 2053 | AW10: Salaire 2054 | AX10: Salaire 2055 | AY10: Salaire 2056 | AZ10: Salaire 2057 | BA10: Salaire 2058 | BB10: Salaire 2059 | BC10: Salaire 2060 | BD10: Salaire 2061 | BE10: Salaire 2062 | BF10: Salaire 2063 | BG10: Salaire 2064 | BH10: Salaire 2065 | BI10: Salaire 2066 | BJ10: Salaire 2067 | BK10: Salaire 2068 | BL10: Salaire 2069 | BM10: Salaire 2070 | BN10: Salaire 2071 | BO10: Salaire 2072 | BP10: Salaire 2073 | BQ10: Salaire 2074 | BR10: Salaire 2075 | BS10: Salaire 2076 | BT10: Salaire 2077 | BU10: Salaire 2078 | BV10: Salaire 2079 | BW10: Salaire 2080 | BX10: Salaire 2081 | BY10: Salaire 2082 | BZ10: Salaire 2083 | CA10: Salaire 2084 | CB10: Salaire 2085 | CC10: Salaire 2086 | CD10: Salaire 2087 | CE10: Salaire 2088 | CF10: Salaire 2089 | CG10: Salaire 2090 | CH10: Salaire 2091 | CI10: Salaire 2092 | CJ10: Salaire 2093 | CK10: Salaire 2094 | CL10: Salaire 2095 | CM10: Salaire 2021 | CN10: Salaire 2022 | CO10: Salaire 2023 | CP10: Salaire 2024
E11: AgentDeBureauCL1 | F11: 1 | G11: 1 | H11: 7 | I11: 33568 | J11: 34239 | K11: 34924 | L11: 35622 | M11: 36334 | N11: 37605.69 | O11: 38401 | P11: 39169 | Q11: 40050 | R11: 40751 | S11: 41566 | T11: =IF('Critères de recherche'!$N$13>0.01,CP11*(1+T$4),S11*(1+T$4)) -> 42397.32 | U11: =T11*(1+U$4) -> 43245.266 | V11: =U11*(1+V$4) -> 44110.172 | W11: =V11*(1+W$4) -> 44992.375 | X11: =W11*(1+X$4) -> 45892.223 | Y11: =X11*(1+Y$4) -> 46810.067 | Z11: =Y11*(1+Z$4) -> 47746.268 | AA11: =Z11*(1+AA$4) -> 48701.194 | AB11: =AA11*(1+AB$4) -> 49675.218 | ... CL11: =CK11*(1+CL$4) -> 169570.55 | CM11: =IF('Critères de recherche'!$N$13>0.01,'EntenteJuil2019 (avec boni)'!O11*(1.01+'Critères de recherche'!$N$13),0) -> 0 | CN11: =IF(CM11<>0,CM11*(CN$4+CN$6+1),0) -> 0 | CO11: =IF(CN11<>0,CN11*(CO$4+CO$6+1),0) -> 0 | CP11: =IF(CO11<>0,CO11*(CP$4+CP$6+1),0) -> 0
E12: AgentDeBureauCL1 | F12: 2 | G12: 2 | H12: 7 | I12: 34741 | J12: 35436 | K12: 36145 | L12: 36868 | M12: 37605 | N12: 38921.175 | O12: 39745 | P12: 40540 | Q12: 41452 | R12: 42177 | S12: 43021 | T12: =IF('Critères de recherche'!$N$13>0.01,CP12*(1+T$4),S12*(1+T$4)) -> 43881.42 | U12: =T12*(1+U$4) -> 44759.048 | V12: =U12*(1+V$4) -> 45654.229 | W12: =V12*(1+W$4) -> 46567.314 | X12: =W12*(1+X$4) -> 47498.66 | Y12: =X12*(1+Y$4) -> 48448.633 | Z12: =Y12*(1+Z$4) -> 49417.606 | AA12: =Z12*(1+AA$4) -> 50405.958 | AB12: =AA12*(1+AB$4) -> 51414.077 | ... CL12: =CK12*(1+CL$4) -> 175506.29 | CM12: =IF('Critères de recherche'!$N$13>0.01,'EntenteJuil2019 (avec boni)'!O12*(1.01+'Critères de recherche'!$N$13),0) -> 0 | CN12: =IF(CM12<>0,CM12*(CN$4+CN$6+1),0) -> 0 | CO12: =IF(CN12<>0,CN12*(CO$4+CO$6+1),0) -> 0 | CP12: =IF(CO12<>0,CO12*(CP$4+CP$6+1),0) -> 0
E13: AgentDeBureauCL1 | F13: 3 | G13: 3 | H13: 7 | I13: 35953 | J13: 36672 | K13: 37405 | L13: 38153 | M13: 38916 | N13: 40278.06 | O13: 41136 | P13: 41959 | Q13: 42903 | R13: 43654 | S13: 44527 | T13: =IF('Critères de recherche'!$N$13>0.01,CP13*(1+T$4),S13*(1+T$4)) -> 45417.54 | U13: =T13*(1+U$4) -> 46325.891 | V13: =U13*(1+V$4) -> 47252.409 | W13: =V13*(1+W$4) -> 48197.457 | X13: =W13*(1+X$4) -> 49161.406 | Y13: =X13*(1+Y$4) -> 50144.634 | Z13: =Y13*(1+Z$4) -> 51147.527 | AA13: =Z13*(1+AA$4) -> 52170.477 | AB13: =AA13*(1+AB$4) -> 53213.887 | ... CL13: =CK13*(1+CL$4) -> 181650.1 | CM13: =IF('Critères de recherche'!$N$13>0.01,'EntenteJuil2019 (avec boni)'!O13*(1.01+'Critères de recherche'!$N$13),0) -> 0 | CN13: =IF(CM13<>0,CM13*(CN$4+CN$6+1),0) -> 0 | CO13: =IF(CN13<>0,CN13*(CO$4+CO$6+1),0) -> 0 | CP13: =IF(CO13<>0,CO13*(CP$4+CP$6+1),0) -> 0
E14: AgentDeBureauCL1 | F14: 4 | G14: 4 | H14: 7 | I14: 37182 | J14: 37926 | K14: 38685 | L14: 39459 | M14: 40248 | N14: 41656.68 | O14: 42576 | P14: 43428 | Q14: 44405 | R14: 45182 | S14: 46086 | T14: =IF('Critères de recherche'!$N$13>0.01,CP14*(1+T$4),S14*(1+T$4)) -> 47007.72 | U14: =T14*(1+U$4) -> 47947.874 | V14: =U14*(1+V$4) -> 48906.832 | W14: =V14*(1+W$4) -> 49884.969 | X14: =W14*(1+X$4) -> 50882.668 | Y14: =X14*(1+Y$4) -> 51900.321 | Z14: =Y14*(1+Z$4) -> 52938.328 | AA14: =Z14*(1+AA$4) -> 53997.094 | AB14: =AA14*(1+AB$4) -> 55077.036 | ... CL14: =CK14*(1+CL$4) -> 188010.11 | CM14: =IF('Critères de recherche'!$N$13>0.01,'EntenteJuil2019 (avec boni)'!O14*(1.01+'Critères de recherche'!$N$13),0) -> 0 | CN14: =IF(CM14<>0,CM14*(CN$4+CN$6+1),0) -> 0 | CO14: =IF(CN14<>0,CN14*(CO$4+CO$6+1),0) -> 0 | CP14: =IF(CO14<>0,CO14*(CP$4+CP$6+1),0) -> 0
E15: AgentDeBureauCL1 | F15: 5 | G15: 5 | H15: 7 | I15: 38411 | J15: 39179 | K15: 39963 | L15: 40762 | M15: 41577 | N15: 43032.195 | O15: 44066 | P15: 44947 | Q15: 45958 | R15: 46762 | S15: 47697 | T15: =IF('Critères de recherche'!$N$13>0.01,CP15*(1+T$4),S15*(1+T$4)) -> 48650.94 | U15: =T15*(1+U$4) -> 49623.959 | V15: =U15*(1+V$4) -> 50616.438 | W15: =V15*(1+W$4) -> 51628.767 | X15: =W15*(1+X$4) -> 52661.342 | Y15: =X15*(1+Y$4) -> 53714.569 | Z15: =Y15*(1+Z$4) -> 54788.86 | AA15: =Z15*(1+AA$4) -> 55884.637 | AB15: =AA15*(1+AB$4) -> 57002.33 | ... CL15: =CK15*(1+CL$4) -> 194582.27 | CM15: =IF('Critères de recherche'!$N$13>0.01,'EntenteJuil2019 (avec boni)'!O15*(1.01+'Critères de recherche'!$N$13),0) -> 0 | CN15: =IF(CM15<>0,CM15*(CN$4+CN$6+1),0) -> 0 | CO15: =IF(CN15<>0,CN15*(CO$4+CO$6+1),0) -> 0 | CP15: =IF(CO15<>0,CO15*(CP$4+CP$6+1),0) -> 0
E16: AgentDeBureauCL1 | F16: 6 | G16: 6 | H16: 7 | I16: 39752 | J16: 40547 | K16: 41358 | L16: 42185 | M16: 43029 | N16: 44535.015 | O16: 45608 | P16: 46520 | Q16: 47567 | R16: 48399 | S16: 49367 | T16: =IF('Critères de recherche'!$N$13>0.01,CP16*(1+T$4),S16*(1+T$4)) -> 50354.34 | U16: =T16*(1+U$4) -> 51361.427 | V16: =U16*(1+V$4) -> 52388.655 | W16: =V16*(1+W$4) -> 53436.428 | X16: =W16*(1+X$4) -> 54505.157 | Y16: =X16*(1+Y$4) -> 55595.26 | Z16: =Y16*(1+Z$4) -> 56707.165 | AA16: =Z16*(1+AA$4) -> 57841.309 | AB16: =AA16*(1+AB$4) -> 58998.135 | ... CL16: =CK16*(1+CL$4) -> 201395.11 | CM16: =IF('Critères de recherche'!$N$13>0.01,'EntenteJuil2019 (avec boni)'!O16*(1.01+'Critères de recherche'!$N$13),0) -> 0 | CN16: =IF(CM16<>0,CM16*(CN$4+CN$6+1),0) -> 0 | CO16: =IF(CN16<>0,CN16*(CO$4+CO$6+1),0) -> 0 | CP16: =IF(CO16<>0,CO16*(CP$4+CP$6+1),0) -> 0
E17: AgentDeBureauCL1 | F17: 7 | G17: 7 | H17: 7 | I17: 41112 | J17: 41934 | K17: 42773 | L17: 43628 | M17: 44501 | N17: 46058.535 | O17: 47441 | P17: 48390 | Q17: 49479 | R17: 50345 | S17: 51352 | T17: =IF('Critères de recherche'!$N$13>0.01,CP17*(1+T$4),S17*(1+T$4)) -> 52379.04 | U17: =T17*(1+U$4) -> 53426.621 | V17: =U17*(1+V$4) -> 54495.153 | W17: =V17*(1+W$4) -> 55585.056 | X17: =W17*(1+X$4) -> 56696.757 | Y17: =X17*(1+Y$4) -> 57830.693 | Z17: =Y17*(1+Z$4) -> 58987.306 | AA17: =Z17*(1+AA$4) -> 60167.053 | AB17: =AA17*(1+AB$4) -> 61370.394 | ... CL17: =CK17*(1+CL$4) -> 209493.02 | CM17: =IF('Critères de recherche'!$N$13>0.01,'EntenteJuil2019 (avec boni)'!O17*(1.01+'Critères de recherche'!$N$13),0) -> 0 | CN17: =IF(CM17<>0,CM17*(CN$4+CN$6+1),0) -> 0 | CO17: =IF(CN17<>0,CN17*(CO$4+CO$6+1),0) -> 0 | CP17: =IF(CO17<>0,CO17*(CP$4+CP$6+1),0) -> 0
E18: AgentDeBureauCP | F18: 1 | G18: 0 | H18: 6 | N18: 0 | O18: 50805 | P18: 51821 | Q18: 52987 | R18: 53914 | S18: 54992 | T18: =IF('Critères de recherche'!$N$13>0.01,CP18*(1+T$4),S18*(1+T$4)) -> 56091.84 | U18: =T18*(1+U$4) -> 57213.677 | V18: =U18*(1+V$4) -> 58357.95 | W18: =V18*(1+W$4) -> 59525.109 | X18: =W18*(1+X$4) -> 60715.612 | Y18: =X18*(1+Y$4) -> 61929.924 | Z18: =Y18*(1+Z$4) -> 63168.522 | AA18: =Z18*(1+AA$4) -> 64431.893 | AB18: =AA18*(1+AB$4) -> 65720.531 | ... CL18: =CK18*(1+CL$4) -> 224342.58 | CM18: =IF('Critères de recherche'!$N$13>0.01,'EntenteJuil2019 (avec boni)'!O18*(1.01+'Critères de recherche'!$N$13),0) -> 0 | CN18: =IF(CM18<>0,CM18*(CN$4+CN$6+1),0) -> 0 | CO18: =IF(CN18<>0,CN18*(CO$4+CO$6+1),0) -> 0 | CP18: =IF(CO18<>0,CO18*(CP$4+CP$6+1),0) -> 0
E19: AgentDeBureauCP | F19: 2 | G19: 1 | H19: 6 | I19: 44018 | J19: 44898 | K19: 48381 | L19: 49349 | M19: 50336 | N19: 52097.76 | O19: 52583 | P19: 53635 | Q19: 54842 | R19: 55802 | S19: 56918 | T19: =IF('Critères de recherche'!$N$13>0.01,CP19*(1+T$4),S19*(1+T$4)) -> 58056.36 | U19: =T19*(1+U$4) -> 59217.487 | V19: =U19*(1+V$4) -> 60401.837 | W19: =V19*(1+W$4) -> 61609.874 | X19: =W19*(1+X$4) -> 62842.071 | Y19: =X19*(1+Y$4) -> 64098.913 | Z19: =Y19*(1+Z$4) -> 65380.891 | AA19: =Z19*(1+AA$4) -> 66688.509 | AB19: =AA19*(1+AB$4) -> 68022.279 | ... CL19: =CK19*(1+CL$4) -> 232199.79 | CM19: =IF('Critères de recherche'!$N$13>0.01,'EntenteJuil2019 (avec boni)'!O19*(1.01+'Critères de recherche'!$N$13),0) -> 0 | CN19: =IF(CM19<>0,CM19*(CN$4+CN$6+1),0) -> 0 | CO19: =IF(CN19<>0,CN19*(CO$4+CO$6+1),0) -> 0 | CP19: =IF(CO19<>0,CO19*(CP$4+CP$6+1),0) -> 0
E20: AgentDeBureauCP | F20: 3 | G20: 2 | H20: 6 | I20: 45453 | J20: 46362 | K20: 49935 | L20: 50934 | M20: 51953 | N20: 53771.355 | O20: 54423 | P20: 55511 | Q20: 56760 | R20: 57753 | S20: 58908 | T20: =IF('Critères de recherche'!$N$13>0.01,CP20*(1+T$4),S20*(1+T$4)) -> 60086.16 | U20: =T20*(1+U$4) -> 61287.883 | V20: =U20*(1+V$4) -> 62513.641 | W20: =V20*(1+W$4) -> 63763.914 | X20: =W20*(1+X$4) -> 65039.192 | Y20: =X20*(1+Y$4) -> 66339.976 | Z20: =Y20*(1+Z$4) -> 67666.775 | AA20: =Z20*(1+AA$4) -> 69020.111 | AB20: =AA20*(1+AB$4) -> 70400.513 | ... CL20: =CK20*(1+CL$4) -> 240318.1 | CM20: =IF('Critères de recherche'!$N$13>0.01,'EntenteJuil2019 (avec boni)'!O20*(1.01+'Critères de recherche'!$N$13),0) -> 0 | CN20: =IF(CM20<>0,CM20*(CN$4+CN$6+1),0) -> 0 | CO20: =IF(CN20<>0,CN20*(CO$4+CO$6+1),0) -> 0 | CP20: =IF(CO20<>0,CO20*(CP$4+CP$6+1),0) -> 0
E21: AgentDeBureauCP | F21: 4 | G21: 3 | H21: 6 | I21: 46962 | J21: 47901 | K21: 51617 | L21: 52649 | M21: 53702 | N21: 55581.57 | O21: 56329 | P21: 57456 | Q21: 58749 | R21: 59777 | S21: 60973 | T21: =IF('Critères de recherche'!$N$13>0.01,CP21*(1+T$4),S21*(1+T$4)) -> 62192.46 | U21: =T21*(1+U$4) -> 63436.309 | V21: =U21*(1+V$4) -> 64705.035 | W21: =V21*(1+W$4) -> 65999.136 | X21: =W21*(1+X$4) -> 67319.119 | Y21: =X21*(1+Y$4) -> 68665.501 | Z21: =Y21*(1+Z$4) -> 70038.811 | AA21: =Z21*(1+AA$4) -> 71439.587 | AB21: =AA21*(1+AB$4) -> 72868.379 | ... CL21: =CK21*(1+CL$4) -> 248742.36 | CM21: =IF('Critères de recherche'!$N$13>0.01,'EntenteJuil2019 (avec boni)'!O21*(1.01+'Critères de recherche'!$N$13),0) -> 0 | CN21: =IF(CM21<>0,CM21*(CN$4+CN$6+1),0) -> 0 | CO21: =IF(CN21<>0,CN21*(CO$4+CO$6+1),0) -> 0 | CP21: =IF(CO21<>0,CO21*(CP$4+CP$6+1),0) -> 0
E22: AgentDeBureauCP | F22: 5 | G22: 4 | H22: 6 | I22: 48415 | J22: 49383 | K22: 53194 | L22: 54258 | M22: 55343 | N22: 57280.005 | O22: 58300 | P22: 59466 | Q22: 60804 | R22: 61868 | S22: 63105 | T22: =IF('Critères de recherche'!$N$13>0.01,CP22*(1+T$4),S22*(1+T$4)) -> 64367.1 | U22: =T22*(1+U$4) -> 65654.442 | V22: =U22*(1+V$4) -> 66967.531 | W22: =V22*(1+W$4) -> 68306.881 | X22: =W22*(1+X$4) -> 69673.019 | Y22: =X22*(1+Y$4) -> 71066.479 | Z22: =Y22*(1+Z$4) -> 72487.809 | AA22: =Z22*(1+AA$4) -> 73937.565 | AB22: =AA22*(1+AB$4) -> 75416.317 | ... CL22: =CK22*(1+CL$4) -> 257439.96 | CM22: =IF('Critères de recherche'!$N$13>0.01,'EntenteJuil2019 (avec boni)'!O22*(1.01+'Critères de recherche'!$N$13),0) -> 0 | CN22: =IF(CM22<>0,CM22*(CN$4+CN$6+1),0) -> 0 | CO22: =IF(CN22<>0,CN22*(CO$4+CO$6+1),0) -> 0 | CP22: =IF(CO22<>0,CO22*(CP$4+CP$6+1),0) -> 0
E23: AgentDeBureauCP | F23: 6 | G23: 5 | H23: 6 | I23: 49756 | J23: 50751 | K23: 54676 | L23: 55770 | M23: 56885 | N23: 58875.975 | O23: 60642 | P23: 61855 | Q23: 63247 | R23: 64354 | S23: 65641 | T23: =IF('Critères de recherche'!$N$13>0.01,CP23*(1+T$4),S23*(1+T$4)) -> 66953.82 | U23: =T23*(1+U$4) -> 68292.896 | V23: =U23*(1+V$4) -> 69658.754 | W23: =V23*(1+W$4) -> 71051.929 | X23: =W23*(1+X$4) -> 72472.968 | Y23: =X23*(1+Y$4) -> 73922.427 | Z23: =Y23*(1+Z$4) -> 75400.876 | AA23: =Z23*(1+AA$4) -> 76908.893 | AB23: =AA23*(1+AB$4) -> 78447.071 | ... CL23: =CK23*(1+CL$4) -> 267785.7 | CM23: =IF('Critères de recherche'!$N$13>0.01,'EntenteJuil2019 (avec boni)'!O23*(1.01+'Critères de recherche'!$N$13),0) -> 0 | CN23: =IF(CM23<>0,CM23*(CN$4+CN$6+1),0) -> 0 | CO23: =IF(CN23<>0,CN23*(CO$4+CO$6+1),0) -> 0 | CP23: =IF(CO23<>0,CO23*(CP$4+CP$6+1),0) -> 0
E24: SecrétaireCL1 | F24: 1 | G24: 1 | H24: 3 | I24: 42547 | J24: 43398 | K24: 44691 | L24: 45585 | M24: 46497 | N24: 48124.395 | O24: 48967 | P24: 49946 | Q24: 51070 | R24: 51964 | S24: 53003 | T24: =IF('Critères de recherche'!$N$13>0.01,CP24*(1+T$4),S24*(1+T$4)) -> 54063.06 | U24: =T24*(1+U$4) -> 55144.321 | V24: =U24*(1+V$4) -> 56247.208 | W24: =V24*(1+W$4) -> 57372.152 | X24: =W24*(1+X$4) -> 58519.595 | Y24: =X24*(1+Y$4) -> 59689.987 | Z24: =Y24*(1+Z$4) -> 60883.786 | AA24: =Z24*(1+AA$4) -> 62101.462 | AB24: =AA24*(1+AB$4) -> 63343.491 | ... CL24: =CK24*(1+CL$4) -> 216228.36 | CM24: =IF('Critères de recherche'!$N$13>0.01,'EntenteJuil2019 (avec boni)'!O24*(1.01+'Critères de recherche'!$N$13),0) -> 0 | CN24: =IF(CM24<>0,CM24*(CN$4+CN$6+1),0) -> 0 | CO24: =IF(CN24<>0,CN24*(CO$4+CO$6+1),0) -> 0 | CP24: =IF(CO24<>0,CO24*(CP$4+CP$6+1),0) -> 0
E25: SecrétaireCL1 | F25: 2 | G25: 2 | H25: 3 | I25: 43832 | J25: 44709 | K25: 46055 | L25: 49976 | M25: 47916 | N25: 49593.06 | O25: 50681 | P25: 51695 | Q25: 52858 | R25: 53783 | S25: 54859 | T25: =IF('Critères de recherche'!$N$13>0.01,CP25*(1+T$4),S25*(1+T$4)) -> 55956.18 | U25: =T25*(1+U$4) -> 57075.304 | V25: =U25*(1+V$4) -> 58216.81 | W25: =V25*(1+W$4) -> 59381.146 | X25: =W25*(1+X$4) -> 60568.769 | Y25: =X25*(1+Y$4) -> 61780.144 | Z25: =Y25*(1+Z$4) -> 63015.747 | AA25: =Z25*(1+AA$4) -> 64276.062 | AB25: =AA25*(1+AB$4) -> 65561.583 | ... CL25: =CK25*(1+CL$4) -> 223800 | CM25: =IF('Critères de recherche'!$N$13>0.01,'EntenteJuil2019 (avec boni)'!O25*(1.01+'Critères de recherche'!$N$13),0) -> 0 | CN25: =IF(CM25<>0,CM25*(CN$4+CN$6+1),0) -> 0 | CO25: =IF(CN25<>0,CN25*(CO$4+CO$6+1),0) -> 0 | CP25: =IF(CO25<>0,CO25*(CP$4+CP$6+1),0) -> 0
